Workbook

Sheet Guidance
B1: #VALUE!
B2: Working with People with Long Term Conditions Mapping Template
B3: Edition: V2.1
B4: Publication date: 6th December 2024
B6: Mapping Guidance - you are here!
B7: Mapping template to reference and evidence where the professional standard is being met by the course/ participant/ qualification
B8: N.B. Examples (e.g.) are given within the LDRs to provide an overview of the knowledge and skills most relevant to the role. It is not mandatory to assess learners against 100% of the examples provided, however, sufficient coverage to ensure occupational competence on achievement must be ensured. This will be reviewed as part of the CIMSPA endorsement process.
B9: For non-regulated qualifications (CPD), where an Education Partner does not meet the full CIMSPA professional standard, it is important to note, that the Education Partner must meet a full Knowledge or Skill LDR. For example, all three sections within K1.1 would need to evidenced for that LDR to partially map to the professional standard.
B10: For further information around product development guidance, please refer to the professional standard within the professional standard library; https://www.cimspa.co.uk/education-training/professional-standards/professional-standards-library/
B11: Alternatively, please view our CIMPSA Partner Endorsement Guide;https://cimspa.co.uk/education-training/endorsement/
B13: Revision History
B14: Version | C14: Name & Role | D14: Signature & Date | E14: Reason for Change
A15: c | B15: V2.1 | C15: Aidan Riley Education Officer | D15: AR 05/12/24 | E15: Update to general formatting & implementation of conditional formating to streamline moderator feedback.
B19: E endorsements@cimspa.co.uk T 03438 360200 W www.cimspa.co.uk
B20: Chartered Institute for the Management of Sport and Physical Activity,
B21: SportPark Loughborough University, 3 Oakwood Drive, Loughborough, Leicestershire LE11 3QF
B22: Incorporated by Royal Charter Charity Registration No. 1144545

Sheet Mapping template
E1: Education Product Title: INSERT HERE
A2: Professional Standard: Working with People with Long Term Conditions | E2: Partner Mapping Section | J2: Moderator Feedback Section | Q2: IV Feedback Section
A3: Topic | B3: Competency | D3: Learning Outcome(s) | E3: Evidence (sign post to SOW / course specification / supporting documents) | F3: Assessment Method | G3: Further Comments (expand on evidence within column E) | H3: Response to Moderator Feedback Section (second review evidence - if applicable) | J3: Score | K3: Mapping to Point | L3: % Mapped to Section | M3: Moderator comments | N3: General Feedback (first review) | O3: General Feedback (second review - if applicable) | Q3: IV Comments
A4: 1. Understanding health context | B4: Ref | C4: Knowledge and Understanding (K&U): | D4: Those working with people with long term conditions must:
B5: K1.1 | C5: Health policy | D5: ­ Relevant UK wide, national and local physical activity health inequalities. | L5: =SUM('Workings out'!B5:B20) -> 0
D6: ­ Health and social care policy for the promotion of physical activity, the prevention of inactivity and sedentary behavior.
D7: ­ Policy relating to the management of long term conditions by use of physical activity.
D8: · Know about local health strategies and needs assessments that influence the development of local services including physical activity and sedentary behaviour.
D9: · Understand the wider determinants of health, their impact on health inequalities and on an individual’s health, and the use of health profiles to understand local demographics.
B10: K1.2 | C10: Evidence | D10: · Understand the latest evidence that supports the improvement of clinical outcomes and enables sustained behaviour change for people at high(er) risk of developing or living with LTCs: e.g. NICE clinical and public health guidelines on physical activity, condition management and behaviour change. | K10: =IF((AND(J10=1,J11=1,J12=1,J13=1)), "Fully Mapped", "Not/ Partially Mapped") -> Not/ Partially Mapped
D11: · Know about research trends and initiatives that are emerging that support behaviour change and increases in physical activity.
D12: · Understand the insight for people with lived experience of an LTC including barriers and motivators for the different medical conditions and for those with comorbidities or multimorbidities examples of organisations that you could talk to include: Macmillan, Richmond Group.
D13: · Know about segmentation tools that can assist in understanding barriers, motivators and preferred types of physical activity: e.g. Sport England market segmentation.
B14: K1.3 | C14: Building local relationships | D14: · Know about UK wide and local health care system structures across primary, secondary and tertiary care, the roles and responsibilities of key organisations and the health, social care and third sector professionals involved. | K14: {=IF((AND(J14:J19=1)), "Fully Mapped", "Not/ Partially Mapped")} -> Not/ Partially Mapped
D15: · Understand the importance of engaging and maintaining strong relationships with key stakeholders including commissioners, senior managers, community providers, service users and their carers and how this informs service development of a local physical activity programme.
D16: · Know about key national and local care pathways that will link to the provision of local physical activity services including:
D17: ­ Non-clinical: e.g. integrated lifestyle services, social prescribing, Making Every Contact Count (MECC).
D18: ­ Clinical: e.g. diabetes prevention, NHS health checks, IAPT and weight management and rehabilitation services including: cardiac, cancer, pulmonary, MSK, neurological, falls
D19: · Understand the language used in the health and social care sector.
B20: Ref | C20: Skills: | D20: Those working with people with long term conditions must be able to:
B21: S1.1 | C21: Health context | D21: · Use local health strategies, needs assessments and health profiles to understand the make-up of the local population and target audiences. | K21: =IF((AND(J21=1)), "Fully Mapped", "Not/ Partially Mapped") -> Not/ Partially Mapped | L21: =SUM('Workings out'!C5:C10) -> 0
B22: S1.2 | C22: Evidence | D22: · Find, utilise and interpret the latest evidence and research, as well as critically appraise emerging trends to inform delivery of the physical activity, exercise, education and behaviour change components of the programme: e.g. NICE public health or clinical guidance. | K22: {=IF((AND(J22:J23=1)), "Fully Mapped", "Not/ Partially Mapped")} -> Not/ Partially Mapped
D23: · Apply the latest evidence to ensure that they improve clinical outcomes and enable sustained behaviour change for people at high(er) risk of or living with LTCs taking into account health inequalities.
B24: S1.3 | C24: Building local relationships | D24: · Utilise knowledge of the customer experience and the impact of health inequalities to ensure empathy with, and appropriate signposting for, participants throughout their journey into, through and out of the service. | K24: {=IF((AND(J24:J26=1)), "Fully Mapped", "Not/ Partially Mapped")} -> Not/ Partially Mapped
D25: · Build strong relationships with a range of health professionals (both managers and practitioners) who are working in local primary, secondary or tertiary care services, and the wider workforce including social care, third sector professionals and carers to ensure a smooth customer journey.
D26: · Utilise health knowledge to communicate in a credible manner with health, social care and third sector professionals at different levels working within the health and social care system.
A27: 2. Epidemiology, anatomy and physiology, pathophysiology and pharmacology | B27: Ref | C27: K&U | D27: Those working with people with long term conditions must:
B28: K2.1 | C28: Epidemiology | D28: · Understand the prevalence of inactivity and other lifestyle behaviours by social demographics, disease and predicted trends and the correlation between these behaviours, risk factors, long term conditions and comorbidities or multimorbidities; and the relationship between these and the wider determinants of health. | K28: =IF((AND(J28=1)), "Fully Mapped", "Not/ Partially Mapped") -> Not/ Partially Mapped | L28: =SUM('Workings out'!D5:D26) -> 0
B29: K2.2 | C29: Anatomy and physiology | D29: · Understand the anatomy, physiology and biomechanics of the human body including the cardiorespiratory, musculoskeletal, nervous, endocrine and cognitive systems. | K29: {=IF((AND(J29:J32=1)), "Fully Mapped", "Not/ Partially Mapped")} -> Not/ Partially Mapped
D30: · Understand how ageing, disease and injury affects the anatomy, physiology and biomechanics of the human body including the cardiorespiratory, musculoskeletal, nervous, endocrine and cognitive systems.
D31: · Understand how ageing, injury and disease impact on functional capacity and health outcomes for a range of health conditions.
D32: · Understand the protective effects of physical activity and exercise for both the prevention and management of a range of LTCs, including the physiological, biochemical, anatomical and psychological response to physical activity.
B33: K2.3 | C33: Aetiology (causes) of conditions | D33: · Understand the aetiology of the most prevalent long term conditions and their associated risk factors including the following: | K33: {=IF((AND(I33:J44=1)), "Fully Mapped", "Not/ Partially Mapped")} -> Not/ Partially Mapped
D34: · Understand the aetiology of the most prevalent long term conditions and their associated risk factors including the following:
D35: ­ Diabetes and metabolic conditions: e.g. pre-diabetic, obesity, hyperlipidaemia, hypercholesterolmia, hyperglycaemia, type I and II diabetes, hypo/hyperthyroidism
D36: ­ Circulatory including cardiovascular and respiratory: e.g. cardiovascular disease risk, coronary heart disease, hypertension, peripheral vascular disease, asthma, chronic obstructive pulmonary disease
D37: ­ Musculoskeletal including: osteopaenia, osteoporosis, osteoarthiritis, rheumatoid arthiritis, lower back pain, joint replacement, connective tissue disease, spinal cord injury
D38: ­ Mental health conditions: e.g. anxiety, stress, depression, bipolar, phobias, schizophrenia, eating disorders, substance misuse
D39: ­ Chronic fatigue.
D40: ­ Cancers (all types grouped to: outcomes – 1-2 year survival, 5 year survival, 10 years+ survival; and stages of cancer care - diagnosis, treatment, survivorship, advanced / end of life).
...

Sheet Mapping results
B1: Mapping Breakdown shows a breakdown of the percentage that your course has mapped to each sections knowledge and skills criteria, and the overall percentage that your course has mapped to the professional standard
D2: Sections | E2: Specifications | F2: %worth of each section | G2: Total % covered of area | H2: Section % of total standard | I2: % covered of entire standard
B3: 1 | C3: Knowledge | D3: 3 | E3: 15 | F3: =100/E3 -> 6.6666667 | G3: =SUM('Mapping template'!L5:L19) -> 0 | H3: =(E3/E15)*100 -> 10.135135 | I3: =(H3/100)*G3 -> 0
C4: Skills | D4: 3 | E4: 6 | F4: =100/E4 -> 16.666667 | G4: =SUM('Mapping template'!L21:L26) -> 0 | H4: {=(E4/_xlfn.ANCHORARRAY(E15))*100} -> 4.0540541 | I4: =(H4/100)*G4 -> 0
B5: 2 | C5: Knowledge | D5: 5 | E5: 22 | F5: =100/E5 -> 4.5454545 | G5: =SUM('Mapping template'!L28:L49) -> 0 | H5: =(E5/E15)*100 -> 14.864865 | I5: =(H5/100)*G5 -> 0
C6: Skills | D6: 3 | E6: 6 | F6: =100/E6 -> 16.666667 | G6: =SUM('Mapping template'!L51:L56) -> 0 | H6: =(E6/E15)*100 -> 4.0540541 | I6: =(H6/100)*G6 -> 0
B7: 3 | C7: Knowledge | D7: 5 | E7: 15 | F7: =100/E7 -> 6.6666667 | G7: =SUM('Mapping template'!L58:L72) -> 0 | H7: =(E7/E15)*100 -> 10.135135 | I7: =(H7/100)*G7 -> 0
C8: Skills | D8: 5 | E8: 13 | F8: =100/E8 -> 7.6923077 | G8: =SUM('Mapping template'!L74:L86) -> 0 | H8: =(E8/E15)*100 -> 8.7837838 | I8: =(H8/100)*G8 -> 0
B9: 4 | C9: Knowledge | D9: 3 | E9: 7 | F9: =100/E9 -> 14.285714 | G9: =SUM('Mapping template'!L88:L94) -> 0 | H9: =(E9/E15)*100 -> 4.7297297 | I9: =(H9/100)*G9 -> 0
C10: Skills | D10: 3 | E10: 9 | F10: =100/E10 -> 11.111111 | G10: =SUM('Mapping template'!L96:L104) -> 0 | H10: =(E10/E15)*100 -> 6.0810811 | I10: =(H10/100)*G10 -> 0
B11: 5 | C11: Knowledge | D11: 9 | E11: 23 | F11: =100/E11 -> 4.3478261 | G11: =SUM('Mapping template'!L106:L128) -> 0 | H11: =(E11/E15)*100 -> 15.540541 | I11: =(H11/100)*G11 -> 0
C12: Skills | D12: 7 | E12: 18 | F12: =100/E12 -> 5.5555556 | G12: =SUM('Mapping template'!L130:L147) -> 0 | H12: =(E12/E15)*100 -> 12.162162 | I12: =(H12/100)*G12 -> 0
B13: 6 | C13: Knowledge | D13: 2 | E13: 9 | F13: =100/E13 -> 11.111111 | G13: =SUM('Mapping template'!L149:L157) -> 0 | H13: =(E13/E15)*100 -> 6.0810811 | I13: =(H13/100)*G13 -> 0
C14: Skills | D14: 2 | E14: 5 | F14: =100/E14 -> 20 | G14: =SUM('Mapping template'!L159:L163) -> 0 | H14: =(E14/E15)*100 -> 3.3783784 | I14: =(H14/100)*G14 -> 0
B15: Totals | D15: =SUM(D3:D14) -> 50 | E15: =SUM(E3:E14) -> 148 | H15: =SUM(H3:H14) -> 100 | I15: =SUM(I3:I14) -> 0

Sheet Feedback
A1: Standardised feedback comments | B1: Assessment methods
A2: Comprehensive evidence | B2: Assignment
A3: Sufficient evidence | B3: Case study
A4: Further evidence required | B4: Dissertation
B5: Exam
B6: Written test
B7: Listening test
B8: Oral test
B9: Performance/ practical
B10: Portfolio
B11: Professional discussion
B12: Project
B13: Simulation
B14: Online test
B15: Attendence only
B16: Multiple
B17: Other

Sheet Workings out
A1: Calculating the totally percentage of knowledge/ skill covered in each section
B2: K1 | C2: S1 | D2: K2 | E2: S2 | F2: K3 | G2: S3 | H2: K4 | I2: S4 | J2: K5 | K2: S5 | L2: K6 | M2: S6
A3: % value | B3: 6.6666667 | C3: 16.666667 | D3: 4.5454545 | E3: 16.666667 | F3: 6.6666667 | G3: 7.6923077 | H3: 14.285714 | I3: 11.111111 | J3: 4.3478261 | K3: 5.5555556 | L3: 11.111111 | M3: 20
A4: # spec | B4: 15 | C4: 6 | D4: 22 | E4: 6 | F4: 15 | G4: 13 | H4: 7 | I4: 9 | J4: 23 | K4: 18 | L4: 9 | M4: 5
A5: Sections | B5: =IF('Mapping template'!$J5=1,B$3,0) -> 0 | C5: =IF('Mapping template'!$J21=1,C$3,0) -> 0 | D5: =IF('Mapping template'!$J28=1,D$3,0) -> 0 | E5: =IF('Mapping template'!$J51=1,E$3,0) -> 0 | F5: =IF('Mapping template'!$J58=1,F$3,0) -> 0 | G5: =IF('Mapping template'!$J74=1,G$3,0) -> 0 | H5: =IF('Mapping template'!$J88=1,H$3,0) -> 0 | I5: =IF('Mapping template'!$J96=1,I$3,0) -> 0 | J5: =IF('Mapping template'!$J106=1,J$3,0) -> 0 | K5: =IF('Mapping template'!$J130=1,K$3,0) -> 0 | L5: =IF('Mapping template'!$J149=1,L$3,0) -> 0 | M5: =IF('Mapping template'!$J159=1,M$3,0) -> 0
B6: =IF('Mapping template'!$J6=1,B$3,0) -> 0 | C6: =IF('Mapping template'!$J22=1,C$3,0) -> 0 | D6: =IF('Mapping template'!$J29=1,D$3,0) -> 0 | E6: =IF('Mapping template'!$J52=1,E$3,0) -> 0 | F6: =IF('Mapping template'!$J59=1,F$3,0) -> 0 | G6: =IF('Mapping template'!$J75=1,G$3,0) -> 0 | H6: =IF('Mapping template'!$J89=1,H$3,0) -> 0 | I6: =IF('Mapping template'!$J97=1,I$3,0) -> 0 | J6: =IF('Mapping template'!$J107=1,J$3,0) -> 0 | K6: =IF('Mapping template'!$J131=1,K$3,0) -> 0 | L6: =IF('Mapping template'!$J150=1,L$3,0) -> 0 | M6: =IF('Mapping template'!$J160=1,M$3,0) -> 0
B7: =IF('Mapping template'!$J7=1,B$3,0) -> 0 | C7: =IF('Mapping template'!$J23=1,C$3,0) -> 0 | D7: =IF('Mapping template'!$J30=1,D$3,0) -> 0 | E7: =IF('Mapping template'!$J53=1,E$3,0) -> 0 | F7: =IF('Mapping template'!$J60=1,F$3,0) -> 0 | G7: =IF('Mapping template'!$J76=1,G$3,0) -> 0 | H7: =IF('Mapping template'!$J90=1,H$3,0) -> 0 | I7: =IF('Mapping template'!$J98=1,I$3,0) -> 0 | J7: =IF('Mapping template'!$J108=1,J$3,0) -> 0 | K7: =IF('Mapping template'!$J132=1,K$3,0) -> 0 | L7: =IF('Mapping template'!$J151=1,L$3,0) -> 0 | M7: =IF('Mapping template'!$J161=1,M$3,0) -> 0
B8: =IF('Mapping template'!$J8=1,B$3,0) -> 0 | C8: =IF('Mapping template'!$J24=1,C$3,0) -> 0 | D8: =IF('Mapping template'!$J31=1,D$3,0) -> 0 | E8: =IF('Mapping template'!$J54=1,E$3,0) -> 0 | F8: =IF('Mapping template'!$J61=1,F$3,0) -> 0 | G8: =IF('Mapping template'!$J77=1,G$3,0) -> 0 | H8: =IF('Mapping template'!$J91=1,H$3,0) -> 0 | I8: =IF('Mapping template'!$J99=1,I$3,0) -> 0 | J8: =IF('Mapping template'!$J109=1,J$3,0) -> 0 | K8: =IF('Mapping template'!$J133=1,K$3,0) -> 0 | L8: =IF('Mapping template'!$J152=1,L$3,0) -> 0 | M8: =IF('Mapping template'!$J162=1,M$3,0) -> 0
B9: =IF('Mapping template'!$J9=1,B$3,0) -> 0 | C9: =IF('Mapping template'!$J25=1,C$3,0) -> 0 | D9: =IF('Mapping template'!$J32=1,D$3,0) -> 0 | E9: =IF('Mapping template'!$J55=1,E$3,0) -> 0 | F9: =IF('Mapping template'!$J62=1,F$3,0) -> 0 | G9: =IF('Mapping template'!$J78=1,G$3,0) -> 0 | H9: =IF('Mapping template'!$J92=1,H$3,0) -> 0 | I9: =IF('Mapping template'!$J100=1,I$3,0) -> 0 | J9: =IF('Mapping template'!$J110=1,J$3,0) -> 0 | K9: =IF('Mapping template'!$J134=1,K$3,0) -> 0 | L9: =IF('Mapping template'!$J153=1,L$3,0) -> 0 | M9: =IF('Mapping template'!$J163=1,M$3,0) -> 0
B10: =IF('Mapping template'!$J10=1,B$3,0) -> 0 | C10: =IF('Mapping template'!$J26=1,C$3,0) -> 0 | D10: =IF('Mapping template'!$J33=1,D$3,0) -> 0 | E10: =IF('Mapping template'!$J56=1,E$3,0) -> 0 | F10: =IF('Mapping template'!$J63=1,F$3,0) -> 0 | G10: =IF('Mapping template'!$J79=1,G$3,0) -> 0 | H10: =IF('Mapping template'!$J93=1,H$3,0) -> 0 | I10: =IF('Mapping template'!$J101=1,I$3,0) -> 0 | J10: =IF('Mapping template'!$J111=1,J$3,0) -> 0 | K10: =IF('Mapping template'!$J135=1,K$3,0) -> 0 | L10: =IF('Mapping template'!$J154=1,L$3,0) -> 0
B11: =IF('Mapping template'!$J11=1,B$3,0) -> 0 | D11: =IF('Mapping template'!$J34=1,D$3,0) -> 0 | F11: =IF('Mapping template'!$J64=1,F$3,0) -> 0 | G11: =IF('Mapping template'!$J80=1,G$3,0) -> 0 | H11: =IF('Mapping template'!$J94=1,H$3,0) -> 0 | I11: =IF('Mapping template'!$J102=1,I$3,0) -> 0 | J11: =IF('Mapping template'!$J112=1,J$3,0) -> 0 | K11: =IF('Mapping template'!$J136=1,K$3,0) -> 0 | L11: =IF('Mapping template'!$J155=1,L$3,0) -> 0
B12: =IF('Mapping template'!$J12=1,B$3,0) -> 0 | D12: =IF('Mapping template'!$J35=1,D$3,0) -> 0 | F12: =IF('Mapping template'!$J65=1,F$3,0) -> 0 | G12: =IF('Mapping template'!$J81=1,G$3,0) -> 0 | I12: =IF('Mapping template'!$J103=1,I$3,0) -> 0 | J12: =IF('Mapping template'!$J113=1,J$3,0) -> 0 | K12: =IF('Mapping template'!$J137=1,K$3,0) -> 0 | L12: =IF('Mapping template'!$J156=1,L$3,0) -> 0
B13: =IF('Mapping template'!$J13=1,B$3,0) -> 0 | D13: =IF('Mapping template'!$J36=1,D$3,0) -> 0 | F13: =IF('Mapping template'!$J66=1,F$3,0) -> 0 | G13: =IF('Mapping template'!$J82=1,G$3,0) -> 0 | I13: =IF('Mapping template'!$J104=1,I$3,0) -> 0 | J13: =IF('Mapping template'!$J114=1,J$3,0) -> 0 | K13: =IF('Mapping template'!$J138=1,K$3,0) -> 0 | L13: =IF('Mapping template'!$J157=1,L$3,0) -> 0
B14: =IF('Mapping template'!$J14=1,B$3,0) -> 0 | D14: =IF('Mapping template'!$J37=1,D$3,0) -> 0 | F14: =IF('Mapping template'!$J67=1,F$3,0) -> 0 | G14: =IF('Mapping template'!$J83=1,G$3,0) -> 0 | J14: =IF('Mapping template'!$J115=1,J$3,0) -> 0 | K14: =IF('Mapping template'!$J139=1,K$3,0) -> 0
B15: =IF('Mapping template'!$J15=1,B$3,0) -> 0 | D15: =IF('Mapping template'!$J38=1,D$3,0) -> 0 | F15: =IF('Mapping template'!$J68=1,F$3,0) -> 0 | G15: =IF('Mapping template'!$J84=1,G$3,0) -> 0 | J15: =IF('Mapping template'!$J116=1,J$3,0) -> 0 | K15: =IF('Mapping template'!$J140=1,K$3,0) -> 0
B16: =IF('Mapping template'!$J16=1,B$3,0) -> 0 | D16: =IF('Mapping template'!$J39=1,D$3,0) -> 0 | F16: =IF('Mapping template'!$J69=1,F$3,0) -> 0 | G16: =IF('Mapping template'!$J85=1,G$3,0) -> 0 | J16: =IF('Mapping template'!$J117=1,J$3,0) -> 0 | K16: =IF('Mapping template'!$J141=1,K$3,0) -> 0
B17: =IF('Mapping template'!$J17=1,B$3,0) -> 0 | D17: =IF('Mapping template'!$J40=1,D$3,0) -> 0 | F17: =IF('Mapping template'!$J70=1,F$3,0) -> 0 | G17: =IF('Mapping template'!$J86=1,G$3,0) -> 0 | J17: =IF('Mapping template'!$J118=1,J$3,0) -> 0 | K17: =IF('Mapping template'!$J142=1,K$3,0) -> 0
B18: =IF('Mapping template'!$J18=1,B$3,0) -> 0 | D18: =IF('Mapping template'!$J41=1,D$3,0) -> 0 | F18: =IF('Mapping template'!$J71=1,F$3,0) -> 0 | J18: =IF('Mapping template'!$J119=1,J$3,0) -> 0 | K18: =IF('Mapping template'!$J143=1,K$3,0) -> 0
B19: =IF('Mapping template'!$J19=1,B$3,0) -> 0 | D19: =IF('Mapping template'!$J42=1,D$3,0) -> 0 | F19: =IF('Mapping template'!$J72=1,F$3,0) -> 0 | J19: =IF('Mapping template'!$J120=1,J$3,0) -> 0 | K19: =IF('Mapping template'!$J144=1,K$3,0) -> 0
D20: =IF('Mapping template'!$J43=1,D$3,0) -> 0 | J20: =IF('Mapping template'!$J121=1,J$3,0) -> 0 | K20: =IF('Mapping template'!$J145=1,K$3,0) -> 0
D21: =IF('Mapping template'!$J44=1,D$3,0) -> 0 | J21: =IF('Mapping template'!$J122=1,J$3,0) -> 0 | K21: =IF('Mapping template'!$J146=1,K$3,0) -> 0
D22: =IF('Mapping template'!$J45=1,D$3,0) -> 0 | J22: =IF('Mapping template'!$J123=1,J$3,0) -> 0 | K22: =IF('Mapping template'!$J147=1,K$3,0) -> 0
D23: =IF('Mapping template'!$J46=1,D$3,0) -> 0 | J23: =IF('Mapping template'!$J124=1,J$3,0) -> 0
D24: =IF('Mapping template'!$J47=1,D$3,0) -> 0 | J24: =IF('Mapping template'!$J125=1,J$3,0) -> 0
D25: =IF('Mapping template'!$J48=1,D$3,0) -> 0 | J25: =IF('Mapping template'!$J126=1,J$3,0) -> 0
D26: =IF('Mapping template'!$J49=1,D$3,0) -> 0 | J26: =IF('Mapping template'!$J127=1,J$3,0) -> 0
J27: =IF('Mapping template'!$J128=1,J$3,0) -> 0
