Workbook

Sheet Guidance
B1: #VALUE!
B2: Working with People with Long Term Conditions Mapping Template
B3: Edition: V2.1
B4: Publication date: 6th December 2024
B6: Mapping Guidance - you are here!
B7: Mapping template to reference and evidence where the professional standard is being met by the course/ participant/ qualification
B8: N.B. Examples (e.g.) are given within the LDRs to provide an overview of the knowledge and skills most relevant to the role. It is not mandatory to assess learners against 100% of the examples provided, however, sufficient coverage to ensure occupational competence on achievement must be ensured. This will be reviewed as part of the CIMSPA endorsement process.
B9: For non-regulated qualifications (CPD), where an Education Partner does not meet the full CIMSPA professional standard, it is important to note, that the Education Partner must meet a full Knowledge or Skill LDR. For example, all three sections within K1.1 would need to evidenced for that LDR to partially map to the professional standard.
B10: For further information around product development guidance, please refer to the professional standard within the professional standard library; https://www.cimspa.co.uk/education-training/professional-standards/professional-standards-library/
B11: Alternatively, please view our CIMPSA Partner Endorsement Guide;https://cimspa.co.uk/education-training/endorsement/
B13: Revision History
B14: Version | C14: Name & Role | D14: Signature & Date | E14: Reason for Change
A15: c | B15: V2.1 | C15: Aidan Riley Education Officer | D15: AR 05/12/24 | E15: Update to general formatting & implementation of conditional formating to streamline moderator feedback.
B19: E endorsements@cimspa.co.uk T 03438 360200 W www.cimspa.co.uk
B20: Chartered Institute for the Management of Sport and Physical Activity,
B21: SportPark Loughborough University, 3 Oakwood Drive, Loughborough, Leicestershire LE11 3QF
B22: Incorporated by Royal Charter Charity Registration No. 1144545

Sheet Mapping template
E1: Education Product Title: INSERT HERE
A2: Professional Standard: Working with People with Long Term Conditions | E2: Partner Mapping Section | J2: Moderator Feedback Section | Q2: IV Feedback Section
A3: Topic | B3: Competency | D3: Learning Outcome(s) | E3: Evidence (sign post to SOW / course specification / supporting documents) | F3: Assessment Method | G3: Further Comments (expand on evidence within column E) | H3: Response to Moderator Feedback Section (second review evidence - if applicable) | J3: Score | K3: Mapping to Point | L3: % Mapped to Section | M3: Moderator comments | N3: General Feedback (first review) | O3: General Feedback (second review - if applicable) | Q3: IV Comments
A4: 1. Understanding health context | B4: Ref | C4: Knowledge and Understanding (K&U): | D4: Those working with people with long term conditions must:
B5: K1.1 | C5: Health policy | D5: ­ Relevant UK wide, national and local physical activity health inequalities. | L5: =SUM('Workings out'!B5:B20) -> 0
D6: ­ Health and social care policy for the promotion of physical activity, the prevention of inactivity and sedentary behavior.
D7: ­ Policy relating to the management of long term conditions by use of physical activity.
D8: · Know about local health strategies and needs assessments that influence the development of local services including physical activity and sedentary behaviour.
D9: · Understand the wider determinants of health, their impact on health inequalities and on an individual’s health, and the use of health profiles to understand local demographics.
B10: K1.2 | C10: Evidence | D10: · Understand the latest evidence that supports the improvement of clinical outcomes and enables sustained behaviour change for people at high(er) risk of developing or living with LTCs: e.g. NICE clinical and public health guidelines on physical activity, condition management and behaviour change. | K10: =IF((AND(J10=1,J11=1,J12=1,J13=1)), "Fully Mapped", "Not/ Partially Mapped") -> Not/ Partially Mapped
D11: · Know about research trends and initiatives that are emerging that support behaviour change and increases in physical activity.
D12: · Understand the insight for people with lived experience of an LTC including barriers and motivators for the different medical conditions and for those with comorbidities or multimorbidities examples of organisations that you could talk to include: Macmillan, Richmond Group.
D13: · Know about segmentation tools that can assist in understanding barriers, motivators and preferred types of physical activity: e.g. Sport England market segmentation.
B14: K1.3 | C14: Building local relationships | D14: · Know about UK wide and local health care system structures across primary, secondary and tertiary care, the roles and responsibilities of key organisations and the health, social care and third sector professionals involved. | K14: {=IF((AND(J14:J19=1)), "Fully Mapped", "Not/ Partially Mapped")} -> Not/ Partially Mapped
D15: · Understand the importance of engaging and maintaining strong relationships with key stakeholders including commissioners, senior managers, community providers, service users and their carers and how this informs service development of a local physical activity programme.
D16: · Know about key national and local care pathways that will link to the provision of local physical activity services including:
D17: ­ Non-clinical: e.g. integrated lifestyle services, social prescribing, Making Every Contact Count (MECC).
D18: ­ Clinical: e.g. diabetes prevention, NHS health checks, IAPT and weight management and rehabilitation services including: cardiac, cancer, pulmonary, MSK, neurological, falls
D19: · Understand the language used in the health and social care sector.
B20: Ref | C20: Skills: | D20: Those working with people with long term conditions must be able to:
B21: S1.1 | C21: Health context | D21: · Use local health strategies, needs assessments and health profiles to understand the make-up of the local population and target audiences. | K21: =IF((AND(J21=1)), "Fully Mapped", "Not/ Partially Mapped") -> Not/ Partially Mapped | L21: =SUM('Workings out'!C5:C10) -> 0
B22: S1.2 | C22: Evidence | D22: · Find, utilise and interpret the latest evidence and research, as well as critically appraise emerging trends to inform delivery of the physical activity, exercise, education and behaviour change components of the programme: e.g. NICE public health or clinical guidance. | K22: {=IF((AND(J22:J23=1)), "Fully Mapped", "Not/ Partially Mapped")} -> Not/ Partially Mapped
D23: · Apply the latest evidence to ensure that they improve clinical outcomes and enable sustained behaviour change for people at high(er) risk of or living with LTCs taking into account health inequalities.
B24: S1.3 | C24: Building local relationships | D24: · Utilise knowledge of the customer experience and the impact of health inequalities to ensure empathy with, and appropriate signposting for, participants throughout their journey into, through and out of the service. | K24: {=IF((AND(J24:J26=1)), "Fully Mapped", "Not/ Partially Mapped")} -> Not/ Partially Mapped
D25: · Build strong relationships with a range of health professionals (both managers and practitioners) who are working in local primary, secondary or tertiary care services, and the wider workforce including social care, third sector professionals and carers to ensure a smooth customer journey.
D26: · Utilise health knowledge to communicate in a credible manner with health, social care and third sector professionals at different levels working within the health and social care system.
A27: 2. Epidemiology, anatomy and physiology, pathophysiology and pharmacology | B27: Ref | C27: K&U | D27: Those working with people with long term conditions must:
B28: K2.1 | C28: Epidemiology | D28: · Understand the prevalence of inactivity and other lifestyle behaviours by social demographics, disease and predicted trends and the correlation between these behaviours, risk factors, long term conditions and comorbidities or multimorbidities; and the relationship between these and the wider determinants of health. | K28: =IF((AND(J28=1)), "Fully Mapped", "Not/ Partially Mapped") -> Not/ Partially Mapped | L28: =SUM('Workings out'!D5:D26) -> 0
B29: K2.2 | C29: Anatomy and physiology | D29: · Understand the anatomy, physiology and biomechanics of the human body including the cardiorespiratory, musculoskeletal, nervous, endocrine and cognitive systems. | K29: {=IF((AND(J29:J32=1)), "Fully Mapped", "Not/ Partially Mapped")} -> Not/ Partially Mapped
D30: · Understand how ageing, disease and injury affects the anatomy, physiology and biomechanics of the human body including the cardiorespiratory, musculoskeletal, nervous, endocrine and cognitive systems.
D31: · Understand how ageing, injury and disease impact on functional capacity and health outcomes for a range of health conditions.
D32: · Understand the protective effects of physical activity and exercise for both the prevention and management of a range of LTCs, including the physiological, biochemical, anatomical and psychological response to physical activity.
B33: K2.3 | C33: Aetiology (causes) of conditions | D33: · Understand the aetiology of the most prevalent long term conditions and their associated risk factors including the following: | K33: {=IF((AND(I33:J44=1)), "Fully Mapped", "Not/ Partially Mapped")} -> Not/ Partially Mapped
D34: · Understand the aetiology of the most prevalent long term conditions and their associated risk factors including the following:
D35: ­ Diabetes and metabolic conditions: e.g. pre-diabetic, obesity, hyperlipidaemia, hypercholesterolmia, hyperglycaemia, type I and II diabetes, hypo/hyperthyroidism
D36: ­ Circulatory including cardiovascular and respiratory: e.g. cardiovascular disease risk, coronary heart disease, hypertension, peripheral vascular disease, asthma, chronic obstructive pulmonary disease
D37: ­ Musculoskeletal including: osteopaenia, osteoporosis, osteoarthiritis, rheumatoid arthiritis, lower back pain, joint replacement, connective tissue disease, spinal cord injury
D38: ­ Mental health conditions: e.g. anxiety, stress, depression, bipolar, phobias, schizophrenia, eating disorders, substance misuse
D39: ­ Chronic fatigue.
D40: ­ Cancers (all types grouped to: outcomes – 1-2 year survival, 5 year survival, 10 years+ survival; and stages of cancer care - diagnosis, treatment, survivorship, advanced / end of life).
D41: ­ Neurological including: transient ischaemic attack and stroke, muscle sclerosis, parkinsons disease, fibromyalgia
D42: ­ Dementia: e.g. early onset dementia, mild to moderate cognitive impairment, Alzheimer's.
D43: · Know about common comorbidities and multimorbidities that individuals encounter.
D44: · Understand the significant underlying importance of mental health and wellbeing for people at high(er) risk of developing, or living with, single LTCs or comorbidities and the factors that can influence an individual’s wellbeing.
B45: K2.4 | C45: Medical management | D45: · Understand the ways in which the above conditions may be medically managed: i.e. medications and how they work, investigations, intervention or treatments and surgery. | K45: {=IF((AND(J45:J47=1)), "Fully Mapped", "Not/ Partially Mapped")} -> Not/ Partially Mapped
D46: · Understand how the medical management of the above LTCs and associated risk factors may impact upon the health and quality of life of an individual, including functional and mental capacity.
D47: · Understand the pharmacological implications of common drugs and the possible side effects of treatments or surgery and how these might impact upon exercise tolerance and functional capability.
B48: K2.5 | C48: Limitations for Exercise | D48: · Understand the levels of functional, cognitive or other biopsychosocial limitations for the above LTCs, including comorbidities and multimorbidities, and how physical activity services could be developed and delivered to improve all limitations with a focus on individual capabilities. | K48: {=IF((AND(J48:J49=1)), "Fully Mapped", "Not/ Partially Mapped")} -> Not/ Partially Mapped
D49: · Understand the physiology and psychology of pain and how this may impact upon the functional and mental capacity of an individual.
B50: Ref | C50: Skills: | D50: Those working with people with long term conditions must be able to:
B51: S2.1 | C51: Anatomy and physiology | D51: · Demonstrate how to apply knowledge of the cardiorespiratory, musculoskeletal, nervous, endocrine and cognitive systems in order to design and deliver a safe and effective physical activity programme. | K51: {=IF((AND(J51:J53=1)), "Fully Mapped", "Not/ Partially Mapped")} -> Not/ Partially Mapped | L51: =SUM('Workings out'!E5:E10) -> 0
D52: · Demonstrate how to apply knowledge of physical activity, ageing and disease processes to design and deliver a safe and effective physical activity programme.
D53: · Demonstrate how to communicate the impact of exercise on the human body in simple terms to a participant.
B54: S2.2 | C54: Medical management | D54: · Take account of medical management in the development and delivery of safe and effective physical activity programmes for people at higher risk of, or living with, LTC(s). | K54: {=IF((AND(J54:J55=1)), "Fully Mapped", "Not/ Partially Mapped")} -> Not/ Partially Mapped
D55: · Interpret information about the medical management for people at higher risk of, or living with, a range of LTCs and demonstrate how to apply this knowledge in the development and delivery of safe and effective physical activity programmes.
B56: S2.3 | C56: Accomodating functional and psychological limitations and capabilities | D56: · To design and deliver a physical activity programme that focuses on selecting and adapting appropriate exercises that accommodate the functional and other biopsychosocial limitations that are common to a group of individuals across a range of risk factors/condition(s) and through identifying and enhancing individual capabilities, improve capacity to achieve Activities of Daily Living (ADLs). | K56: =IF((AND(J56=1)), "Fully Mapped", "Not/ Partially Mapped") -> Not/ Partially Mapped
A57: 3. Service design, set up and evaluation | B57: Ref | C57: K&U | D57: Those working with people with long term conditions must:
B58: K3.1 | C58: Quality assurance | D58: · Appreciate service capacity and understand the skills, competencies and values required by staff and volunteers supporting or delivering part of the programme. | K58: {=IF((AND(J58:J61=1)), "Fully Mapped", "Not/ Partially Mapped")} -> Not/ Partially Mapped | L58: =SUM('Workings out'!F5:F19) -> 0
D59: · Understand how to motivate, value and support peer mentors and/or volunteers.
D60: · Understand how to support and guide other instructors/coaches providing part of a programme of sport and exercise.
D61: · Know how to conduct appropriate risk assessments for the venues and activities proposed including ensuring access for those with a disability.
B62: K3.2 | C62: Referral and self-referral | D62: · Understand the distinctions between referral and self-referral. | K62: {=IF((AND(J62:J64=1)), "Fully Mapped", "Not/ Partially Mapped")} -> Not/ Partially Mapped
D63: · Understand how to set-up an agreed, simple, and seamless self-referral and referral protocol (including inclusion and exclusion criteria) with local professionals and allied services.
D64: · Understand the various communication strategies required for the promotion of a physical activity programme both via referral and self-referral routes including the use of: community outreach, digital marketing and social media, local press, posters and leaflets, health routes
B65: K3.3 | C65: Governance | D65: · Understand the legislation surrounding the safeguarding of vulnerable people. | K65: {=IF((AND(J65:J66=1)), "Fully Mapped", "Not/ Partially Mapped")} -> Not/ Partially Mapped
D66: · Understand data protection law: e.g. GDPR and implications for collecting, storing and sharing personal and sensitive data that includes medical information and the importance of confidentiality.
B67: K3.4 | C67: Monitoring and evaluation | D67: · Understand the importance and value of monitoring and evaluating service outcomes including knowledge of key evaluation documents e.g. Public Health England (PHE) Standard Evaluation Framework and the Sport England Monitoring and Evaluation Framework. | K67: {=IF((AND(J67:J70=1)), "Fully Mapped", "Not/ Partially Mapped")} -> Not/ Partially Mapped
D68: · Understand the various data methodologies e.g. qualitative, quantitative, customer feedback, process evaluation, impact and cost data and the instructor’s role in the data collection process.
D69: · Know about a range of validated service evaluation outcome measurement tools including those designed to measure physical (including functional), and mental wellbeing outcomes.
D70: · Know about the use and value of electronic data management systems (including customer relationship management systems) that aid data collection, evaluation and support to individual participants.
B71: K3.5 | C71: Physical activity and health opportunities | D71: · Understand the importance of providing a full spectrum of opportunity for clients to engage in physical activity that includes activities of daily living, active travel, active recreation through to structured exercise, dance and sport, and that embraces the wide range of stakeholders and providers that can support this. | K71: {=IF((AND(J71:J72=1)), "Fully Mapped", "Not/ Partially Mapped")} -> Not/ Partially Mapped
D72: · Understand the importance of linking to health interventions and other wider community assets that can support the participant and knowing how, when and where to signpost: e.g. health trainers, Improving Access to Psychological Therapies (IAPT), stop smoking services, physiotherapy, pharmacy, befriending, group learning.
B73: Ref | C73: Skills: | D73: Those working with people with long term conditions must be able to:
B74: S3.1 | C74: Quality assurance | D74: · Quality assure community physical activity opportunities, including identifying training needs. | K74: {=IF((AND(J74:J75=1)), "Fully Mapped", "Not/ Partially Mapped")} -> Not/ Partially Mapped | L74: =SUM('Workings out'!G5:G17) -> 0
D75: · Mentor and supervise health champions/volunteers by providing 1:1s and group-based learning and action sets to include development of core skills: e.g. communication and general behaviour change techniques.
B76: S3.2 | C76: Referral and self-referral | D76: · Work with commissioners and managers within health, social care and third sector, as well as service users, to develop and ensure uncomplicated, streamlined and seamless referral processes and pathways are in place that reflect the needs of the local community. | K76: {=IF((AND(J76:J77=1)), "Fully Mapped", "Not/ Partially Mapped")} -> Not/ Partially Mapped
D77: · Understand the need for self-referral pathways that ensure the needs of target audiences are taken into account including safety considerations, the Health Commitment Statement and those that determine level of risk of an ‘event’ during exercise: e.g. PARQ, PARQ+, PreCise tool, ACSM health screening.
B78: S3.3 | C78: Governance | D78: · Take into consideration and/or use local clinical governance guidelines when delivering a physical activity service for people at risk of, or living with, an LTC. | K78: {=IF((AND(J78:J80=1)), "Fully Mapped", "Not/ Partially Mapped")} -> Not/ Partially Mapped
D79: · Enter relevant personal and sensitive data and ensure its safe storage and transfer at all stages within the physical activity programme and with due regard to local and NHS/other information governance requirements.
D80: · Ensure that medical and other sensitive/personal information imparted by clinicians and/or the participants is confidential.
B81: S3.4 | C81: Monitoring and evaluation | D81: · Select and use appropriate measurement tools, monitoring frameworks and data collection systems. | K81: {=IF((AND(J81:J84=1)), "Fully Mapped", "Not/ Partially Mapped")} -> Not/ Partially Mapped
D82: · Collect locally agreed data both pre, during and post intervention from individual participants and enter accurately onto systems.
D83: · Gather and provide qualitative feedback from participants including case studies.
D84: · Provide feedback on progress of clients to referring professionals as appropriate.
B85: S3.5 | C85: Physical activity and health opportunities | D85: · Know about relevant physical activity opportunities across an area and be able to signpost individuals onward. | K85: {=IF((AND(J85:J86=1)), "Fully Mapped", "Not/ Partially Mapped")} -> Not/ Partially Mapped
D86: · Identify and build effective relationships with all relevant wider health opportunities and community assets that support health improvement across an area in order to be able to cross signpost/refer individuals to, according to individual participant's need.
A87: 4. Providing support and behaviour change | B87: Ref | C87: K&U | D87: Those working with people with long term conditions must:
B88: K4.1 | C88: Theory of behaviour change | D88: · Know about the relevant behaviour change theories: e.g. Health Belief Model, Self Determination Theory, COM-B and the Transtheoretical Model required to design and deliver an intervention in order to meet the needs of those who are at high(er) risk of developing, or living with, one or more LTCs, with health inequalities. These interventions must take into account and support people at different stages of change and will motivate them to become and stay more active and cope with relapse. | K88: {=IF((AND(J88:J91=1)), "Fully Mapped", "Not/ Partially Mapped")} -> Not/ Partially Mapped | L88: =SUM('Workings out'!H5:H11) -> 0
D89: · Understand the barriers and motivators (capability, opportunity, motivation) of inactive adults, those at risk or living with of LTCs including comorbidities and multimorbidities, to become physically active.
D90: · Understand the most effective techniques that can be used to support someone to change their behaviour both on a 1:1 basis or as part of a group.
D91: · Understand how to apply motivational support (including the use of peer support) in a physical activity session.
B92: K4.2 | C92: Style of intervention | D92: · Understand the evidence for providing 1:1, group and peer behaviour change support and face to face versus remote communication: e.g. digital, print and telephone. Also, how these can be combined to develop an intervention protocol to meet the needs of those at high(er) risk of developing or living with long term conditions, including comorbidities or multimorbidities and those with health inequalities. | K92: =IF((AND(J92=1)), "Fully Mapped", "Not/ Partially Mapped") -> Not/ Partially Mapped
B93: K4.3 | C93: Customer relationship management (CRM) | D93: · Understand what a customer relationship management system (CRM) is and how it can support the practitioner and participant to manage behaviour change. | K93: {=IF((AND(J93:J94=1)), "Fully Mapped", "Not/ Partially Mapped")} -> Not/ Partially Mapped
D94: · Understand the importance of using a CRM system to monitor change in behaviour and tailor follow up motivational support according to individual needs.
B95: Ref | C95: Skills: | D95: Those working with people with long term conditions must be able to:
B96: S4.1 | C96: Theory of behaviour change | D96: · Use and apply relevant behaviour change theory to design an intervention to meet the needs of the target population, that takes into account and supports people at different stages of change and will motivate them to become and stay more active and cope with relapse. | K96: {=IF((AND(J96:J98=1)), "Fully Mapped", "Not/ Partially Mapped")} -> Not/ Partially Mapped | L96: =SUM('Workings out'!I5:I13) -> 0
D97: · Identify the relevant behaviour change techniques (from the behaviour change taxonomy) and apply them in a person-centred consultation and in all service user interactions.
D98: · Use evidence for providing 1:1, group and peer behaviour change support and face to face versus remote communication, for example digital, print and telephone, and use these to develop an intervention protocol for the identified populations.
B99: S4.2 | C99: Person-centred techniques | D99: · Competently use person-centred behaviour change incorporating a variety of skills in an integrative style that draws on the following methods: motivational interviewing, solution focused brief therapy, cognitive behaviour therapy (CBT), positive psychology | K99: {=IF((AND(J99:J103=1)), "Fully Mapped", "Not/ Partially Mapped")} -> Not/ Partially Mapped
D100: · Design physical activity programmes based on service user clinical and biopsychological needs taking into account safety considerations, motivation levels, medical information, and personal preferences. Review and adapt at regular intervals as appropriate.
...

Sheet Mapping results
B1: Mapping Breakdown shows a breakdown of the percentage that your course has mapped to each sections knowledge and skills criteria, and the overall percentage that your course has mapped to the professional standard
D2: Sections | E2: Specifications | F2: %worth of each section | G2: Total % covered of area | H2: Section % of total standard | I2: % covered of entire standard
B3: 1 | C3: Knowledge | D3: 3 | E3: 15 | F3: =100/E3 -> 6.6666667 | G3: =SUM('Mapping template'!L5:L19) -> 0 | H3: =(E3/E15)*100 -> 10.135135 | I3: =(H3/100)*G3 -> 0
C4: Skills | D4: 3 | E4: 6 | F4: =100/E4 -> 16.666667 | G4: =SUM('Mapping template'!L21:L26) -> 0 | H4: {=(E4/_xlfn.ANCHORARRAY(E15))*100} -> 4.0540541 | I4: =(H4/100)*G4 -> 0
B5: 2 | C5: Knowledge | D5: 5 | E5: 22 | F5: =100/E5 -> 4.5454545 | G5: =SUM('Mapping template'!L28:L49) -> 0 | H5: =(E5/E15)*100 -> 14.864865 | I5: =(H5/100)*G5 -> 0
C6: Skills | D6: 3 | E6: 6 | F6: =100/E6 -> 16.666667 | G6: =SUM('Mapping template'!L51:L56) -> 0 | H6: =(E6/E15)*100 -> 4.0540541 | I6: =(H6/100)*G6 -> 0
B7: 3 | C7: Knowledge | D7: 5 | E7: 15 | F7: =100/E7 -> 6.6666667 | G7: =SUM('Mapping template'!L58:L72) -> 0 | H7: =(E7/E15)*100 -> 10.135135 | I7: =(H7/100)*G7 -> 0
C8: Skills | D8: 5 | E8: 13 | F8: =100/E8 -> 7.6923077 | G8: =SUM('Mapping template'!L74:L86) -> 0 | H8: =(E8/E15)*100 -> 8.7837838 | I8: =(H8/100)*G8 -> 0
B9: 4 | C9: Knowledge | D9: 3 | E9: 7 | F9: =100/E9 -> 14.285714 | G9: =SUM('Mapping template'!L88:L94) -> 0 | H9: =(E9/E15)*100 -> 4.7297297 | I9: =(H9/100)*G9 -> 0
C10: Skills | D10: 3 | E10: 9 | F10: =100/E10 -> 11.111111 | G10: =SUM('Mapping template'!L96:L104) -> 0 | H10: =(E10/E15)*100 -> 6.0810811 | I10: =(H10/100)*G10 -> 0
B11: 5 | C11: Knowledge | D11: 9 | E11: 23 | F11: =100/E11 -> 4.3478261 | G11: =SUM('Mapping template'!L106:L128) -> 0 | H11: =(E11/E15)*100 -> 15.540541 | I11: =(H11/100)*G11 -> 0
C12: Skills | D12: 7 | E12: 18 | F12: =100/E12 -> 5.5555556 | G12: =SUM('Mapping template'!L130:L147) -> 0 | H12: =(E12/E15)*100 -> 12.162162 | I12: =(H12/100)*G12 -> 0
B13: 6 | C13: Knowledge | D13: 2 | E13: 9 | F13: =100/E13 -> 11.111111 | G13: =SUM('Mapping template'!L149:L157) -> 0 | H13: =(E13/E15)*100 -> 6.0810811 | I13: =(H13/100)*G13 -> 0
C14: Skills | D14: 2 | E14: 5 | F14: =100/E14 -> 20 | G14: =SUM('Mapping template'!L159:L163) -> 0 | H14: =(E14/E15)*100 -> 3.3783784 | I14: =(H14/100)*G14 -> 0
B15: Totals | D15: =SUM(D3:D14) -> 50 | E15: =SUM(E3:E14) -> 148 | H15: =SUM(H3:H14) -> 100 | I15: =SUM(I3:I14) -> 0

Sheet Feedback
A1: Standardised feedback comments | B1: Assessment methods
A2: Comprehensive evidence | B2: Assignment
A3: Sufficient evidence | B3: Case study
A4: Further evidence required | B4: Dissertation
B5: Exam
B6: Written test
B7: Listening test
B8: Oral test
B9: Performance/ practical
B10: Portfolio
B11: Professional discussion
B12: Project
B13: Simulation
B14: Online test
B15: Attendence only
B16: Multiple
B17: Other

Sheet Workings out
A1: Calculating the totally percentage of knowledge/ skill covered in each section
B2: K1 | C2: S1 | D2: K2 | E2: S2 | F2: K3 | G2: S3 | H2: K4 | I2: S4 | J2: K5 | K2: S5 | L2: K6 | M2: S6
A3: % value | B3: 6.6666667 | C3: 16.666667 | D3: 4.5454545 | E3: 16.666667 | F3: 6.6666667 | G3: 7.6923077 | H3: 14.285714 | I3: 11.111111 | J3: 4.3478261 | K3: 5.5555556 | L3: 11.111111 | M3: 20
A4: # spec | B4: 15 | C4: 6 | D4: 22 | E4: 6 | F4: 15 | G4: 13 | H4: 7 | I4: 9 | J4: 23 | K4: 18 | L4: 9 | M4: 5
A5: Sections | B5: =IF('Mapping template'!$J5=1,B$3,0) -> 0 | C5: =IF('Mapping template'!$J21=1,C$3,0) -> 0 | D5: =IF('Mapping template'!$J28=1,D$3,0) -> 0 | E5: =IF('Mapping template'!$J51=1,E$3,0) -> 0 | F5: =IF('Mapping template'!$J58=1,F$3,0) -> 0 | G5: =IF('Mapping template'!$J74=1,G$3,0) -> 0 | H5: =IF('Mapping template'!$J88=1,H$3,0) -> 0 | I5: =IF('Mapping template'!$J96=1,I$3,0) -> 0 | J5: =IF('Mapping template'!$J106=1,J$3,0) -> 0 | K5: =IF('Mapping template'!$J130=1,K$3,0) -> 0 | L5: =IF('Mapping template'!$J149=1,L$3,0) -> 0 | M5: =IF('Mapping template'!$J159=1,M$3,0) -> 0
B6: =IF('Mapping template'!$J6=1,B$3,0) -> 0 | C6: =IF('Mapping template'!$J22=1,C$3,0) -> 0 | D6: =IF('Mapping template'!$J29=1,D$3,0) -> 0 | E6: =IF('Mapping template'!$J52=1,E$3,0) -> 0 | F6: =IF('Mapping template'!$J59=1,F$3,0) -> 0 | G6: =IF('Mapping template'!$J75=1,G$3,0) -> 0 | H6: =IF('Mapping template'!$J89=1,H$3,0) -> 0 | I6: =IF('Mapping template'!$J97=1,I$3,0) -> 0 | J6: =IF('Mapping template'!$J107=1,J$3,0) -> 0 | K6: =IF('Mapping template'!$J131=1,K$3,0) -> 0 | L6: =IF('Mapping template'!$J150=1,L$3,0) -> 0 | M6: =IF('Mapping template'!$J160=1,M$3,0) -> 0
B7: =IF('Mapping template'!$J7=1,B$3,0) -> 0 | C7: =IF('Mapping template'!$J23=1,C$3,0) -> 0 | D7: =IF('Mapping template'!$J30=1,D$3,0) -> 0 | E7: =IF('Mapping template'!$J53=1,E$3,0) -> 0 | F7: =IF('Mapping template'!$J60=1,F$3,0) -> 0 | G7: =IF('Mapping template'!$J76=1,G$3,0) -> 0 | H7: =IF('Mapping template'!$J90=1,H$3,0) -> 0 | I7: =IF('Mapping template'!$J98=1,I$3,0) -> 0 | J7: =IF('Mapping template'!$J108=1,J$3,0) -> 0 | K7: =IF('Mapping template'!$J132=1,K$3,0) -> 0 | L7: =IF('Mapping template'!$J151=1,L$3,0) -> 0 | M7: =IF('Mapping template'!$J161=1,M$3,0) -> 0
B8: =IF('Mapping template'!$J8=1,B$3,0) -> 0 | C8: =IF('Mapping template'!$J24=1,C$3,0) -> 0 | D8: =IF('Mapping template'!$J31=1,D$3,0) -> 0 | E8: =IF('Mapping template'!$J54=1,E$3,0) -> 0 | F8: =IF('Mapping template'!$J61=1,F$3,0) -> 0 | G8: =IF('Mapping template'!$J77=1,G$3,0) -> 0 | H8: =IF('Mapping template'!$J91=1,H$3,0) -> 0 | I8: =IF('Mapping template'!$J99=1,I$3,0) -> 0 | J8: =IF('Mapping template'!$J109=1,J$3,0) -> 0 | K8: =IF('Mapping template'!$J133=1,K$3,0) -> 0 | L8: =IF('Mapping template'!$J152=1,L$3,0) -> 0 | M8: =IF('Mapping template'!$J162=1,M$3,0) -> 0
B9: =IF('Mapping template'!$J9=1,B$3,0) -> 0 | C9: =IF('Mapping template'!$J25=1,C$3,0) -> 0 | D9: =IF('Mapping template'!$J32=1,D$3,0) -> 0 | E9: =IF('Mapping template'!$J55=1,E$3,0) -> 0 | F9: =IF('Mapping template'!$J62=1,F$3,0) -> 0 | G9: =IF('Mapping template'!$J78=1,G$3,0) -> 0 | H9: =IF('Mapping template'!$J92=1,H$3,0) -> 0 | I9: =IF('Mapping template'!$J100=1,I$3,0) -> 0 | J9: =IF('Mapping template'!$J110=1,J$3,0) -> 0 | K9: =IF('Mapping template'!$J134=1,K$3,0) -> 0 | L9: =IF('Mapping template'!$J153=1,L$3,0) -> 0 | M9: =IF('Mapping template'!$J163=1,M$3,0) -> 0
B10: =IF('Mapping template'!$J10=1,B$3,0) -> 0 | C10: =IF('Mapping template'!$J26=1,C$3,0) -> 0 | D10: =IF('Mapping template'!$J33=1,D$3,0) -> 0 | E10: =IF('Mapping template'!$J56=1,E$3,0) -> 0 | F10: =IF('Mapping template'!$J63=1,F$3,0) -> 0 | G10: =IF('Mapping template'!$J79=1,G$3,0) -> 0 | H10: =IF('Mapping template'!$J93=1,H$3,0) -> 0 | I10: =IF('Mapping template'!$J101=1,I$3,0) -> 0 | J10: =IF('Mapping template'!$J111=1,J$3,0) -> 0 | K10: =IF('Mapping template'!$J135=1,K$3,0) -> 0 | L10: =IF('Mapping template'!$J154=1,L$3,0) -> 0
B11: =IF('Mapping template'!$J11=1,B$3,0) -> 0 | D11: =IF('Mapping template'!$J34=1,D$3,0) -> 0 | F11: =IF('Mapping template'!$J64=1,F$3,0) -> 0 | G11: =IF('Mapping template'!$J80=1,G$3,0) -> 0 | H11: =IF('Mapping template'!$J94=1,H$3,0) -> 0 | I11: =IF('Mapping template'!$J102=1,I$3,0) -> 0 | J11: =IF('Mapping template'!$J112=1,J$3,0) -> 0 | K11: =IF('Mapping template'!$J136=1,K$3,0) -> 0 | L11: =IF('Mapping template'!$J155=1,L$3,0) -> 0
B12: =IF('Mapping template'!$J12=1,B$3,0) -> 0 | D12: =IF('Mapping template'!$J35=1,D$3,0) -> 0 | F12: =IF('Mapping template'!$J65=1,F$3,0) -> 0 | G12: =IF('Mapping template'!$J81=1,G$3,0) -> 0 | I12: =IF('Mapping template'!$J103=1,I$3,0) -> 0 | J12: =IF('Mapping template'!$J113=1,J$3,0) -> 0 | K12: =IF('Mapping template'!$J137=1,K$3,0) -> 0 | L12: =IF('Mapping template'!$J156=1,L$3,0) -> 0
B13: =IF('Mapping template'!$J13=1,B$3,0) -> 0 | D13: =IF('Mapping template'!$J36=1,D$3,0) -> 0 | F13: =IF('Mapping template'!$J66=1,F$3,0) -> 0 | G13: =IF('Mapping template'!$J82=1,G$3,0) -> 0 | I13: =IF('Mapping template'!$J104=1,I$3,0) -> 0 | J13: =IF('Mapping template'!$J114=1,J$3,0) -> 0 | K13: =IF('Mapping template'!$J138=1,K$3,0) -> 0 | L13: =IF('Mapping template'!$J157=1,L$3,0) -> 0
B14: =IF('Mapping template'!$J14=1,B$3,0) -> 0 | D14: =IF('Mapping template'!$J37=1,D$3,0) -> 0 | F14: =IF('Mapping template'!$J67=1,F$3,0) -> 0 | G14: =IF('Mapping template'!$J83=1,G$3,0) -> 0 | J14: =IF('Mapping template'!$J115=1,J$3,0) -> 0 | K14: =IF('Mapping template'!$J139=1,K$3,0) -> 0
B15: =IF('Mapping template'!$J15=1,B$3,0) -> 0 | D15: =IF('Mapping template'!$J38=1,D$3,0) -> 0 | F15: =IF('Mapping template'!$J68=1,F$3,0) -> 0 | G15: =IF('Mapping template'!$J84=1,G$3,0) -> 0 | J15: =IF('Mapping template'!$J116=1,J$3,0) -> 0 | K15: =IF('Mapping template'!$J140=1,K$3,0) -> 0
B16: =IF('Mapping template'!$J16=1,B$3,0) -> 0 | D16: =IF('Mapping template'!$J39=1,D$3,0) -> 0 | F16: =IF('Mapping template'!$J69=1,F$3,0) -> 0 | G16: =IF('Mapping template'!$J85=1,G$3,0) -> 0 | J16: =IF('Mapping template'!$J117=1,J$3,0) -> 0 | K16: =IF('Mapping template'!$J141=1,K$3,0) -> 0
B17: =IF('Mapping template'!$J17=1,B$3,0) -> 0 | D17: =IF('Mapping template'!$J40=1,D$3,0) -> 0 | F17: =IF('Mapping template'!$J70=1,F$3,0) -> 0 | G17: =IF('Mapping template'!$J86=1,G$3,0) -> 0 | J17: =IF('Mapping template'!$J118=1,J$3,0) -> 0 | K17: =IF('Mapping template'!$J142=1,K$3,0) -> 0
B18: =IF('Mapping template'!$J18=1,B$3,0) -> 0 | D18: =IF('Mapping template'!$J41=1,D$3,0) -> 0 | F18: =IF('Mapping template'!$J71=1,F$3,0) -> 0 | J18: =IF('Mapping template'!$J119=1,J$3,0) -> 0 | K18: =IF('Mapping template'!$J143=1,K$3,0) -> 0
B19: =IF('Mapping template'!$J19=1,B$3,0) -> 0 | D19: =IF('Mapping template'!$J42=1,D$3,0) -> 0 | F19: =IF('Mapping template'!$J72=1,F$3,0) -> 0 | J19: =IF('Mapping template'!$J120=1,J$3,0) -> 0 | K19: =IF('Mapping template'!$J144=1,K$3,0) -> 0
D20: =IF('Mapping template'!$J43=1,D$3,0) -> 0 | J20: =IF('Mapping template'!$J121=1,J$3,0) -> 0 | K20: =IF('Mapping template'!$J145=1,K$3,0) -> 0
D21: =IF('Mapping template'!$J44=1,D$3,0) -> 0 | J21: =IF('Mapping template'!$J122=1,J$3,0) -> 0 | K21: =IF('Mapping template'!$J146=1,K$3,0) -> 0
D22: =IF('Mapping template'!$J45=1,D$3,0) -> 0 | J22: =IF('Mapping template'!$J123=1,J$3,0) -> 0 | K22: =IF('Mapping template'!$J147=1,K$3,0) -> 0
D23: =IF('Mapping template'!$J46=1,D$3,0) -> 0 | J23: =IF('Mapping template'!$J124=1,J$3,0) -> 0
D24: =IF('Mapping template'!$J47=1,D$3,0) -> 0 | J24: =IF('Mapping template'!$J125=1,J$3,0) -> 0
D25: =IF('Mapping template'!$J48=1,D$3,0) -> 0 | J25: =IF('Mapping template'!$J126=1,J$3,0) -> 0
D26: =IF('Mapping template'!$J49=1,D$3,0) -> 0 | J26: =IF('Mapping template'!$J127=1,J$3,0) -> 0
J27: =IF('Mapping template'!$J128=1,J$3,0) -> 0
