Workbook

Sheet Guidance
B1: #VALUE!
B2: Coaching Assistant Mapping Template
B3: Edition: V2.1
B4: Publication date: 15th October 2024
B6: Mapping Guidance - you are here!
B7: Mapping template to reference and evidence where the professional standard is being met by the course/ participant/ qualification
B8: N.B. Examples (e.g.) are given within the LDRs to provide an overview of the knowledge and skills most relevant to the role. It is not mandatory to assess learners against 100% of the examples provided, however, sufficient coverage to ensure occupational competence on achievement must be ensured. This will be reviewed as part of the CIMSPA endorsement process.
B9: For non-regulated qualifications (CPD), where an Education Partner does not meet the full CIMSPA professional standard, it is important to note, that the Education Partner must meet a full Knowledge or Skill LDR. For example, all three sections within K1.1 would need to evidenced for that LDR to partially map to the professional standard.
B10: For further information around product development guidance, please refer to the professional standard within the professional standard library; https://www.cimspa.co.uk/education-training/professional-standards/professional-standards-library/
B11: Alternatively, please view our CIMPSA Partner Endorsement Guide;https://cimspa.co.uk/education-training/endorsement/
B13: Revision History
B14: Version | C14: Name & Role | D14: Signature & Date | E14: Reason for Change
A15: c | B15: V2.1 | C15: Aidan Riley Education Officer | D15: AR 07/10/24 | E15: Update to general formatting & implementation of conditional formating to streamline moderator feedback.
B19: E endorsements@cimspa.co.uk T 03438 360200 W www.cimspa.co.uk
B20: Chartered Institute for the Management of Sport and Physical Activity,
B21: SportPark Loughborough University, 3 Oakwood Drive, Loughborough, Leicestershire LE11 3QF
B22: Incorporated by Royal Charter Charity Registration No. 1144545

Sheet Mapping Template
E1: Education Product Title: INSERT HERE
A2: Professional Standard: Coaching Assistant | E2: Partner Mapping Section | J2: Moderator Feedback Section | Q2: IV Feedback Section
A3: Topic | B3: Competency | D3: Learning Outcome(s) | E3: Evidence (sign post to SOW / course specification / supporting documents) | F3: Assessment Method | G3: Further Comments (expand on evidence within column E) | H3: Response to Moderator Feedback Section (second review evidence - if applicable) | J3: Score | K3: Mapping to point | L3: % mapped to section | M3: Moderator comments | N3: General Feedback (first review) | O3: General Feedback (second review - if applicable) | Q3: IV Comments
A4: 1. Maximising the participant experience | B4: Ref | C4: Knowledge and understanding (K&U): | D4: A Coaching Assistant must:
B5: K1.1 | C5: Participant needs | D5: Summarise participant expectations and aspirations within the coaching environment. | K5: {=IF((AND(J5:J7=1)), "Fully Mapped", "Not/ Partially Mapped")} -> Not/ Partially Mapped | L5: =SUM('Workings out'!B5:B23) -> 0
D6: Explain how to build social support and inclusion within the coaching environment.
D7: Explain how to obtain feedback to support participant retention.
B8: K1.2 | C8: Customer service | D8: Explain the organisation’s products and offer. | K8: {=IF((AND(J8:J11=1)), "Fully Mapped", "Not/ Partially Mapped")} -> Not/ Partially Mapped
D9: Describe a typical participant journey in the coaching environment.
D10: Describe how to present themselves in a professional and approachable manner, in line with organisational standards.
D11: Explain the importance of participant retention and how to influence it.
B12: K1.3 | C12: Participant engagement | D12: Identify different methods to engage with participants: e.g. face-to-face, telephone, written (letters, email, posters), social media and digital technology. | K12: {=IF((AND(J12:J18=1)), "Fully Mapped", "Not/ Partially Mapped")} -> Not/ Partially Mapped
D13: Identify behaviour management strategies to support ongoing participant engagement.
D14: Identify basic learning theory to support personalised learning.
D15: Describe different types of conflict and how to manage them.
D16: Explain different methods to build rapport in order to maximise the participant experience.
D17: Explain how to promote safe and enjoyable use of the coaching environment.
D18: Explain the importance of being accessible and approachable to participants.
B19: K1.4 | C19: Communication | D19: Describe different communication techniques and how to use them: e.g. ­ Observation / non-verbal techniques / body language. ­ Open/closed questioning. ­ Active listening. | K19: {=IF((AND(J19:J20=1)), "Fully Mapped", "Not/ Partially Mapped")} -> Not/ Partially Mapped
D20: • Describe how to adapt communication methods to meet the needs of participants from differing backgrounds, cultures and sports / activity experience etc.
B21: K1.5 | C21: Participant feedback | D21: Summarise different methods to obtain participant feedback and channels of recording and reporting in line with organisational procedures. | K21: {=IF((AND(J21:J23=1)), "Fully Mapped", "Not/ Partially Mapped")} -> Not/ Partially Mapped
D22: Explain the feedback cycle.
D23: Explain the impact of the Coaching Assistant’s role on the participant experience.
B24: Ref | C24: Skills: | D24: A Coaching Assistant must be able to:
B25: S1.1 | C25: Participant data | D25: Interpret participant data in order to understand the different types of participants and their needs. | K25: {=IF((AND(J25:J26=1)), "Fully Mapped", "Not/ Partially Mapped")} -> Not/ Partially Mapped | L25: =SUM('Workings out'!C5:C13) -> 0
D26: Use participant data, including feedback, to amend activities appropriately
B27: S1.2 | C27: Participant engagement | D27: Demonstrate participant engagement: e.g. induct the participant, deal with participant enquiries. | K27: {=IF((AND(J27:J29=1)), "Fully Mapped", "Not/ Partially Mapped")} -> Not/ Partially Mapped
D28: Implement behaviour management strategies to support ongoing participant engagement.
D29: Apply learning theories to support personalised learning.
B30: S1.3 | C30: Customer service | D30: Demonstrate exemplary customer service, for example: problem solving, discretion, influencing, teamwork, suitable language use, etc. | K30: =IF((AND(J30=1)), "Fully Mapped", "Not/ Partially Mapped") -> Not/ Partially Mapped
B31: S1.4 | C31: Develop rapport with participants | D31: Develop rapport with participants in a friendly and approachable manner whilst respecting equality and diversity. | K31: =IF((AND(J31=1)), "Fully Mapped", "Not/ Partially Mapped") -> Not/ Partially Mapped
B32: S1.5 | C32: Professional demeanour | D32: Demonstrate a professional demeanour: e.g. dress, personal attributes, positive first impressions. | K32: =IF((AND(J32=1)), "Fully Mapped", "Not/ Partially Mapped") -> Not/ Partially Mapped
B33: S1.6 | C33: Communication | D33: Demonstrate communication methods appropriate to the participant. | K33: =IF((AND(J33=1)), "Fully Mapped", "Not/ Partially Mapped") -> Not/ Partially Mapped
A34: 2. Welfare of participants and providing a safe and inclusive coaching environment | B34: Ref | C34: K&U | D34: A Coaching Assistant must:
B35: K2.1 | C35: The person | D35: Identify the main things a Coaching Assistant should know about each individual participant: e.g. motivations, personal background, health background (physical and mental). | K35: =IF((AND(J35=1)), "Fully Mapped", "Not/ Partially Mapped") -> Not/ Partially Mapped | L35: =SUM('Workings out'!D5:D16) -> 0
B36: K2.2 | C36: Inclusive coaching environment | D36: Describe what makes an inclusive coaching environment. | K36: {=IF((AND(J36:J38=1)), "Fully Mapped", "Not/ Partially Mapped")} -> Not/ Partially Mapped
D37: Describe what makes an equitable coaching environment.
D38: Describe how to positively manage participant’s behaviour.
B39: K2.3 | C39: Duty of care | D39: Describe the coaching assistant’s role in the duty of care of the participant. | K39: =IF((AND(J39=1)), "Fully Mapped", "Not/ Partially Mapped") -> Not/ Partially Mapped
B40: K2.4 | C40: Specific equipment | D40: Describe the different types of equipment: e.g. simple, complex, powered. | K40: =IF((AND(J40=1)), "Fully Mapped", "Not/ Partially Mapped") -> Not/ Partially Mapped
...

Sheet 4. Mapping breakdown
B1: 4. Mapping Breakdown shows a breakdown of the percentage that your course has mapped to each sections knowledge and skills criteria, and the overall percentage that your course has mapped to the professional standard
D2: Sections | E2: Specifications | F2: %worth of each section | G2: Total % covered of area | H2: Section % of total standard | I2: % covered of entire standard
B3: 1 | C3: Knowledge | D3: 5 | E3: 19 | F3: =100/E3 -> 5.2631579 | G3: =SUM('Mapping Template'!L5:L23) -> 0 | H3: =(E3/E15)*100 -> 23.75 | I3: =(H3/100)*G3 -> 0
C4: Skills | D4: 6 | E4: 9 | F4: =100/E4 -> 11.111111 | G4: =SUM('Mapping Template'!L25:L33) -> 0 | H4: {=(E4/_xlfn.ANCHORARRAY(E15))*100} -> 11.25 | I4: =(H4/100)*G4 -> 0
B5: 2 | C5: Knowledge | D5: 8 | E5: 12 | F5: =100/E5 -> 8.3333333 | G5: =SUM('Mapping Template'!L35:L46) -> 0 | H5: =(E5/E15)*100 -> 15 | I5: =(H5/100)*G5 -> 0
C6: Skills | D6: 8 | E6: 9 | F6: =100/E6 -> 11.111111 | G6: =SUM('Mapping Template'!L48:L56) -> 0 | H6: =(E6/E15)*100 -> 11.25 | I6: =(H6/100)*G6 -> 0
B7: 3 | C7: Knowledge | D7: 5 | E7: 5 | F7: =100/E7 -> 20 | G7: =SUM('Mapping Template'!L58:L62) -> 0 | H7: =(E7/E15)*100 -> 6.25 | I7: =(H7/100)*G7 -> 0
C8: Skills | D8: 6 | E8: 7 | F8: =100/E8 -> 14.285714 | G8: =SUM('Mapping Template'!L64:L70) -> 0 | H8: =(E8/E15)*100 -> 8.75 | I8: =(H8/100)*G8 -> 0
B9: 4 | C9: Knowledge | D9: 5 | E9: 5 | F9: =100/E9 -> 20 | G9: =SUM('Mapping Template'!L72:L76) -> 0 | H9: =(E9/E15)*100 -> 6.25 | I9: =(H9/100)*G9 -> 0
C10: Skills | D10: 3 | E10: 5 | F10: =100/E10 -> 20 | G10: =SUM('Mapping Template'!L78:L82) -> 0 | H10: =(E10/E15)*100 -> 6.25 | I10: =(H10/100)*G10 -> 0
B11: 5 | C11: Knowledge | D11: 3 | E11: 3 | F11: =100/E11 -> 33.333333 | G11: =SUM('Mapping Template'!L84:L86) -> 0 | H11: =(E11/E15)*100 -> 3.75 | I11: =(H11/100)*G11 -> 0
C12: Skills | D12: 3 | E12: 3 | F12: =100/E12 -> 33.333333 | G12: =SUM('Mapping Template'!L88:L90) -> 0 | H12: =(E12/E15)*100 -> 3.75 | I12: =(H12/100)*G12 -> 0
B13: 6 | C13: Knowledge | D13: 2 | E13: 2 | F13: =100/E13 -> 50 | G13: =SUM('Mapping Template'!L92:L93) -> 0 | H13: =(E13/E15)*100 -> 2.5 | I13: =(H13/100)*G13 -> 0
C14: Skills | D14: 1 | E14: 1 | F14: =100/E14 -> 100 | G14: =SUM('Mapping Template'!L95:L95) -> 0 | H14: =(E14/E15)*100 -> 1.25 | I14: =(H14/100)*G14 -> 0
B15: Totals | D15: =SUM(D3:D14) -> 55 | E15: =SUM(E3:E14) -> 80 | H15: =SUM(H3:H14) -> 100 | I15: =SUM(I3:I14) -> 0

Sheet Feedback
A1: Standardised feedback comments | B1: Assessment methods
A2: Comprehensive evidence | B2: Assignment
A3: Sufficient evidence | B3: Case study
A4: Further evidence required | B4: Dissertation
B5: Exam
B6: Written test
B7: Listening test
B8: Oral test
B9: Performance/ practical
B10: Portfolio
B11: Professional discussion
B12: Project
B13: Simulation
B14: Online test
B15: Attendence only
B16: Multiple (please specify)
B17: Other (please specify)

Sheet Workings out
A1: Calculating the totally percentage of knowledge/ skill covered in each section
B2: K1 | C2: S1 | D2: K2 | E2: S2 | F2: K3 | G2: S3 | H2: K4 | I2: S4 | J2: K5 | K2: S5 | L2: K6 | M2: S6
A3: % value | B3: 5.2631579 | C3: 11.111111 | D3: 8.3333333 | E3: 11.111111 | F3: 20 | G3: 14.285714 | H3: 20 | I3: 20 | J3: 33.333333 | K3: 33.333333 | L3: 50 | M3: 100
A4: # spec | B4: 19 | C4: 9 | D4: 12 | E4: 9 | F4: 5 | G4: 7 | H4: 5 | I4: 5 | J4: 3 | K4: 3 | L4: 2 | M4: 1
A5: Sections | B5: =IF('Mapping Template'!$J5=1,B$3,0) -> 0 | C5: =IF('Mapping Template'!$J25=1,C$3,0) -> 0 | D5: =IF('Mapping Template'!$J35=1,D$3,0) -> 0 | E5: =IF('Mapping Template'!$J48=1,E$3,0) -> 0 | F5: =IF('Mapping Template'!$J58=1,F$3,0) -> 0 | G5: =IF('Mapping Template'!$J64=1,G$3,0) -> 0 | H5: =IF('Mapping Template'!$J72=1,H$3,0) -> 0 | I5: =IF('Mapping Template'!$J78=1,I$3,0) -> 0 | J5: =IF('Mapping Template'!$J84=1,J$3,0) -> 0 | K5: =IF('Mapping Template'!$J88=1,K$3,0) -> 0 | L5: =IF('Mapping Template'!$J92=1,L$3,0) -> 0 | M5: =IF('Mapping Template'!$J95=1,M$3,0) -> 0
B6: =IF('Mapping Template'!$J6=1,B$3,0) -> 0 | C6: =IF('Mapping Template'!$J26=1,C$3,0) -> 0 | D6: =IF('Mapping Template'!$J36=1,D$3,0) -> 0 | E6: =IF('Mapping Template'!$J49=1,E$3,0) -> 0 | F6: =IF('Mapping Template'!$J59=1,F$3,0) -> 0 | G6: =IF('Mapping Template'!$J65=1,G$3,0) -> 0 | H6: =IF('Mapping Template'!$J73=1,H$3,0) -> 0 | I6: =IF('Mapping Template'!$J79=1,I$3,0) -> 0 | J6: =IF('Mapping Template'!$J85=1,J$3,0) -> 0 | K6: =IF('Mapping Template'!$J89=1,K$3,0) -> 0 | L6: =IF('Mapping Template'!$J93=1,L$3,0) -> 0
B7: =IF('Mapping Template'!$J7=1,B$3,0) -> 0 | C7: =IF('Mapping Template'!$J27=1,C$3,0) -> 0 | D7: =IF('Mapping Template'!$J37=1,D$3,0) -> 0 | E7: =IF('Mapping Template'!$J50=1,E$3,0) -> 0 | F7: =IF('Mapping Template'!$J60=1,F$3,0) -> 0 | G7: =IF('Mapping Template'!$J66=1,G$3,0) -> 0 | H7: =IF('Mapping Template'!$J74=1,H$3,0) -> 0 | I7: =IF('Mapping Template'!$J80=1,I$3,0) -> 0 | J7: =IF('Mapping Template'!$J86=1,J$3,0) -> 0 | K7: =IF('Mapping Template'!$J90=1,K$3,0) -> 0
B8: =IF('Mapping Template'!$J8=1,B$3,0) -> 0 | C8: =IF('Mapping Template'!$J28=1,C$3,0) -> 0 | D8: =IF('Mapping Template'!$J38=1,D$3,0) -> 0 | E8: =IF('Mapping Template'!$J51=1,E$3,0) -> 0 | F8: =IF('Mapping Template'!$J61=1,F$3,0) -> 0 | G8: =IF('Mapping Template'!$J67=1,G$3,0) -> 0 | H8: =IF('Mapping Template'!$J75=1,H$3,0) -> 0 | I8: =IF('Mapping Template'!$J81=1,I$3,0) -> 0
B9: =IF('Mapping Template'!$J9=1,B$3,0) -> 0 | C9: =IF('Mapping Template'!$J29=1,C$3,0) -> 0 | D9: =IF('Mapping Template'!$J39=1,D$3,0) -> 0 | E9: =IF('Mapping Template'!$J52=1,E$3,0) -> 0 | F9: =IF('Mapping Template'!$J62=1,F$3,0) -> 0 | G9: =IF('Mapping Template'!$J68=1,G$3,0) -> 0 | H9: =IF('Mapping Template'!$J76=1,H$3,0) -> 0 | I9: =IF('Mapping Template'!$J82=1,I$3,0) -> 0
B10: =IF('Mapping Template'!$J10=1,B$3,0) -> 0 | C10: =IF('Mapping Template'!$J30=1,C$3,0) -> 0 | D10: =IF('Mapping Template'!$J40=1,D$3,0) -> 0 | E10: =IF('Mapping Template'!$J53=1,E$3,0) -> 0 | G10: =IF('Mapping Template'!$J69=1,G$3,0) -> 0
B11: =IF('Mapping Template'!$J11=1,B$3,0) -> 0 | C11: =IF('Mapping Template'!$J31=1,C$3,0) -> 0 | D11: =IF('Mapping Template'!$J41=1,D$3,0) -> 0 | E11: =IF('Mapping Template'!$J54=1,E$3,0) -> 0 | G11: =IF('Mapping Template'!$J70=1,G$3,0) -> 0
B12: =IF('Mapping Template'!$J12=1,B$3,0) -> 0 | C12: =IF('Mapping Template'!$J32=1,C$3,0) -> 0 | D12: =IF('Mapping Template'!$J42=1,D$3,0) -> 0 | E12: =IF('Mapping Template'!$J55=1,E$3,0) -> 0
B13: =IF('Mapping Template'!$J13=1,B$3,0) -> 0 | C13: =IF('Mapping Template'!$J33=1,C$3,0) -> 0 | D13: =IF('Mapping Template'!$J43=1,D$3,0) -> 0 | E13: =IF('Mapping Template'!$J56=1,E$3,0) -> 0
B14: =IF('Mapping Template'!$J14=1,B$3,0) -> 0 | D14: =IF('Mapping Template'!$J44=1,D$3,0) -> 0
B15: =IF('Mapping Template'!$J15=1,B$3,0) -> 0 | D15: =IF('Mapping Template'!$J45=1,D$3,0) -> 0
B16: =IF('Mapping Template'!$J16=1,B$3,0) -> 0 | D16: =IF('Mapping Template'!$J46=1,D$3,0) -> 0
B17: =IF('Mapping Template'!$J17=1,B$3,0) -> 0
B18: =IF('Mapping Template'!$J18=1,B$3,0) -> 0
B19: =IF('Mapping Template'!$J19=1,B$3,0) -> 0
B20: =IF('Mapping Template'!$J20=1,B$3,0) -> 0
B21: =IF('Mapping Template'!$J21=1,B$3,0) -> 0
B22: =IF('Mapping Template'!$J22=1,B$3,0) -> 0
B23: =IF('Mapping Template'!$J23=1,B$3,0) -> 0
