Workbook

Sheet Guidance
B1: #VALUE!
B2: Entry Manager Mapping Template
B3: Edition: V2
B4: Publication date: 1st August 2024
B6: Mapping Guidance - you are here!
B7: Mapping template to reference and evidence where the professional standard is being met by the course/ participant/ qualification
B8: N.B. Examples (e.g.) are given within the LDRs to provide an overview of the knowledge and skills most relevant to the role. It is not mandatory to assess learners against 100% of the examples provided, however, sufficient coverage to ensure occupational competence on achievement must be ensured. This will be reviewed as part of the CIMSPA endorsement process.
B9: For non-regulated qualifications (CPD), where an Education Partner does not meet the full CIMSPA professional standard, it is important to note, that the Education Partner must meet a full Knowledge or Skill LDR. For example, all three sections within K1.1 would need to evidence for that LDR to partially map to the professional standard.
B10: For further information around product development guidance, please refer to the professional standard within the professional standard library; https://www.cimspa.co.uk/education-training/professional-standards/professional-standards-library/
B11: Alternatively, please view our CIMPSA Partner Endorsement Guide;https://cimspa.co.uk/education-training/endorsement/
B13: Revision History
B14: Version | C14: Name & Role | D14: Signature & Date | E14: Reason for Change
A15: c | B15: V2 | C15: Aidan Riley Education Officer | D15: AR 30/07/24 | E15: Update to general formatting & implementation of conditional formatting to streamline moderator feedback.
B19: E endorsements@cimspa.co.uk T 03438 360200 W www.cimspa.co.uk
B20: Chartered Institute for the Management of Sport and Physical Activity,
B21: SportPark Loughborough University, 3 Oakwood Drive, Loughborough, Leicestershire LE11 3QF
B22: Incorporated by Royal Charter Charity Registration No. 1144545

Sheet Mapping Template
E1: Education Product Title: INSERT HERE
A2: Professional Standard: Entry Manager | E2: Partner Mapping Section | J2: Moderator Feedback Section | Q2: IV Feedback Section
A3: Topic | B3: Competency | D3: Learning Outcome(s) | E3: Evidence (sign post to SOW / course specification / supporting documents) | F3: Assessment method | G3: Further comments (expand on evidence within column E) | H3: Response to moderator feedback section (second review evidence - if applicable) | J3: Score | K3: Mapping to point | L3: % mapped to section | M3: Moderator comments | N3: General feedback (first review) | O3: General feedback (second review - if applicable) | Q3: IV comments
A4: 1. Resolve Customer Complaints | B4: Key Management Theme 1: Service Improvement
B5: Ref | C5: Knowledge and understanding (K&U): | D5: An Entry Manager must:
B6: KC1.1 | C6: Understand the monitoring and resolution of customer complaints | D6: Assess the suitability of a range of monitoring techniques for customer complaints. | K6: =IF((AND(J6=1,J7=1,J8=1,J9=1,J10=1,J11=1,J12=1,J13=1)), "Fully Mapped", "Not/ Partially Mapped") -> Not/ Partially Mapped | L6: =SUM('Workings out'!B4:B11) -> 0
D7: Explain how to identify which complaints should prompt a review of the service offer and service delivery.
D8: Explain negotiating techniques used to resolve customer complaints including problem solving and decision making.
D9: Explain conflict management techniques used in dealing with upset customers.
D10: Explain organisational procedures for dealing with customer complaints.
D11: Explain when to escalate customer complaints.
D12: Explain the cost and regulatory implications of admitting liability on the basis of a customer complaint.
D13: Explain the advantages and limitations of offering compensation or replacement products and/or services.
B14: Ref | C14: Skills | D14: An Entry Manager must be able to:
B15: SC1.1 | C15: Be able to deal with customer complaints | D15: Confirm the nature, cause and implications of customer complaints. | K15: {=IF((AND(J15:J23=1)), "Fully Mapped", "Not/ Partially Mapped")} -> Not/ Partially Mapped | L15: =SUM('Workings out'!C4:C12) -> 0
D16: Take personal responsibility for dealing with complaints.
D17: Communicate in a way that recognises customer problems and understands their points of view.
D18: Explain the advantages and limitations of different complaint response options to customers.
D19: Explain the advantages and limitations of different complaint response options to the organisation.
D20: Keep customers informed of progress.
D21: Agree complaint resolution and solutions with customers that address the complaint, and which are within the limits of their own responsibility.
D22: Record the outcome of the handling of complaints for future reference.
D23: Adhere to organisational policies and procedures, legal and ethical requirements, when dealing with customers’ complaints.
B24: Ref | C24: K&U | D24: An Entry Manager must:
A25: 2. Manage and improve customer service delivery | B25: KC2.1 | C25: Understand how to monitor the quality of customer service interactions | D25: Describe techniques for monitoring the quality of customer service. | K25: {=IF((AND(J25:J32=1)), "Fully Mapped", "Not/ Partially Mapped")} -> Not/ Partially Mapped | L25: =SUM('Workings out'!D4:D16) -> 0
D26: Explain organisational procedures and guidelines for customer service delivery.
D27: Explain the advantages and limitations of different methods for monitoring the quality of customer service.
D28: Explain how to construct a representative sample of customer service interactions for monitoring purposes.
D29: Explain how to ensure continuous improvement in customer service delivery.
D30: Explain how data protection legislation applies to monitoring the quality of customer service.
D31: Explain how monitoring actions can identify possible improvements in customer service.
D32: Explain techniques used to gather customer feedback.
B33: KC2.2 | C33: Understand how to organise the delivery of reliable customer service | D33: Explain the resource implications of managing absence, staff sickness and leave and the manager’s responsibility for maintaining customer service. | K33: {=IF((AND(J33:J37=1)), "Fully Mapped", "Not/ Partially Mapped")} -> Not/ Partially Mapped
D34: Explain the importance in providing reliable and efficient information for customers and the organisation.
D35: Explain how to communicate feedback from customers to others.
D36: Explain the organisation’s procedures and systems for recording, storing, retrieving and supplying customer service information.
D37: Explain the role of the customer in the product development life-cycle.
B38: Ref | C38: Skills | D38: An Entry Manager must be able to:
B39: SC2.1 | C39: Be able to prepare to monitor the quality of customer service interactions | D39: Identify the criteria against which the quality of customer service will be monitored. | K39: {=IF((AND(J39:J42=1)), "Fully Mapped", "Not/ Partially Mapped")} -> Not/ Partially Mapped | L39: =SUM('Workings out'!E4:E18) -> 0
D40: Identify a sampling framework that will provide information to achieve monitoring objectives.
...

Sheet Mapping results
B1: 4. Mapping Breakdown shows a breakdown of the percentage that your course has mapped to each sections knowledge and skills criteria, and the overall percentage that your course has mapped to the professional standard
B2: Section | D2: No of Sections | E2: No of Specifications | F2: %worth of each specification | G2: Total % covered of area | H2: Section % of total standard | I2: % covered of entire standard
B3: 1 | C3: Knowledge | D3: 1 | E3: 8 | F3: =100/E3 -> 12.5 | G3: =SUM('Mapping Template'!L6:L13) -> 0 | H3: =(E3/E32)*100 -> 1.826484 | I3: =(H3/100)*G3 -> 0
C4: Skills | D4: 1 | E4: 9 | F4: =100/E4 -> 11.111111 | G4: =SUM('Mapping Template'!L15:L23) -> 0 | H4: =(E4/E32)*100 -> 2.0547945 | I4: =(H4/100)*G4 -> 0
B5: 2 | C5: Knowledge | D5: 2 | E5: 13 | F5: =100/E5 -> 7.6923077 | G5: =SUM('Mapping Template'!L25:L37) -> 0 | H5: =(E5/E32)*100 -> 2.9680365 | I5: =(H5/100)*G5 -> 0
C6: Skills | D6: 3 | E6: 15 | F6: =100/E6 -> 6.6666667 | G6: =SUM('Mapping Template'!L39:L53) -> 0 | H6: =(E6/E32)*100 -> 3.4246575 | I6: =(H6/100)*G6 -> 0
B7: 3 | C7: Knowledge | D7: 1 | E7: 10 | F7: =100/E7 -> 10 | G7: =SUM('Mapping Template'!L56:L65) -> 0 | H7: =(E7/E32)*100 -> 2.283105 | I7: =(H7/100)*G7 -> 0
C8: Skills | D8: 3 | E8: 20 | F8: =100/E8 -> 5 | G8: =SUM('Mapping Template'!L67:L86) -> 0 | H8: =(E8/E32)*100 -> 4.56621 | I8: =(H8/100)*G8 -> 0
B9: 4 | C9: Knowledge | D9: 5 | E9: 30 | F9: =100/E9 -> 3.3333333 | G9: =SUM('Mapping Template'!L88:L117) -> 0 | H9: =(E9/E32)*100 -> 6.8493151 | I9: =(H9/100)*G9 -> 0
C10: Skills | D10: 3 | E10: 12 | F10: =100/E10 -> 8.3333333 | G10: =SUM('Mapping Template'!L119:L130) -> 0 | H10: =(E10/E32)*100 -> 2.739726 | I10: =(H10/100)*G10 -> 0
B11: 5 | C11: Knowledge | D11: 6 | E11: 28 | F11: =100/E11 -> 3.5714286 | G11: =SUM('Mapping Template'!L132:L159) -> 0 | H11: =(E11/$E$32)*100 -> 6.3926941 | I11: =(H11/100)*G11 -> 0
B12: 6 | C12: Knowledge | D12: 2 | E12: 13 | F12: =100/E12 -> 7.6923077 | G12: =SUM('Mapping Template'!L160:L172) -> 0 | H12: =(E12/$E$32)*100 -> 2.9680365 | I12: =(H12/100)*G12 -> 0
C13: Skills | D13: 4 | E13: 15 | F13: =100/E13 -> 6.6666667 | G13: =SUM('Mapping Template'!L174:L188) -> 0 | H13: =(E13/$E$32)*100 -> 3.4246575 | I13: =(H13/100)*G13 -> 0
B14: 7 | C14: Knowledge | D14: 2 | E14: 8 | F14: =100/E14 -> 12.5 | G14: =SUM('Mapping Template'!L191:L198) -> 0 | H14: =(E14/$E$32)*100 -> 1.826484 | I14: =(H14/100)*G14 -> 0
C15: Skills | D15: 2 | E15: 9 | F15: =100/E15 -> 11.111111 | G15: =SUM('Mapping Template'!L200:L208) -> 0 | H15: =(E15/$E$32)*100 -> 2.0547945 | I15: =(H15/100)*G15 -> 0
B16: 8 | C16: Knowledge | D16: 2 | E16: 9 | F16: =100/E16 -> 11.111111 | G16: =SUM('Mapping Template'!L210:L218) -> 0 | H16: =(E16/$E$32)*100 -> 2.0547945 | I16: =(H16/100)*G16 -> 0
B17: 9 | C17: Knowledge | D17: 2 | E17: 15 | F17: =100/E17 -> 6.6666667 | G17: =SUM('Mapping Template'!L219:L233) -> 0 | H17: =(E17/$E$32)*100 -> 3.4246575 | I17: =(H17/100)*G17 -> 0
C18: Skills | D18: 2 | E18: 12 | F18: =100/E18 -> 8.3333333 | G18: =SUM('Mapping Template'!L235:L246) -> 0 | H18: =(E18/$E$32)*100 -> 2.739726 | I18: =(H18/100)*G18 -> 0
B19: 10 | C19: Knowledge | D19: 3 | E19: 16 | F19: =100/E19 -> 6.25 | G19: =SUM('Mapping Template'!L249:L264) -> 0 | H19: =(E19/$E$32)*100 -> 3.652968 | I19: =(H19/100)*G19 -> 0
C20: Skills | D20: 3 | E20: 7 | F20: =100/E20 -> 14.285714 | G20: =SUM('Mapping Template'!L266:L272) -> 0 | H20: =(E20/$E$32)*100 -> 1.5981735 | I20: =(H20/100)*G20 -> 0
B21: 11 | C21: Knowledge | D21: 1 | E21: 5 | F21: =100/E21 -> 20 | G21: =SUM('Mapping Template'!L274:L278) -> 0 | H21: =(E21/$E$32)*100 -> 1.1415525 | I21: =(H21/100)*G21 -> 0
C22: Skills | D22: 3 | E22: 17 | F22: =100/E22 -> 5.8823529 | G22: =SUM('Mapping Template'!L280:L296) -> 0 | H22: =(E22/$E$32)*100 -> 3.8812785 | I22: =(H22/100)*G22 -> 0
B23: 12 | C23: Knowledge | D23: 5 | E23: 24 | F23: =100/E23 -> 4.1666667 | G23: =SUM('Mapping Template'!L299:L322) -> 0 | H23: =(E23/$E$32)*100 -> 5.4794521 | I23: =(H23/100)*G23 -> 0
B24: 13 | C24: Knowledge | D24: 4 | E24: 16 | F24: =100/E24 -> 6.25 | G24: =SUM('Mapping Template'!L323:L338) -> 0 | H24: =(E24/$E$32)*100 -> 3.652968 | I24: =(H24/100)*G24 -> 0
B25: 14 | C25: Knowledge | D25: 1 | E25: 18 | F25: =100/E25 -> 5.5555556 | G25: =SUM('Mapping Template'!L339:L356) -> 0 | H25: =(E25/$E$32)*100 -> 4.109589 | I25: =(H25/100)*G25 -> 0
B26: 15 | C26: Knowledge | D26: 5 | E26: 24 | F26: =100/E26 -> 4.1666667 | G26: =SUM('Mapping Template'!L359:L382) -> 0 | H26: =(E26/$E$32)*100 -> 5.4794521 | I26: =(H26/100)*G26 -> 0
B27: 16 | C27: Knowledge | D27: 4 | E27: 16 | F27: =100/E27 -> 6.25 | G27: =SUM('Mapping Template'!L383:L398) -> 0 | H27: =(E27/$E$32)*100 -> 3.652968 | I27: =(H27/100)*G27 -> 0
B28: 17 | C28: Knowledge | D28: 1 | E28: 15 | F28: =100/E28 -> 6.6666667 | G28: =SUM('Mapping Template'!L399:L413) -> 0 | H28: =(E28/$E$32)*100 -> 3.4246575 | I28: =(H28/100)*G28 -> 0
B29: 18 | C29: Knowledge | D29: 4 | E29: 32 | F29: =100/E29 -> 3.125 | G29: =SUM('Mapping Template'!L416:L447) -> 0 | H29: =(E29/$E$32)*100 -> 7.3059361 | I29: =(H29/100)*G29 -> 0
C30: Skills | D30: 3 | E30: 9 | F30: =100/E30 -> 11.111111 | G30: =SUM('Mapping Template'!L449:L457) -> 0 | H30: =(E30/$E$32)*100 -> 2.0547945 | I30: =(H30/100)*G30 -> 0
B31: 19 | C31: Knowledge | D31: 4 | E31: 13 | F31: =100/E31 -> 7.6923077 | G31: =SUM('Mapping Template'!L460:L472) -> 0 | H31: =(E31/$E$32)*100 -> 2.9680365 | I31: =(H31/100)*G31 -> 0
C32: Totals | D32: =SUM(D3:D16) -> 37 | E32: =SUM(E3:E31) -> 438 | H32: =SUM(H3:H31) -> 100 | I32: =SUM(I3:I16) -> 0

Sheet Feedback
A1: Standardised feedback comments | B1: Assessment methods
A2: Comprehensive evidence | B2: Assignment
A3: Sufficient evidence | B3: Case study
A4: Further evidence required | B4: Dissertation
B5: Exam
B6: Written test
B7: Listening test
B8: Oral test
B9: Performance/ practical
B10: Portfolio
B11: Professional discussion
B12: Project
B13: Simulation
B14: Online test
B15: Attendence only
B16: Multiple
B17: Other

Sheet Workings out
B1: K1 | C1: S1 | D1: K2 | E1: S2 | F1: K3 | G1: S3 | H1: K4 | I1: S4 | J1: K5 | K1: K6 | L1: S6 | M1: K7 | N1: S7 | O1: K8 | P1: K9 | Q1: S9 | R1: K10 | S1: S10 | T1: K11 | U1: S11 | V1: K12 | W1: K13 | X1: K14 | Y1: K15 | Z1: K16 | AA1: K17 | AB1: K18 | AC1: S18 | AD1: K19
A2: % value | B2: ='Mapping results'!$F3 -> 12.5 | C2: ='Mapping results'!$F3 -> 12.5 | D2: ='Mapping results'!$F5 -> 7.6923077 | E2: ='Mapping results'!$F6 -> 6.6666667 | F2: ='Mapping results'!$F7 -> 10 | G2: ='Mapping results'!$F8 -> 5 | H2: ='Mapping results'!$F9 -> 3.3333333 | I2: ='Mapping results'!$F10 -> 8.3333333 | J2: ='Mapping results'!$F11 -> 3.5714286 | K2: ='Mapping results'!$F12 -> 7.6923077 | L2: ='Mapping results'!$F13 -> 6.6666667 | M2: ='Mapping results'!$F14 -> 12.5 | N2: ='Mapping results'!$F15 -> 11.111111 | O2: ='Mapping results'!$F16 -> 11.111111 | P2: ='Mapping results'!$F17 -> 6.6666667 | Q2: ='Mapping results'!$F18 -> 8.3333333 | R2: ='Mapping results'!$F19 -> 6.25 | S2: ='Mapping results'!$F20 -> 14.285714 | T2: ='Mapping results'!$F21 -> 20 | U2: ='Mapping results'!$F22 -> 5.8823529 | V2: ='Mapping results'!$F23 -> 4.1666667 | W2: ='Mapping results'!$F24 -> 6.25 | X2: ='Mapping results'!$F25 -> 5.5555556 | Y2: ='Mapping results'!$F26 -> 4.1666667 | Z2: ='Mapping results'!$F27 -> 6.25 | AA2: ='Mapping results'!$F28 -> 6.6666667 | AB2: ='Mapping results'!$F29 -> 3.125 | AC2: ='Mapping results'!$F30 -> 11.111111 | AD2: ='Mapping results'!$F31 -> 7.6923077
A3: # spec | B3: 8 | C3: 9 | D3: 13 | E3: 15 | F3: 10 | G3: 20 | H3: 30 | I3: 12 | J3: 28 | K3: 13 | L3: 15 | M3: 8 | N3: 9 | O3: 9 | P3: 15 | Q3: 12 | R3: 16 | S3: 7 | T3: 5 | U3: 17 | V3: 24 | W3: 16 | X3: 18 | Y3: 24 | Z3: 16 | AA3: 15 | AB3: 32 | AC3: 9 | AD3: 13
B4: =IF('Mapping Template'!$J6=1,$B$2,0) -> 0 | C4: =IF('Mapping Template'!$J15=1,C$2,0) -> 0 | D4: =IF('Mapping Template'!$J25=1,D$2,0) -> 0 | E4: =IF('Mapping Template'!$J39=1,E$2,0) -> 0 | F4: =IF('Mapping Template'!$J56=1,F$2,0) -> 0 | G4: =IF('Mapping Template'!$J67=1,G$2,0) -> 0 | H4: =IF('Mapping Template'!$J88=1,H$2,0) -> 0 | I4: =IF('Mapping Template'!$J119=1,I$2,0) -> 0 | J4: =IF('Mapping Template'!$J132=1,J$2,0) -> 0 | K4: =IF('Mapping Template'!$J160=1,K$2,0) -> 0 | L4: =IF('Mapping Template'!$J74=1,L$2,0) -> 0 | M4: =IF('Mapping Template'!$J1191=1,M$2,0) -> 0 | N4: =IF('Mapping Template'!$J200=1,N$2,0) -> 0 | O4: =IF('Mapping Template'!$J210=1,O$2,0) -> 0 | P4: =IF('Mapping Template'!$J219=1,P$2,0) -> 0 | Q4: =IF('Mapping Template'!$J235=1,Q$2,0) -> 0 | R4: =IF('Mapping Template'!$J249=1,R$2,0) -> 0 | S4: =IF('Mapping Template'!$J266=1,S$2,0) -> 0 | T4: =IF('Mapping Template'!$J274=1,T$2,0) -> 0 | U4: =IF('Mapping Template'!$J280=1,U$2,0) -> 0 | V4: =IF('Mapping Template'!$J299=1,V$2,0) -> 0 | W4: =IF('Mapping Template'!$J323=1,W$2,0) -> 0 | X4: =IF('Mapping Template'!$J339=1,X$2,0) -> 0 | Y4: =IF('Mapping Template'!$J359=1,Y$2,0) -> 0 | Z4: =IF('Mapping Template'!$J383=1,Z$2,0) -> 0 | AA4: =IF('Mapping Template'!$J399=1,AA$2,0) -> 0 | AB4: =IF('Mapping Template'!$J416=1,AB$2,0) -> 0 | AC4: =IF('Mapping Template'!$J449=1,AC$2,0) -> 0 | AD4: =IF('Mapping Template'!$J460=1,AD$2,0) -> 0
B5: =IF('Mapping Template'!$J7=1,$B$2,0) -> 0 | C5: =IF('Mapping Template'!$J16=1,C$2,0) -> 0 | D5: =IF('Mapping Template'!$J26=1,D$2,0) -> 0 | E5: =IF('Mapping Template'!$J40=1,E$2,0) -> 0 | F5: =IF('Mapping Template'!$J57=1,F$2,0) -> 0 | G5: =IF('Mapping Template'!$J68=1,G$2,0) -> 0 | H5: =IF('Mapping Template'!$J89=1,H$2,0) -> 0 | I5: =IF('Mapping Template'!$J120=1,I$2,0) -> 0 | J5: =IF('Mapping Template'!$J133=1,J$2,0) -> 0 | K5: =IF('Mapping Template'!$J161=1,K$2,0) -> 0 | L5: =IF('Mapping Template'!$J75=1,L$2,0) -> 0 | M5: =IF('Mapping Template'!$J1192=1,M$2,0) -> 0 | N5: =IF('Mapping Template'!$J201=1,N$2,0) -> 0 | O5: =IF('Mapping Template'!$J211=1,O$2,0) -> 0 | P5: =IF('Mapping Template'!$J220=1,P$2,0) -> 0 | Q5: =IF('Mapping Template'!$J236=1,Q$2,0) -> 0 | R5: =IF('Mapping Template'!$J250=1,R$2,0) -> 0 | S5: =IF('Mapping Template'!$J267=1,S$2,0) -> 0 | T5: =IF('Mapping Template'!$J275=1,T$2,0) -> 0 | U5: =IF('Mapping Template'!$J281=1,U$2,0) -> 0 | V5: =IF('Mapping Template'!$J300=1,V$2,0) -> 0 | W5: =IF('Mapping Template'!$J324=1,W$2,0) -> 0 | X5: =IF('Mapping Template'!$J340=1,X$2,0) -> 0 | Y5: =IF('Mapping Template'!$J360=1,Y$2,0) -> 0 | Z5: =IF('Mapping Template'!$J384=1,Z$2,0) -> 0 | AA5: =IF('Mapping Template'!$J400=1,AA$2,0) -> 0 | AB5: =IF('Mapping Template'!$J417=1,AB$2,0) -> 0 | AC5: =IF('Mapping Template'!$J450=1,AC$2,0) -> 0 | AD5: =IF('Mapping Template'!$J461=1,AD$2,0) -> 0
B6: =IF('Mapping Template'!$J8=1,$B$2,0) -> 0 | C6: =IF('Mapping Template'!$J17=1,C$2,0) -> 0 | D6: =IF('Mapping Template'!$J27=1,D$2,0) -> 0 | E6: =IF('Mapping Template'!$J41=1,E$2,0) -> 0 | F6: =IF('Mapping Template'!$J58=1,F$2,0) -> 0 | G6: =IF('Mapping Template'!$J69=1,G$2,0) -> 0 | H6: =IF('Mapping Template'!$J90=1,H$2,0) -> 0 | I6: =IF('Mapping Template'!$J121=1,I$2,0) -> 0 | J6: =IF('Mapping Template'!$J134=1,J$2,0) -> 0 | K6: =IF('Mapping Template'!$J162=1,K$2,0) -> 0 | L6: =IF('Mapping Template'!$J76=1,L$2,0) -> 0 | M6: =IF('Mapping Template'!$J1193=1,M$2,0) -> 0 | N6: =IF('Mapping Template'!$J202=1,N$2,0) -> 0 | O6: =IF('Mapping Template'!$J212=1,O$2,0) -> 0 | P6: =IF('Mapping Template'!$J221=1,P$2,0) -> 0 | Q6: =IF('Mapping Template'!$J237=1,Q$2,0) -> 0 | R6: =IF('Mapping Template'!$J251=1,R$2,0) -> 0 | S6: =IF('Mapping Template'!$J268=1,S$2,0) -> 0 | T6: =IF('Mapping Template'!$J276=1,T$2,0) -> 0 | U6: =IF('Mapping Template'!$J282=1,U$2,0) -> 0 | V6: =IF('Mapping Template'!$J301=1,V$2,0) -> 0 | W6: =IF('Mapping Template'!$J325=1,W$2,0) -> 0 | X6: =IF('Mapping Template'!$J341=1,X$2,0) -> 0 | Y6: =IF('Mapping Template'!$J361=1,Y$2,0) -> 0 | Z6: =IF('Mapping Template'!$J385=1,Z$2,0) -> 0 | AA6: =IF('Mapping Template'!$J401=1,AA$2,0) -> 0 | AB6: =IF('Mapping Template'!$J418=1,AB$2,0) -> 0 | AC6: =IF('Mapping Template'!$J451=1,AC$2,0) -> 0 | AD6: =IF('Mapping Template'!$J462=1,AD$2,0) -> 0
B7: =IF('Mapping Template'!$J9=1,$B$2,0) -> 0 | C7: =IF('Mapping Template'!$J18=1,C$2,0) -> 0 | D7: =IF('Mapping Template'!$J28=1,D$2,0) -> 0 | E7: =IF('Mapping Template'!$J42=1,E$2,0) -> 0 | F7: =IF('Mapping Template'!$J59=1,F$2,0) -> 0 | G7: =IF('Mapping Template'!$J70=1,G$2,0) -> 0 | H7: =IF('Mapping Template'!$J91=1,H$2,0) -> 0 | I7: =IF('Mapping Template'!$J122=1,I$2,0) -> 0 | J7: =IF('Mapping Template'!$J135=1,J$2,0) -> 0 | K7: =IF('Mapping Template'!$J163=1,K$2,0) -> 0 | L7: =IF('Mapping Template'!$J77=1,L$2,0) -> 0 | M7: =IF('Mapping Template'!$J1194=1,M$2,0) -> 0 | N7: =IF('Mapping Template'!$J203=1,N$2,0) -> 0 | O7: =IF('Mapping Template'!$J213=1,O$2,0) -> 0 | P7: =IF('Mapping Template'!$J222=1,P$2,0) -> 0 | Q7: =IF('Mapping Template'!$J238=1,Q$2,0) -> 0 | R7: =IF('Mapping Template'!$J252=1,R$2,0) -> 0 | S7: =IF('Mapping Template'!$J269=1,S$2,0) -> 0 | T7: =IF('Mapping Template'!$J277=1,T$2,0) -> 0 | U7: =IF('Mapping Template'!$J283=1,U$2,0) -> 0 | V7: =IF('Mapping Template'!$J302=1,V$2,0) -> 0 | W7: =IF('Mapping Template'!$J326=1,W$2,0) -> 0 | X7: =IF('Mapping Template'!$J342=1,X$2,0) -> 0 | Y7: =IF('Mapping Template'!$J362=1,Y$2,0) -> 0 | Z7: =IF('Mapping Template'!$J386=1,Z$2,0) -> 0 | AA7: =IF('Mapping Template'!$J402=1,AA$2,0) -> 0 | AB7: =IF('Mapping Template'!$J419=1,AB$2,0) -> 0 | AC7: =IF('Mapping Template'!$J452=1,AC$2,0) -> 0 | AD7: =IF('Mapping Template'!$J463=1,AD$2,0) -> 0
B8: =IF('Mapping Template'!$J10=1,$B$2,0) -> 0 | C8: =IF('Mapping Template'!$J19=1,C$2,0) -> 0 | D8: =IF('Mapping Template'!$J29=1,D$2,0) -> 0 | E8: =IF('Mapping Template'!$J43=1,E$2,0) -> 0 | F8: =IF('Mapping Template'!$J60=1,F$2,0) -> 0 | G8: =IF('Mapping Template'!$J71=1,G$2,0) -> 0 | H8: =IF('Mapping Template'!$J92=1,H$2,0) -> 0 | I8: =IF('Mapping Template'!$J123=1,I$2,0) -> 0 | J8: =IF('Mapping Template'!$J136=1,J$2,0) -> 0 | K8: =IF('Mapping Template'!$J164=1,K$2,0) -> 0 | L8: =IF('Mapping Template'!$J78=1,L$2,0) -> 0 | M8: =IF('Mapping Template'!$J1195=1,M$2,0) -> 0 | N8: =IF('Mapping Template'!$J204=1,N$2,0) -> 0 | O8: =IF('Mapping Template'!$J214=1,O$2,0) -> 0 | P8: =IF('Mapping Template'!$J223=1,P$2,0) -> 0 | Q8: =IF('Mapping Template'!$J239=1,Q$2,0) -> 0 | R8: =IF('Mapping Template'!$J253=1,R$2,0) -> 0 | S8: =IF('Mapping Template'!$J270=1,S$2,0) -> 0 | T8: =IF('Mapping Template'!$J278=1,T$2,0) -> 0 | U8: =IF('Mapping Template'!$J284=1,U$2,0) -> 0 | V8: =IF('Mapping Template'!$J303=1,V$2,0) -> 0 | W8: =IF('Mapping Template'!$J327=1,W$2,0) -> 0 | X8: =IF('Mapping Template'!$J343=1,X$2,0) -> 0 | Y8: =IF('Mapping Template'!$J363=1,Y$2,0) -> 0 | Z8: =IF('Mapping Template'!$J387=1,Z$2,0) -> 0 | AA8: =IF('Mapping Template'!$J403=1,AA$2,0) -> 0 | AB8: =IF('Mapping Template'!$J420=1,AB$2,0) -> 0 | AC8: =IF('Mapping Template'!$J453=1,AC$2,0) -> 0 | AD8: =IF('Mapping Template'!$J464=1,AD$2,0) -> 0
B9: =IF('Mapping Template'!$J11=1,$B$2,0) -> 0 | C9: =IF('Mapping Template'!$J20=1,C$2,0) -> 0 | D9: =IF('Mapping Template'!$J30=1,D$2,0) -> 0 | E9: =IF('Mapping Template'!$J44=1,E$2,0) -> 0 | F9: =IF('Mapping Template'!$J61=1,F$2,0) -> 0 | G9: =IF('Mapping Template'!$J72=1,G$2,0) -> 0 | H9: =IF('Mapping Template'!$J93=1,H$2,0) -> 0 | I9: =IF('Mapping Template'!$J124=1,I$2,0) -> 0 | J9: =IF('Mapping Template'!$J137=1,J$2,0) -> 0 | K9: =IF('Mapping Template'!$J165=1,K$2,0) -> 0 | L9: =IF('Mapping Template'!$J79=1,L$2,0) -> 0 | M9: =IF('Mapping Template'!$J1196=1,M$2,0) -> 0 | N9: =IF('Mapping Template'!$J205=1,N$2,0) -> 0 | O9: =IF('Mapping Template'!$J215=1,O$2,0) -> 0 | P9: =IF('Mapping Template'!$J224=1,P$2,0) -> 0 | Q9: =IF('Mapping Template'!$J240=1,Q$2,0) -> 0 | R9: =IF('Mapping Template'!$J254=1,R$2,0) -> 0 | S9: =IF('Mapping Template'!$J271=1,S$2,0) -> 0 | U9: =IF('Mapping Template'!$J285=1,U$2,0) -> 0 | V9: =IF('Mapping Template'!$J304=1,V$2,0) -> 0 | W9: =IF('Mapping Template'!$J328=1,W$2,0) -> 0 | X9: =IF('Mapping Template'!$J344=1,X$2,0) -> 0 | Y9: =IF('Mapping Template'!$J364=1,Y$2,0) -> 0 | Z9: =IF('Mapping Template'!$J388=1,Z$2,0) -> 0 | AA9: =IF('Mapping Template'!$J404=1,AA$2,0) -> 0 | AB9: =IF('Mapping Template'!$J421=1,AB$2,0) -> 0 | AC9: =IF('Mapping Template'!$J454=1,AC$2,0) -> 0 | AD9: =IF('Mapping Template'!$J465=1,AD$2,0) -> 0
B10: =IF('Mapping Template'!$J12=1,$B$2,0) -> 0 | C10: =IF('Mapping Template'!$J21=1,C$2,0) -> 0 | D10: =IF('Mapping Template'!$J31=1,D$2,0) -> 0 | E10: =IF('Mapping Template'!$J45=1,E$2,0) -> 0 | F10: =IF('Mapping Template'!$J62=1,F$2,0) -> 0 | G10: =IF('Mapping Template'!$J73=1,G$2,0) -> 0 | H10: =IF('Mapping Template'!$J94=1,H$2,0) -> 0 | I10: =IF('Mapping Template'!$J125=1,I$2,0) -> 0 | J10: =IF('Mapping Template'!$J138=1,J$2,0) -> 0 | K10: =IF('Mapping Template'!$J166=1,K$2,0) -> 0 | L10: =IF('Mapping Template'!$J80=1,L$2,0) -> 0 | M10: =IF('Mapping Template'!$J1197=1,M$2,0) -> 0 | N10: =IF('Mapping Template'!$J206=1,N$2,0) -> 0 | O10: =IF('Mapping Template'!$J216=1,O$2,0) -> 0 | P10: =IF('Mapping Template'!$J225=1,P$2,0) -> 0 | Q10: =IF('Mapping Template'!$J241=1,Q$2,0) -> 0 | R10: =IF('Mapping Template'!$J255=1,R$2,0) -> 0 | S10: =IF('Mapping Template'!$J272=1,S$2,0) -> 0 | U10: =IF('Mapping Template'!$J286=1,U$2,0) -> 0 | V10: =IF('Mapping Template'!$J305=1,V$2,0) -> 0 | W10: =IF('Mapping Template'!$J329=1,W$2,0) -> 0 | X10: =IF('Mapping Template'!$J345=1,X$2,0) -> 0 | Y10: =IF('Mapping Template'!$J365=1,Y$2,0) -> 0 | Z10: =IF('Mapping Template'!$J389=1,Z$2,0) -> 0 | AA10: =IF('Mapping Template'!$J405=1,AA$2,0) -> 0 | AB10: =IF('Mapping Template'!$J422=1,AB$2,0) -> 0 | AC10: =IF('Mapping Template'!$J455=1,AC$2,0) -> 0 | AD10: =IF('Mapping Template'!$J466=1,AD$2,0) -> 0
B11: =IF('Mapping Template'!$J13=1,$B$2,0) -> 0 | C11: =IF('Mapping Template'!$J22=1,C$2,0) -> 0 | D11: =IF('Mapping Template'!$J32=1,D$2,0) -> 0 | E11: =IF('Mapping Template'!$J46=1,E$2,0) -> 0 | F11: =IF('Mapping Template'!$J63=1,F$2,0) -> 0 | G11: =IF('Mapping Template'!$J74=1,G$2,0) -> 0 | H11: =IF('Mapping Template'!$J95=1,H$2,0) -> 0 | I11: =IF('Mapping Template'!$J126=1,I$2,0) -> 0 | J11: =IF('Mapping Template'!$J139=1,J$2,0) -> 0 | K11: =IF('Mapping Template'!$J167=1,K$2,0) -> 0 | L11: =IF('Mapping Template'!$J81=1,L$2,0) -> 0 | M11: =IF('Mapping Template'!$J1198=1,M$2,0) -> 0 | N11: =IF('Mapping Template'!$J207=1,N$2,0) -> 0 | O11: =IF('Mapping Template'!$J217=1,O$2,0) -> 0 | P11: =IF('Mapping Template'!$J226=1,P$2,0) -> 0 | Q11: =IF('Mapping Template'!$J242=1,Q$2,0) -> 0 | R11: =IF('Mapping Template'!$J256=1,R$2,0) -> 0 | U11: =IF('Mapping Template'!$J287=1,U$2,0) -> 0 | V11: =IF('Mapping Template'!$J306=1,V$2,0) -> 0 | W11: =IF('Mapping Template'!$J330=1,W$2,0) -> 0 | X11: =IF('Mapping Template'!$J346=1,X$2,0) -> 0 | Y11: =IF('Mapping Template'!$J366=1,Y$2,0) -> 0 | Z11: =IF('Mapping Template'!$J390=1,Z$2,0) -> 0 | AA11: =IF('Mapping Template'!$J406=1,AA$2,0) -> 0 | AB11: =IF('Mapping Template'!$J423=1,AB$2,0) -> 0 | AC11: =IF('Mapping Template'!$J456=1,AC$2,0) -> 0 | AD11: =IF('Mapping Template'!$J467=1,AD$2,0) -> 0
C12: =IF('Mapping Template'!$J23=1,C$2,0) -> 0 | D12: =IF('Mapping Template'!$J33=1,D$2,0) -> 0 | E12: =IF('Mapping Template'!$J47=1,E$2,0) -> 0 | F12: =IF('Mapping Template'!$J64=1,F$2,0) -> 0 | G12: =IF('Mapping Template'!$J75=1,G$2,0) -> 0 | H12: =IF('Mapping Template'!$J96=1,H$2,0) -> 0 | I12: =IF('Mapping Template'!$J127=1,I$2,0) -> 0 | J12: =IF('Mapping Template'!$J140=1,J$2,0) -> 0 | K12: =IF('Mapping Template'!$J168=1,K$2,0) -> 0 | L12: =IF('Mapping Template'!$J82=1,L$2,0) -> 0 | N12: =IF('Mapping Template'!$J208=1,N$2,0) -> 0 | O12: =IF('Mapping Template'!$J218=1,O$2,0) -> 0 | P12: =IF('Mapping Template'!$J227=1,P$2,0) -> 0 | Q12: =IF('Mapping Template'!$J243=1,Q$2,0) -> 0 | R12: =IF('Mapping Template'!$J257=1,R$2,0) -> 0 | U12: =IF('Mapping Template'!$J288=1,U$2,0) -> 0 | V12: =IF('Mapping Template'!$J307=1,V$2,0) -> 0 | W12: =IF('Mapping Template'!$J331=1,W$2,0) -> 0 | X12: =IF('Mapping Template'!$J347=1,X$2,0) -> 0 | Y12: =IF('Mapping Template'!$J367=1,Y$2,0) -> 0 | Z12: =IF('Mapping Template'!$J391=1,Z$2,0) -> 0 | AA12: =IF('Mapping Template'!$J407=1,AA$2,0) -> 0 | AB12: =IF('Mapping Template'!$J424=1,AB$2,0) -> 0 | AC12: =IF('Mapping Template'!$J457=1,AC$2,0) -> 0 | AD12: =IF('Mapping Template'!$J468=1,AD$2,0) -> 0
D13: =IF('Mapping Template'!$J34=1,D$2,0) -> 0 | E13: =IF('Mapping Template'!$J48=1,E$2,0) -> 0 | F13: =IF('Mapping Template'!$J65=1,F$2,0) -> 0 | G13: =IF('Mapping Template'!$J76=1,G$2,0) -> 0 | H13: =IF('Mapping Template'!$J97=1,H$2,0) -> 0 | I13: =IF('Mapping Template'!$J128=1,I$2,0) -> 0 | J13: =IF('Mapping Template'!$J141=1,J$2,0) -> 0 | K13: =IF('Mapping Template'!$J169=1,K$2,0) -> 0 | L13: =IF('Mapping Template'!$J83=1,L$2,0) -> 0 | P13: =IF('Mapping Template'!$J228=1,P$2,0) -> 0 | Q13: =IF('Mapping Template'!$J244=1,Q$2,0) -> 0 | R13: =IF('Mapping Template'!$J258=1,R$2,0) -> 0 | U13: =IF('Mapping Template'!$J289=1,U$2,0) -> 0 | V13: =IF('Mapping Template'!$J308=1,V$2,0) -> 0 | W13: =IF('Mapping Template'!$J332=1,W$2,0) -> 0 | X13: =IF('Mapping Template'!$J348=1,X$2,0) -> 0 | Y13: =IF('Mapping Template'!$J368=1,Y$2,0) -> 0 | Z13: =IF('Mapping Template'!$J392=1,Z$2,0) -> 0 | AA13: =IF('Mapping Template'!$J408=1,AA$2,0) -> 0 | AB13: =IF('Mapping Template'!$J425=1,AB$2,0) -> 0 | AD13: =IF('Mapping Template'!$J469=1,AD$2,0) -> 0
D14: =IF('Mapping Template'!$J35=1,D$2,0) -> 0 | E14: =IF('Mapping Template'!$J49=1,E$2,0) -> 0 | G14: =IF('Mapping Template'!$J77=1,G$2,0) -> 0 | H14: =IF('Mapping Template'!$J98=1,H$2,0) -> 0 | I14: =IF('Mapping Template'!$J129=1,I$2,0) -> 0 | J14: =IF('Mapping Template'!$J142=1,J$2,0) -> 0 | K14: =IF('Mapping Template'!$J170=1,K$2,0) -> 0 | L14: =IF('Mapping Template'!$J84=1,L$2,0) -> 0 | P14: =IF('Mapping Template'!$J229=1,P$2,0) -> 0 | Q14: =IF('Mapping Template'!$J245=1,Q$2,0) -> 0 | R14: =IF('Mapping Template'!$J259=1,R$2,0) -> 0 | U14: =IF('Mapping Template'!$J290=1,U$2,0) -> 0 | V14: =IF('Mapping Template'!$J309=1,V$2,0) -> 0 | W14: =IF('Mapping Template'!$J333=1,W$2,0) -> 0 | X14: =IF('Mapping Template'!$J349=1,X$2,0) -> 0 | Y14: =IF('Mapping Template'!$J369=1,Y$2,0) -> 0 | Z14: =IF('Mapping Template'!$J393=1,Z$2,0) -> 0 | AA14: =IF('Mapping Template'!$J409=1,AA$2,0) -> 0 | AB14: =IF('Mapping Template'!$J426=1,AB$2,0) -> 0 | AD14: =IF('Mapping Template'!$J470=1,AD$2,0) -> 0
D15: =IF('Mapping Template'!$J36=1,D$2,0) -> 0 | E15: =IF('Mapping Template'!$J50=1,E$2,0) -> 0 | G15: =IF('Mapping Template'!$J78=1,G$2,0) -> 0 | H15: =IF('Mapping Template'!$J99=1,H$2,0) -> 0 | I15: =IF('Mapping Template'!$J130=1,I$2,0) -> 0 | J15: =IF('Mapping Template'!$J143=1,J$2,0) -> 0 | K15: =IF('Mapping Template'!$J171=1,K$2,0) -> 0 | L15: =IF('Mapping Template'!$J85=1,L$2,0) -> 0 | P15: =IF('Mapping Template'!$J230=1,P$2,0) -> 0 | Q15: =IF('Mapping Template'!$J246=1,Q$2,0) -> 0 | R15: =IF('Mapping Template'!$J260=1,R$2,0) -> 0 | U15: =IF('Mapping Template'!$J291=1,U$2,0) -> 0 | V15: =IF('Mapping Template'!$J310=1,V$2,0) -> 0 | W15: =IF('Mapping Template'!$J334=1,W$2,0) -> 0 | X15: =IF('Mapping Template'!$J350=1,X$2,0) -> 0 | Y15: =IF('Mapping Template'!$J370=1,Y$2,0) -> 0 | Z15: =IF('Mapping Template'!$J394=1,Z$2,0) -> 0 | AA15: =IF('Mapping Template'!$J410=1,AA$2,0) -> 0 | AB15: =IF('Mapping Template'!$J427=1,AB$2,0) -> 0 | AD15: =IF('Mapping Template'!$J471=1,AD$2,0) -> 0
D16: =IF('Mapping Template'!$J37=1,D$2,0) -> 0 | E16: =IF('Mapping Template'!$J51=1,E$2,0) -> 0 | G16: =IF('Mapping Template'!$J79=1,G$2,0) -> 0 | H16: =IF('Mapping Template'!$J100=1,H$2,0) -> 0 | J16: =IF('Mapping Template'!$J144=1,J$2,0) -> 0 | K16: =IF('Mapping Template'!$J172=1,K$2,0) -> 0 | L16: =IF('Mapping Template'!$J86=1,L$2,0) -> 0 | P16: =IF('Mapping Template'!$J231=1,P$2,0) -> 0 | R16: =IF('Mapping Template'!$J261=1,R$2,0) -> 0 | U16: =IF('Mapping Template'!$J292=1,U$2,0) -> 0 | V16: =IF('Mapping Template'!$J311=1,V$2,0) -> 0 | W16: =IF('Mapping Template'!$J335=1,W$2,0) -> 0 | X16: =IF('Mapping Template'!$J351=1,X$2,0) -> 0 | Y16: =IF('Mapping Template'!$J371=1,Y$2,0) -> 0 | Z16: =IF('Mapping Template'!$J395=1,Z$2,0) -> 0 | AA16: =IF('Mapping Template'!$J411=1,AA$2,0) -> 0 | AB16: =IF('Mapping Template'!$J428=1,AB$2,0) -> 0 | AD16: =IF('Mapping Template'!$J472=1,AD$2,0) -> 0
E17: =IF('Mapping Template'!$J52=1,E$2,0) -> 0 | G17: =IF('Mapping Template'!$J80=1,G$2,0) -> 0 | H17: =IF('Mapping Template'!$J101=1,H$2,0) -> 0 | J17: =IF('Mapping Template'!$J145=1,J$2,0) -> 0 | L17: =IF('Mapping Template'!$J87=1,L$2,0) -> 0 | P17: =IF('Mapping Template'!$J232=1,P$2,0) -> 0 | R17: =IF('Mapping Template'!$J262=1,R$2,0) -> 0 | U17: =IF('Mapping Template'!$J293=1,U$2,0) -> 0 | V17: =IF('Mapping Template'!$J312=1,V$2,0) -> 0 | W17: =IF('Mapping Template'!$J336=1,W$2,0) -> 0 | X17: =IF('Mapping Template'!$J352=1,X$2,0) -> 0 | Y17: =IF('Mapping Template'!$J372=1,Y$2,0) -> 0 | Z17: =IF('Mapping Template'!$J396=1,Z$2,0) -> 0 | AA17: =IF('Mapping Template'!$J412=1,AA$2,0) -> 0 | AB17: =IF('Mapping Template'!$J429=1,AB$2,0) -> 0
E18: =IF('Mapping Template'!$J53=1,E$2,0) -> 0 | G18: =IF('Mapping Template'!$J81=1,G$2,0) -> 0 | H18: =IF('Mapping Template'!$J102=1,H$2,0) -> 0 | J18: =IF('Mapping Template'!$J146=1,J$2,0) -> 0 | L18: =IF('Mapping Template'!$J88=1,L$2,0) -> 0 | P18: =IF('Mapping Template'!$J233=1,P$2,0) -> 0 | R18: =IF('Mapping Template'!$J263=1,R$2,0) -> 0 | U18: =IF('Mapping Template'!$J294=1,U$2,0) -> 0 | V18: =IF('Mapping Template'!$J313=1,V$2,0) -> 0 | W18: =IF('Mapping Template'!$J337=1,W$2,0) -> 0 | X18: =IF('Mapping Template'!$J353=1,X$2,0) -> 0 | Y18: =IF('Mapping Template'!$J373=1,Y$2,0) -> 0 | Z18: =IF('Mapping Template'!$J397=1,Z$2,0) -> 0 | AA18: =IF('Mapping Template'!$J413=1,AA$2,0) -> 0 | AB18: =IF('Mapping Template'!$J430=1,AB$2,0) -> 0
G19: =IF('Mapping Template'!$J82=1,G$2,0) -> 0 | H19: =IF('Mapping Template'!$J103=1,H$2,0) -> 0 | J19: =IF('Mapping Template'!$J147=1,J$2,0) -> 0 | R19: =IF('Mapping Template'!$J264=1,R$2,0) -> 0 | U19: =IF('Mapping Template'!$J295=1,U$2,0) -> 0 | V19: =IF('Mapping Template'!$J314=1,V$2,0) -> 0 | W19: =IF('Mapping Template'!$J338=1,W$2,0) -> 0 | X19: =IF('Mapping Template'!$J354=1,X$2,0) -> 0 | Y19: =IF('Mapping Template'!$J374=1,Y$2,0) -> 0 | Z19: =IF('Mapping Template'!$J398=1,Z$2,0) -> 0 | AB19: =IF('Mapping Template'!$J431=1,AB$2,0) -> 0
G20: =IF('Mapping Template'!$J83=1,G$2,0) -> 0 | H20: =IF('Mapping Template'!$J104=1,H$2,0) -> 0 | J20: =IF('Mapping Template'!$J148=1,J$2,0) -> 0 | U20: =IF('Mapping Template'!$J296=1,U$2,0) -> 0 | V20: =IF('Mapping Template'!$J315=1,V$2,0) -> 0 | X20: =IF('Mapping Template'!$J355=1,X$2,0) -> 0 | Y20: =IF('Mapping Template'!$J375=1,Y$2,0) -> 0 | AB20: =IF('Mapping Template'!$J432=1,AB$2,0) -> 0
G21: =IF('Mapping Template'!$J84=1,G$2,0) -> 0 | H21: =IF('Mapping Template'!$J105=1,H$2,0) -> 0 | J21: =IF('Mapping Template'!$J149=1,J$2,0) -> 0 | V21: =IF('Mapping Template'!$J316=1,V$2,0) -> 0 | X21: =IF('Mapping Template'!$J356=1,X$2,0) -> 0 | Y21: =IF('Mapping Template'!$J376=1,Y$2,0) -> 0 | AB21: =IF('Mapping Template'!$J433=1,AB$2,0) -> 0
G22: =IF('Mapping Template'!$J85=1,G$2,0) -> 0 | H22: =IF('Mapping Template'!$J106=1,H$2,0) -> 0 | J22: =IF('Mapping Template'!$J150=1,J$2,0) -> 0 | V22: =IF('Mapping Template'!$J317=1,V$2,0) -> 0 | Y22: =IF('Mapping Template'!$J377=1,Y$2,0) -> 0 | AB22: =IF('Mapping Template'!$J434=1,AB$2,0) -> 0
G23: =IF('Mapping Template'!$J86=1,G$2,0) -> 0 | H23: =IF('Mapping Template'!$J107=1,H$2,0) -> 0 | J23: =IF('Mapping Template'!$J151=1,J$2,0) -> 0 | V23: =IF('Mapping Template'!$J318=1,V$2,0) -> 0 | Y23: =IF('Mapping Template'!$J378=1,Y$2,0) -> 0 | AB23: =IF('Mapping Template'!$J435=1,AB$2,0) -> 0
H24: =IF('Mapping Template'!$J108=1,H$2,0) -> 0 | J24: =IF('Mapping Template'!$J152=1,J$2,0) -> 0 | V24: =IF('Mapping Template'!$J319=1,V$2,0) -> 0 | Y24: =IF('Mapping Template'!$J379=1,Y$2,0) -> 0 | AB24: =IF('Mapping Template'!$J436=1,AB$2,0) -> 0
H25: =IF('Mapping Template'!$J109=1,H$2,0) -> 0 | J25: =IF('Mapping Template'!$J153=1,J$2,0) -> 0 | V25: =IF('Mapping Template'!$J320=1,V$2,0) -> 0 | Y25: =IF('Mapping Template'!$J380=1,Y$2,0) -> 0 | AB25: =IF('Mapping Template'!$J437=1,AB$2,0) -> 0
H26: =IF('Mapping Template'!$J110=1,H$2,0) -> 0 | J26: =IF('Mapping Template'!$J154=1,J$2,0) -> 0 | V26: =IF('Mapping Template'!$J321=1,V$2,0) -> 0 | Y26: =IF('Mapping Template'!$J381=1,Y$2,0) -> 0 | AB26: =IF('Mapping Template'!$J438=1,AB$2,0) -> 0
H27: =IF('Mapping Template'!$J111=1,H$2,0) -> 0 | J27: =IF('Mapping Template'!$J155=1,J$2,0) -> 0 | V27: =IF('Mapping Template'!$J322=1,V$2,0) -> 0 | Y27: =IF('Mapping Template'!$J382=1,Y$2,0) -> 0 | AB27: =IF('Mapping Template'!$J439=1,AB$2,0) -> 0
H28: =IF('Mapping Template'!$J112=1,H$2,0) -> 0 | J28: =IF('Mapping Template'!$J156=1,J$2,0) -> 0 | AB28: =IF('Mapping Template'!$J440=1,AB$2,0) -> 0
H29: =IF('Mapping Template'!$J113=1,H$2,0) -> 0 | J29: =IF('Mapping Template'!$J157=1,J$2,0) -> 0 | AB29: =IF('Mapping Template'!$J441=1,AB$2,0) -> 0
H30: =IF('Mapping Template'!$J114=1,H$2,0) -> 0 | J30: =IF('Mapping Template'!$J158=1,J$2,0) -> 0 | AB30: =IF('Mapping Template'!$J442=1,AB$2,0) -> 0
H31: =IF('Mapping Template'!$J115=1,H$2,0) -> 0 | J31: =IF('Mapping Template'!$J159=1,J$2,0) -> 0 | AB31: =IF('Mapping Template'!$J443=1,AB$2,0) -> 0
H32: =IF('Mapping Template'!$J116=1,H$2,0) -> 0 | AB32: =IF('Mapping Template'!$J444=1,AB$2,0) -> 0
H33: =IF('Mapping Template'!$J117=1,H$2,0) -> 0 | AB33: =IF('Mapping Template'!$J445=1,AB$2,0) -> 0
AB34: =IF('Mapping Template'!$J446=1,AB$2,0) -> 0
AB35: =IF('Mapping Template'!$J447=1,AB$2,0) -> 0
