Workbook

Sheet Guidance
B1: #VALUE!
B2: Assessor Mapping Template
B3: Edition: V2.1
B4: Publication date: 22nd November 2024
B6: Mapping Guidance - you are here!
B7: Mapping template to reference and evidence where the professional standard is being met by the course/ participant/ qualification
B8: N.B. Examples (e.g.) are given within the LDRs to provide an overview of the knowledge and skills most relevant to the role. It is not mandatory to assess learners against 100% of the examples provided, however, sufficient coverage to ensure occupational competence on achievement must be ensured. This will be reviewed as part of the CIMSPA endorsement process.
B9: For non-regulated qualifications (CPD), where an Education Partner does not meet the full CIMSPA professional standard, it is important to note, that the Education Partner must meet a full Knowledge or Skill LDR. For example, all three sections within K1.1 would need to evidenced for that LDR to partially map to the professional standard.
B10: For further information around product development guidance, please refer to the professional standard within the professional standard library; https://www.cimspa.co.uk/education-training/professional-standards/professional-standards-library/
B11: Alternatively, please view our CIMPSA Partner Endorsement Guide;https://cimspa.co.uk/education-training/endorsement/
B13: Revision History
B14: Version | C14: Name & Role | D14: Signature & Date | E14: Reason for Change
A15: c | B15: V2.1 | C15: Aidan Riley Education Officer | D15: AR 19/11/24 | E15: Update to general formatting & implementation of conditional formating to streamline moderator feedback.
B19: E endorsements@cimspa.co.uk T 03438 360200 W www.cimspa.co.uk
B20: Chartered Institute for the Management of Sport and Physical Activity,
B21: SportPark Loughborough University, 3 Oakwood Drive, Loughborough, Leicestershire LE11 3QF
B22: Incorporated by Royal Charter Charity Registration No. 1144545

Sheet Mapping Template
E1: Education Product Title: INSERT HERE
A2: Professional Standard: Assessor | E2: Partner Mapping Section | J2: Moderator Feedback Section | Q2: IV Feedback Section
A3: Topic | B3: Competency | D3: Learning Outcome(s) | E3: Evidence (sign post to SOW / course specification / supporting documents) | F3: Assessment Method | G3: Further Comments (expand on evidence within column E) | H3: Response to Moderator Feedback Section (second review evidence - if applicable) | J3: Score | K3: Mapping to point | L3: % mapped to section | M3: Moderator comments | N3: General Feedback (first review) | O3: General Feedback (second review - if applicable) | Q3: IV Comments
A4: 1. Maximising the learner experience | B4: Ref | C4: Knowledge and understanding (K&U): | D4: An Asessor must:
B5: K1.1 | C5: Learner needs | D5: · Know who the learners are as people, identify the context they are working in, also any access or requirements they may have to ensure this is an accessible and inclusive opportunity. | K5: {=IF((AND(J5:J12=1)), "Fully Mapped", "Not/ Partially Mapped")} -> Not/ Partially Mapped | L5: =SUM('Workings out'!B5:B27) -> 0
D6: · Know the context of the organisations that the learners work in/ for.
D7: · Know the local demographics of their organisation’s learners.
D8: · Know how local demographics affect the teaching and learning offer.
D9: · Know the importance of and benefits of being equitable when engaging as well and being accessible and approachable.
D10: · Know the learners’ expectations and aspirations within the teaching and learning environment.
D11: · Know how to build social support and inclusion within the teaching and learning environment.
D12: · Know how to obtain feedback to support learner retention.
B13: K1.2 | C13: Learner engagement | D13: · Know the different methods to engage with learners. | K13: {=IF((AND(J13:J22=1)), "Fully Mapped", "Not/ Partially Mapped")} -> Not/ Partially Mapped
D14: · Know the behaviour management strategies to support ongoing learner engagement.
D15: · Know learning and assessment theories to support personalised learning.
D16: · Know the different types of conflict and how to manage them.
D17: · Know the different methods to build rapport in order to maximise the learner experience.
D18: · Know how to promote the safe and enjoyable use of the teaching and learning environment.
D19: · Know the importance of being accessible and approachable to learners.
D20: · Know the typical learner journey in the teaching and learning environment.
D21: · Know how to present themselves in a professional and approachable manner in line with organisational standards.
D22: · Know the importance of learner retention and how to influence this.
B23: K1.3 | C23: Communication | D23: · Know different communication techniques and how to use and adapt them: observation/ non-verbal techniques/ body language, open/ closed questioning, active listening | K23: {=IF((AND(J23:J24=1)), "Fully Mapped", "Not/ Partially Mapped")} -> Not/ Partially Mapped
D24: · Know how to adapt communication methods to meet the needs of learners from differing backgrounds, cultures, sport/activity experience, impairments/disabilities.
B25: K1.4 | C25: Participant feedback | D25: · Know the different methods to obtain learner feedback and channels of recording and reporting in line with organisational procedures. | K25: {=IF((AND(J25:J27=1)), "Fully Mapped", "Not/ Partially Mapped")} -> Not/ Partially Mapped
D26: · Know the feedback cycle.
D27: · Know the impact of the Assessor’s role on the learner experience.
B28: Ref | C28: Skills: | D28: An Assessor must be able to:
B29: S1.1 | C29: Learner engagement | D29: · Demonstrate learner engagement at different stages of the assessment process: e.g. pre, during and post. | K29: {=IF((AND(J29:J31=1)), "Fully Mapped", "Not/ Partially Mapped")} -> Not/ Partially Mapped | L29: =SUM('Workings out'!C5:C10) -> 0
D30: · Implement behaviour management strategies to support ongoing participant engagement.
D31: · Apply learning theories to support personalised learning.
B32: S1.2 | C32: Develop rapport with learners | D32: · Develop rapport with learners in a friendly and approachable manner; demonstrating that equality and diversity are present. | K32: {=IF((AND(J32:J32=1)), "Fully Mapped", "Not/ Partially Mapped")} -> Not/ Partially Mapped
B33: S1.3 | C33: Professional demeanour | D33: · Demonstrate a professional demeanour: e.g. personal attributes and positive first impressions. | K33: =IF((AND(J33=1)), "Fully Mapped", "Not/ Partially Mapped") -> Not/ Partially Mapped
B34: S1.4 | C34: Communication | D34: · Demonstrate inclusive communication methods appropriate to the learner. | K34: =IF((AND(J34=1)), "Fully Mapped", "Not/ Partially Mapped") -> Not/ Partially Mapped
A35: 2. Principles and practices for assessment | B35: Ref | C35: K&U | D35: An Assessor must:
B36: K2.1 | C36: Principles and purpose | D36: · Know the assessment principles and strategies used with individuals and groups and the rationale for them. | K36: {=IF((AND(J36:J39=1)), "Fully Mapped", "Not/ Partially Mapped")} -> Not/ Partially Mapped | L36: =SUM('Workings out'!D5:D26) -> 0
D37: · Know the objectives and benefits of assessment for learners and organisations.
D38: · Know the different environments for assessment in relation to different learner and organisational needs.
D39: · Know how to ensure learning is inclusive and promotes engagement through inclusion and equality.
B40: K2.2 | C40: Assessment cycle | D40: · Know the assessment and development cycle. | K40: {=IF((AND(J40:J41=1)), "Fully Mapped", "Not/ Partially Mapped")} -> Not/ Partially Mapped
...

Sheet Mapping results
B1: Mapping Breakdown shows a breakdown of the percentage that your course has mapped to each sections knowledge and skills criteria, and the overall percentage that your course has mapped to the professional standard
D2: Sections | E2: Specifications | F2: %worth of each section | G2: Total % covered of area | H2: Section % of total standard | I2: % covered of entire standard
B3: 1 | C3: Knowledge | D3: 4 | E3: 23 | F3: =100/E3 -> 4.3478261 | G3: =SUM('Mapping Template'!L5:L27) -> 0 | H3: =(E3/E23)*100 -> 15.333333 | I3: =(H3/100)*G3 -> 0
C4: Skills | D4: 4 | E4: 6 | F4: =100/E4 -> 16.666667 | G4: =SUM('Mapping Template'!L29:L34) -> 0 | H4: =(E4/E23)*100 -> 4 | I4: =(H4/100)*G4 -> 0
B5: 2 | C5: Knowledge | D5: 6 | E5: 22 | F5: =100/E5 -> 4.5454545 | G5: =SUM('Mapping Template'!L36:L57) -> 0 | H5: =(E5/E23)*100 -> 14.666667 | I5: =(H5/100)*G5 -> 0
C6: Skills | D6: 4 | E6: 10 | F6: =100/E6 -> 10 | G6: =SUM('Mapping Template'!L59:L68) -> 0 | H6: =(E6/E23)*100 -> 6.6666667 | I6: =(H6/100)*G6 -> 0
B7: 3 | C7: Knowledge | D7: 1 | E7: 5 | F7: =100/E7 -> 20 | G7: =SUM('Mapping Template'!L70:L74) -> 0 | H7: =(E7/E23)*100 -> 3.3333333 | I7: =(H7/100)*G7 -> 0
C8: Skills | D8: 1 | E8: 5 | F8: =100/E8 -> 20 | G8: =SUM('Mapping Template'!L76:L80) -> 0 | H8: =(E8/E23)*100 -> 3.3333333 | I8: =(H8/100)*G8 -> 0
B9: 4 | C9: Knowledge | D9: 3 | E9: 5 | F9: =100/E9 -> 20 | G9: =SUM('Mapping Template'!L82:L86) -> 0 | H9: =(E9/E23)*100 -> 3.3333333 | I9: =(H9/100)*G9 -> 0
C10: Skills | D10: 1 | E10: 1 | F10: =100/E10 -> 100 | G10: =SUM('Mapping Template'!L88:L88) -> 0 | H10: =(E10/E23)*100 -> 0.66666667 | I10: =(H10/100)*G10 -> 0
B11: 5 | C11: Knowledge | D11: 3 | E11: 9 | F11: =100/E11 -> 11.111111 | G11: =SUM('Mapping Template'!L90:L98) -> 0 | H11: =(E11/E23)*100 -> 6 | I11: =(H11/100)*G11 -> 0
C12: Skills | D12: 2 | E12: 7 | F12: =100/E12 -> 14.285714 | G12: =SUM('Mapping Template'!L100:L106) -> 0 | H12: =(E12/E23)*100 -> 4.6666667 | I12: =(H12/100)*G12 -> 0
B13: 6 | C13: Knowledge | D13: 3 | E13: 8 | F13: =100/E13 -> 12.5 | G13: =SUM('Mapping Template'!L108:L115) -> 0 | H13: =(E13/E23)*100 -> 5.3333333 | I13: =(H13/100)*G13 -> 0
C14: Skills | D14: 2 | E14: 4 | F14: =100/E14 -> 25 | G14: =SUM('Mapping Template'!L120:L120) -> 0 | H14: =(E14/E23)*100 -> 2.6666667 | I14: =(H14/100)*G14 -> 0
B15: 7 | C15: Knowledge | D15: 3 | E15: 8 | F15: =100/E15 -> 12.5 | G15: =SUM('Mapping Template'!L122:L129) -> 0 | H15: =(E15/E23)*100 -> 5.3333333 | I15: =(H15/100)*G15 -> 0
C16: Skills | D16: 1 | E16: 5 | F16: =100/E16 -> 20 | G16: =SUM('Mapping Template'!L131:L135) -> 0 | H16: =(E16/$E$23)*100 -> 3.3333333 | I16: =(H16/100)*G16 -> 0
B17: 8 | C17: Knowledge | D17: 2 | E17: 7 | F17: =100/E17 -> 14.285714 | G17: =SUM('Mapping Template'!L137:L143) -> 0 | H17: =(E17/$E$23)*100 -> 4.6666667 | I17: =(H17/100)*G17 -> 0
C18: Skills | D18: 1 | E18: 2 | F18: =100/E18 -> 50 | G18: =SUM('Mapping Template'!L145:L146) -> 0 | H18: =(E18/$E$23)*100 -> 1.3333333 | I18: =(H18/100)*G18 -> 0
B19: 9 | C19: Knowledge | D19: 2 | E19: 7 | F19: =100/E19 -> 14.285714 | G19: =SUM('Mapping Template'!L148:L154) -> 0 | H19: =(E19/$E$23)*100 -> 4.6666667 | I19: =(H19/100)*G19 -> 0
C20: Skills | D20: 2 | E20: 4 | F20: =100/E20 -> 25 | G20: =SUM('Mapping Template'!L156:L159) -> 0 | H20: =(E20/$E$23)*100 -> 2.6666667 | I20: =(H20/100)*G20 -> 0
B21: 10 | C21: Knowledge | D21: 6 | E21: 6 | F21: =100/E21 -> 16.666667 | G21: =SUM('Mapping Template'!L161:L166) -> 0 | H21: =(E21/$E$23)*100 -> 4 | I21: =(H21/100)*G21 -> 0
C22: Skills | D22: 4 | E22: 6 | F22: =100/E22 -> 16.666667 | G22: =SUM('Mapping Template'!L168:L173) -> 0 | H22: =(E22/$E$23)*100 -> 4 | I22: =(H22/100)*G22 -> 0
B23: Totals | D23: =SUM(D3:D22) -> 55 | E23: =SUM(E3:E22) -> 150 | H23: =SUM(H3:H22) -> 100 | I23: =SUM(I3:I22) -> 0

Sheet Feedback
A1: Standardised feedback comments | B1: Assessment methods
A2: Comprehensive evidence | B2: Assignment
A3: Sufficient evidence | B3: Case study
A4: Further evidence required | B4: Dissertation
B5: Exam
B6: Written test
B7: Listening test
B8: Oral test
B9: Performance/ practical
B10: Portfolio
B11: Professional discussion
B12: Project
B13: Simulation
B14: Online test
B15: Attendence only
B16: Multiple
B17: Other

Sheet Workings out
A1: Calculating the totally percentage of knowledge/ skill covered in each section
B2: K1 | C2: S1 | D2: K2 | E2: S2 | F2: K3 | G2: S3 | H2: K4 | I2: S4 | J2: K5 | K2: S5 | L2: K6 | M2: S6 | N2: K7 | O2: S7 | P2: K8 | Q2: S8 | R2: K9 | S2: S9 | T2: K10 | U2: S10
A3: % value | B3: 4.3478261 | C3: 16.666667 | D3: 4.5454545 | E3: 10 | F3: 20 | G3: 20 | H3: 20 | I3: 100 | J3: 11.111111 | K3: 14.285714 | L3: 12.5 | M3: 25 | N3: 12.5 | O3: 20 | P3: 14.285714 | Q3: 50 | R3: 14.285714 | S3: 25 | T3: 16.666667 | U3: 16.666667
A4: # spec | B4: 23 | C4: 6 | D4: 22 | E4: 10 | F4: 5 | G4: 5 | H4: 5 | I4: 1 | J4: 9 | K4: 7 | L4: 8 | M4: 4 | N4: 8 | O4: 5 | P4: 7 | Q4: 2 | R4: 7 | S4: 4 | T4: 6 | U4: 6
A5: Sections | B5: =IF('Mapping Template'!$J5=1,B$3,0) -> 0 | C5: =IF('Mapping Template'!$J29=1,C$3,0) -> 0 | D5: =IF('Mapping Template'!$J36=1,D$3,0) -> 0 | E5: =IF('Mapping Template'!$J59=1,E$3,0) -> 0 | F5: =IF('Mapping Template'!$J70=1,F$3,0) -> 0 | G5: =IF('Mapping Template'!$J76=1,G$3,0) -> 0 | H5: =IF('Mapping Template'!$J82=1,H$3,0) -> 0 | I5: =IF('Mapping Template'!$J88=1,I$3,0) -> 0 | J5: =IF('Mapping Template'!$J90=1,J$3,0) -> 0 | K5: =IF('Mapping Template'!$J100=1,K$3,0) -> 0 | L5: =IF('Mapping Template'!$J108=1,L$3,0) -> 0 | M5: =IF('Mapping Template'!$J117=1,M$3,0) -> 0 | N5: =IF('Mapping Template'!$J122=1,N$3,0) -> 0 | O5: =IF('Mapping Template'!$J131=1,O$3,0) -> 0 | P5: =IF('Mapping Template'!$J137=1,P$3,0) -> 0 | Q5: =IF('Mapping Template'!$J145=1,Q$3,0) -> 0 | R5: =IF('Mapping Template'!$J148=1,R$3,0) -> 0 | S5: =IF('Mapping Template'!$J156=1,S$3,0) -> 0 | T5: =IF('Mapping Template'!$J161=1,T$3,0) -> 0 | U5: =IF('Mapping Template'!$J168=1,U$3,0) -> 0
B6: =IF('Mapping Template'!$J6=1,B$3,0) -> 0 | C6: =IF('Mapping Template'!$J30=1,C$3,0) -> 0 | D6: =IF('Mapping Template'!$J37=1,D$3,0) -> 0 | E6: =IF('Mapping Template'!$J60=1,E$3,0) -> 0 | F6: =IF('Mapping Template'!$J71=1,F$3,0) -> 0 | G6: =IF('Mapping Template'!$J77=1,G$3,0) -> 0 | H6: =IF('Mapping Template'!$J83=1,H$3,0) -> 0 | J6: =IF('Mapping Template'!$J91=1,J$3,0) -> 0 | K6: =IF('Mapping Template'!$J101=1,K$3,0) -> 0 | L6: =IF('Mapping Template'!$J109=1,L$3,0) -> 0 | M6: =IF('Mapping Template'!$J118=1,M$3,0) -> 0 | N6: =IF('Mapping Template'!$J123=1,N$3,0) -> 0 | O6: =IF('Mapping Template'!$J132=1,O$3,0) -> 0 | P6: =IF('Mapping Template'!$J138=1,P$3,0) -> 0 | Q6: =IF('Mapping Template'!$J146=1,Q$3,0) -> 0 | R6: =IF('Mapping Template'!$J149=1,R$3,0) -> 0 | S6: =IF('Mapping Template'!$J157=1,S$3,0) -> 0 | T6: =IF('Mapping Template'!$J162=1,T$3,0) -> 0 | U6: =IF('Mapping Template'!$J169=1,U$3,0) -> 0
B7: =IF('Mapping Template'!$J7=1,B$3,0) -> 0 | C7: =IF('Mapping Template'!$J31=1,C$3,0) -> 0 | D7: =IF('Mapping Template'!$J38=1,D$3,0) -> 0 | E7: =IF('Mapping Template'!$J61=1,E$3,0) -> 0 | F7: =IF('Mapping Template'!$J72=1,F$3,0) -> 0 | G7: =IF('Mapping Template'!$J78=1,G$3,0) -> 0 | H7: =IF('Mapping Template'!$J84=1,H$3,0) -> 0 | J7: =IF('Mapping Template'!$J92=1,J$3,0) -> 0 | K7: =IF('Mapping Template'!$J102=1,K$3,0) -> 0 | L7: =IF('Mapping Template'!$J110=1,L$3,0) -> 0 | M7: =IF('Mapping Template'!$J119=1,M$3,0) -> 0 | N7: =IF('Mapping Template'!$J124=1,N$3,0) -> 0 | O7: =IF('Mapping Template'!$J133=1,O$3,0) -> 0 | P7: =IF('Mapping Template'!$J139=1,P$3,0) -> 0 | R7: =IF('Mapping Template'!$J150=1,R$3,0) -> 0 | S7: =IF('Mapping Template'!$J158=1,S$3,0) -> 0 | T7: =IF('Mapping Template'!$J163=1,T$3,0) -> 0 | U7: =IF('Mapping Template'!$J170=1,U$3,0) -> 0
B8: =IF('Mapping Template'!$J8=1,B$3,0) -> 0 | C8: =IF('Mapping Template'!$J32=1,C$3,0) -> 0 | D8: =IF('Mapping Template'!$J39=1,D$3,0) -> 0 | E8: =IF('Mapping Template'!$J62=1,E$3,0) -> 0 | F8: =IF('Mapping Template'!$J73=1,F$3,0) -> 0 | G8: =IF('Mapping Template'!$J79=1,G$3,0) -> 0 | H8: =IF('Mapping Template'!$J85=1,H$3,0) -> 0 | J8: =IF('Mapping Template'!$J93=1,J$3,0) -> 0 | K8: =IF('Mapping Template'!$J103=1,K$3,0) -> 0 | L8: =IF('Mapping Template'!$J111=1,L$3,0) -> 0 | M8: =IF('Mapping Template'!$J120=1,M$3,0) -> 0 | N8: =IF('Mapping Template'!$J125=1,N$3,0) -> 0 | O8: =IF('Mapping Template'!$J134=1,O$3,0) -> 0 | P8: =IF('Mapping Template'!$J140=1,P$3,0) -> 0 | R8: =IF('Mapping Template'!$J151=1,R$3,0) -> 0 | S8: =IF('Mapping Template'!$J159=1,S$3,0) -> 0 | T8: =IF('Mapping Template'!$J164=1,T$3,0) -> 0 | U8: =IF('Mapping Template'!$J171=1,U$3,0) -> 0
B9: =IF('Mapping Template'!$J9=1,B$3,0) -> 0 | C9: =IF('Mapping Template'!$J33=1,C$3,0) -> 0 | D9: =IF('Mapping Template'!$J40=1,D$3,0) -> 0 | E9: =IF('Mapping Template'!$J63=1,E$3,0) -> 0 | F9: =IF('Mapping Template'!$J74=1,F$3,0) -> 0 | G9: =IF('Mapping Template'!$J80=1,G$3,0) -> 0 | H9: =IF('Mapping Template'!$J86=1,H$3,0) -> 0 | J9: =IF('Mapping Template'!$J94=1,J$3,0) -> 0 | K9: =IF('Mapping Template'!$J104=1,K$3,0) -> 0 | L9: =IF('Mapping Template'!$J112=1,L$3,0) -> 0 | N9: =IF('Mapping Template'!$J126=1,N$3,0) -> 0 | O9: =IF('Mapping Template'!$J135=1,O$3,0) -> 0 | P9: =IF('Mapping Template'!$J141=1,P$3,0) -> 0 | R9: =IF('Mapping Template'!$J152=1,R$3,0) -> 0 | T9: =IF('Mapping Template'!$J165=1,T$3,0) -> 0 | U9: =IF('Mapping Template'!$J172=1,U$3,0) -> 0
B10: =IF('Mapping Template'!$J10=1,B$3,0) -> 0 | C10: =IF('Mapping Template'!$J34=1,C$3,0) -> 0 | D10: =IF('Mapping Template'!$J41=1,D$3,0) -> 0 | E10: =IF('Mapping Template'!$J64=1,E$3,0) -> 0 | J10: =IF('Mapping Template'!$J95=1,J$3,0) -> 0 | K10: =IF('Mapping Template'!$J105=1,K$3,0) -> 0 | L10: =IF('Mapping Template'!$J113=1,L$3,0) -> 0 | N10: =IF('Mapping Template'!$J127=1,N$3,0) -> 0 | P10: =IF('Mapping Template'!$J142=1,P$3,0) -> 0 | R10: =IF('Mapping Template'!$J153=1,R$3,0) -> 0 | T10: =IF('Mapping Template'!$J166=1,T$3,0) -> 0 | U10: =IF('Mapping Template'!$J173=1,U$3,0) -> 0
B11: =IF('Mapping Template'!$J11=1,B$3,0) -> 0 | D11: =IF('Mapping Template'!$J42=1,D$3,0) -> 0 | E11: =IF('Mapping Template'!$J65=1,E$3,0) -> 0 | J11: =IF('Mapping Template'!$J96=1,J$3,0) -> 0 | K11: =IF('Mapping Template'!$J106=1,K$3,0) -> 0 | L11: =IF('Mapping Template'!$J114=1,L$3,0) -> 0 | N11: =IF('Mapping Template'!$J128=1,N$3,0) -> 0 | P11: =IF('Mapping Template'!$J143=1,P$3,0) -> 0 | R11: =IF('Mapping Template'!$J154=1,R$3,0) -> 0
B12: =IF('Mapping Template'!$J12=1,B$3,0) -> 0 | D12: =IF('Mapping Template'!$J43=1,D$3,0) -> 0 | E12: =IF('Mapping Template'!$J66=1,E$3,0) -> 0 | J12: =IF('Mapping Template'!$J97=1,J$3,0) -> 0 | L12: =IF('Mapping Template'!$J115=1,L$3,0) -> 0 | N12: =IF('Mapping Template'!$J129=1,N$3,0) -> 0
B13: =IF('Mapping Template'!$J13=1,B$3,0) -> 0 | D13: =IF('Mapping Template'!$J44=1,D$3,0) -> 0 | E13: =IF('Mapping Template'!$J67=1,E$3,0) -> 0 | J13: =IF('Mapping Template'!$J98=1,J$3,0) -> 0
B14: =IF('Mapping Template'!$J14=1,B$3,0) -> 0 | D14: =IF('Mapping Template'!$J45=1,D$3,0) -> 0 | E14: =IF('Mapping Template'!$J68=1,E$3,0) -> 0
B15: =IF('Mapping Template'!$J15=1,B$3,0) -> 0 | D15: =IF('Mapping Template'!$J46=1,D$3,0) -> 0
B16: =IF('Mapping Template'!$J16=1,B$3,0) -> 0 | D16: =IF('Mapping Template'!$J47=1,D$3,0) -> 0
B17: =IF('Mapping Template'!$J17=1,B$3,0) -> 0 | D17: =IF('Mapping Template'!$J48=1,D$3,0) -> 0
B18: =IF('Mapping Template'!$J18=1,B$3,0) -> 0 | D18: =IF('Mapping Template'!$J49=1,D$3,0) -> 0
B19: =IF('Mapping Template'!$J19=1,B$3,0) -> 0 | D19: =IF('Mapping Template'!$J50=1,D$3,0) -> 0
B20: =IF('Mapping Template'!$J20=1,B$3,0) -> 0 | D20: =IF('Mapping Template'!$J51=1,D$3,0) -> 0
B21: =IF('Mapping Template'!$J21=1,B$3,0) -> 0 | D21: =IF('Mapping Template'!$J52=1,D$3,0) -> 0
B22: =IF('Mapping Template'!$J22=1,B$3,0) -> 0 | D22: =IF('Mapping Template'!$J53=1,D$3,0) -> 0
B23: =IF('Mapping Template'!$J23=1,B$3,0) -> 0 | D23: =IF('Mapping Template'!$J54=1,D$3,0) -> 0
B24: =IF('Mapping Template'!$J24=1,B$3,0) -> 0 | D24: =IF('Mapping Template'!$J55=1,D$3,0) -> 0
B25: =IF('Mapping Template'!$J25=1,B$3,0) -> 0 | D25: =IF('Mapping Template'!$J56=1,D$3,0) -> 0
B26: =IF('Mapping Template'!$J26=1,B$3,0) -> 0 | D26: =IF('Mapping Template'!$J57=1,D$3,0) -> 0
B27: =IF('Mapping Template'!$J27=1,B$3,0) -> 0
