Workbook

Sheet Guidance
B1: #VALUE!
B2: Coach Developer Mapping Template
B3: Edition: V2.1
B4: Publication date: 13th December 2024
B6: Mapping Guidance - you are here!
B7: Mapping template to reference and evidence where the professional standard is being met by the course/ participant/ qualification
B8: N.B. Examples (e.g.) are given within the LDRs to provide an overview of the knowledge and skills most relevant to the role. It is not mandatory to assess learners against 100% of the examples provided, however, sufficient coverage to ensure occupational competence on achievement must be ensured. This will be reviewed as part of the CIMSPA endorsement process.
B9: For non-regulated qualifications (CPD), where an Education Partner does not meet the full CIMSPA professional standard, it is important to note, that the Education Partner must meet a full Knowledge or Skill LDR. For example, all three sections within K1.1 would need to evidenced for that LDR to partially map to the professional standard.
B10: For further information around product development guidance, please refer to the professional standard within the professional standard library; https://www.cimspa.co.uk/education-training/professional-standards/professional-standards-library/
B11: Alternatively, please view our CIMPSA Partner Endorsement Guide;https://cimspa.co.uk/education-training/endorsement/
B13: Revision History
B14: Version | C14: Name & Role | D14: Signature & Date | E14: Reason for Change
A15: c | B15: V2.1 | C15: Aidan Riley Education Officer | D15: AR 12/12/24 | E15: Update to general formatting & implementation of conditional formating to streamline moderator feedback.
B19: E endorsements@cimspa.co.uk T 03438 360200 W www.cimspa.co.uk
B20: Chartered Institute for the Management of Sport and Physical Activity,
B21: SportPark Loughborough University, 3 Oakwood Drive, Loughborough, Leicestershire LE11 3QF
B22: Incorporated by Royal Charter Charity Registration No. 1144545

Sheet Sheet1

Sheet Mapping Template
E1: Education Product Title: INSERT HERE
B2: Professional Standard: Coach Developer | E2: Partner Mapping Section | J2: Moderator Feedback Section | Q2: IV Feedback Section
A3: Topic | B3: Competency | D3: Learning Outcome(s) | E3: Evidence (sign post to SOW / course specification / supporting documents) | F3: Assessment Method | G3: Further Comments (expand on evidence within column E) | H3: Response to Moderator Feedback Section (second review evidence - if applicable) | J3: Score | K3: Mapping to point | L3: % mapped to section | M3: Moderator comments | N3: General Feedback (first review) | O3: General Feedback (second review - if applicable) | Q3: IV Comments
B4: Ref | C4: Knowledge and understanding (K&U): | D4: A Coach Developer must:
B5: K1.1 | C5: Who are you developing | D5: Theories and concepts to understand coaches’ needs and wants. The coach developer has applied knowledge of: | K5: {=IF((AND(J5:J9=1)), "Fully Mapped", "Not/ Partially Mapped")} -> Not/ Partially Mapped | L5: =SUM('Workings out'!B5:B27) -> 0
D6: · bio-psycho-social theories and concepts of human growth and motivation[1];
D7: · personal development plans and needs analysis strategies;
D8: · sport pathway structures; key roles, processes and stakeholders;
D9: · theories and concepts regarding the influence of political, social, organisational, and cultural norms on practices, relationships and decision-making.
B10: K1.2 | C10: How are you supporting learning | D10: Using theories and concepts to create meaningful learning and development experiences. The coach developer has applied knowledge of: | K10: {=IF((AND(J10:J18=1)), "Fully Mapped", "Not/ Partially Mapped")} -> Not/ Partially Mapped
D11: · theories and concepts relating to how adults learn and develop knowledge, skills, and practices;
D12: · theories, concepts and ideas relating to coach development practice;
D13: · behavioural strategies for building effective relationships;
D14: · inclusive practices which reflect principles of equality and diversity;
D15: · working with individuals and groups;
D16: · the potential impacts of change on coaches and others;
D17: · theories, concepts and ideas regarding contextually effective communication – listening, questioning, negotiating – to support learning and development;
D18: · collecting and using data to stimulate learning through feedback, practice, and reflection, including dialogue transcripts, notation, video and audio materials.
B19: K1.3 | C19: What are you working with them on | D19: Using theories and concepts to understand the athlete and coach curricula. The coach developer has applied knowledge of:
D20: · sport and system strategy; | K20: =IF((AND(J20:J28)), "Fully Mapped", "Not/ Partially Mapped") -> #VALUE!
D21: · using concepts, ideas, and frameworks to support coaches’ goal formation;
D22: · training and preparation principles and how these impact on training and competition scheduling;
D23: · contracting effectively;
D24: · behavioural, cognitive, psychological, and social perspectives on the practice of coaching;
D25: · the professional expectations and responsibilities of being a coach developer, including duty of care, understanding of role boundaries and scope of practice, and appropriate representation of skills and knowledge;
D26: · theories, concepts, ideas, frameworks, and models with which to explore:
D27: · curriculum relating to the athlete, including: ­ - athletes’ needs and wants; ­ sport, activity, and performance models; ­ strategies for supporting learning on and off the ‘field of play’; ­ pedagogies; ­ motor and skill acquisition in sport;
D28: · curriculum relating to the coach, including: ­ - integration of learning and development experiences into work environments, and with existing and future learning and development experiences; ­ developmental needs and wants as they relate to a coach’s role; ­ a coach’s roles, responsibilities, and aspirations; ­ working with, managing, and influencing others.
B29: Ref | C29: Skills: | D29: A Coach Developer must be able to:
B30: S1.1 | C30: Who and how? | D30: Combining an understanding of coaches’ needs and wants with an understanding of meaningful learning and development experiences for: | K30: =IF((AND(J30:J49)), "Fully Mapped", "Not/ Partially Mapped") -> #VALUE! | L30: =SUM('Workings out'!C5:C47) -> 0
D31: Planning and initiating coach learning and development;
D32: · using bio-psycho-social theories, concepts, ideas, frameworks, and models as thinking tools to evaluate a coach’s behaviour;
D33: · gathering information about a coach’s working environments;
D34: · planning and scaffolding learning opportunities to support a coach’s understanding;
D35: · selecting appropriate behavioural strategies in order to build effective relationships;
D36: · contracting effectively;
D37: · planning to engage identified stakeholders in support of an intervention.
D38: Supporting and sustaining coach learning and development:
D39: · considering and prioritising athlete/participant, coach and personal wellbeing;
D40: · establishing and maintaining purposeful, inclusive, and support-oriented relationships;
...

Sheet Mapping results
D1: Sections | E1: Specifications | F1: %worth of each section | G1: Total % covered of area | H1: Section % of total standard | I1: % covered of entire standard
B2: 1 | C2: Knowledge | D2: 3 | E2: 24 | F2: =100/E2 -> 4.1666667 | G2: =SUM('Mapping Template'!L5:L28) -> 0 | H2: =(E2/E5)*100 -> 26.086957 | I2: =(H2/100)*G2 -> 0
C3: Skills | D3: 2 | E3: 43 | F3: =100/E3 -> 2.3255814 | G3: =SUM('Mapping Template'!L30:L72) -> 0 | H3: {=(E3/_xlfn.ANCHORARRAY(E5))*100} -> 46.73913 | I3: =(H3/100)*G3 -> 0
B4: 2 | C4: Knowledge | D4: 2 | E4: 25 | F4: =100/E4 -> 4 | G4: =SUM('Mapping Template'!L73:L97) -> 0 | H4: =(E4/E5)*100 -> 27.173913 | I4: =(H4/100)*G4 -> 0
B5: Totals | D5: =SUM(D2:D4) -> 7 | E5: =SUM(E2:E4) -> 92 | H5: =SUM(H2:H4) -> 100 | I5: =SUM(I2:I4) -> 0

Sheet Feedback
A1: Standardised feedback comments | B1: Assessment methods
A2: Comprehensive evidence | B2: Multiple
A3: Sufficient evidence | B3: Case study
A4: Further evidence required | B4: Dissertation
B5: Exam
B6: Written test
B7: Listening test
B8: Oral test
B9: Performance/ practical
B10: Portfolio
B11: Professional discussion
B12: Project
B13: Simulation
B14: Online test
B15: Attendence only
B16: Assignment
B17: Other

Sheet Workings out
A1: Calculating the totally percentage of knowledge/ skill covered in each section
B2: K1 | C2: S1 | D2: K2
A3: % value | B3: 4.34 | C3: 2.3255814 | D3: 4
A4: # spec | B4: 24 | C4: 43 | D4: 25
A5: Sections | B5: =IF('Mapping Template'!$J5=1,B$3,0) -> 0 | C5: =IF('Mapping Template'!$J30=1,C$3,0) -> 0 | D5: =IF('Mapping Template'!$J73=1,D$3,0) -> 0
B6: =IF('Mapping Template'!$J6=1,B$3,0) -> 0 | C6: =IF('Mapping Template'!$J31=1,C$3,0) -> 0 | D6: =IF('Mapping Template'!$J74=1,D$3,0) -> 0
B7: =IF('Mapping Template'!$J7=1,B$3,0) -> 0 | C7: =IF('Mapping Template'!$J32=1,C$3,0) -> 0 | D7: =IF('Mapping Template'!$J75=1,D$3,0) -> 0
B8: =IF('Mapping Template'!$J8=1,B$3,0) -> 0 | C8: =IF('Mapping Template'!$J33=1,C$3,0) -> 0 | D8: =IF('Mapping Template'!$J76=1,D$3,0) -> 0
B9: =IF('Mapping Template'!$J9=1,B$3,0) -> 0 | C9: =IF('Mapping Template'!$J34=1,C$3,0) -> 0 | D9: =IF('Mapping Template'!$J77=1,D$3,0) -> 0
B10: =IF('Mapping Template'!$J10=1,B$3,0) -> 0 | C10: =IF('Mapping Template'!$J35=1,C$3,0) -> 0 | D10: =IF('Mapping Template'!$J78=1,D$3,0) -> 0
B11: =IF('Mapping Template'!$J11=1,B$3,0) -> 0 | C11: =IF('Mapping Template'!$J36=1,C$3,0) -> 0 | D11: =IF('Mapping Template'!$J79=1,D$3,0) -> 0
B12: =IF('Mapping Template'!$J12=1,B$3,0) -> 0 | C12: =IF('Mapping Template'!$J37=1,C$3,0) -> 0 | D12: =IF('Mapping Template'!$J80=1,D$3,0) -> 0
B13: =IF('Mapping Template'!$J13=1,B$3,0) -> 0 | C13: =IF('Mapping Template'!$J38=1,C$3,0) -> 0 | D13: =IF('Mapping Template'!$J81=1,D$3,0) -> 0
B14: =IF('Mapping Template'!$J14=1,B$3,0) -> 0 | C14: =IF('Mapping Template'!$J39=1,C$3,0) -> 0 | D14: =IF('Mapping Template'!$J82=1,D$3,0) -> 0
B15: =IF('Mapping Template'!$J15=1,B$3,0) -> 0 | C15: =IF('Mapping Template'!$J40=1,C$3,0) -> 0 | D15: =IF('Mapping Template'!$J83=1,D$3,0) -> 0
B16: =IF('Mapping Template'!$J16=1,B$3,0) -> 0 | C16: =IF('Mapping Template'!$J41=1,C$3,0) -> 0 | D16: =IF('Mapping Template'!$J84=1,D$3,0) -> 0
B17: =IF('Mapping Template'!$J17=1,B$3,0) -> 0 | C17: =IF('Mapping Template'!$J42=1,C$3,0) -> 0 | D17: =IF('Mapping Template'!$J85=1,D$3,0) -> 0
B18: =IF('Mapping Template'!$J18=1,B$3,0) -> 0 | C18: =IF('Mapping Template'!$J43=1,C$3,0) -> 0 | D18: =IF('Mapping Template'!$J86=1,D$3,0) -> 0
B19: =IF('Mapping Template'!$J20=1,B$3,0) -> 0 | C19: =IF('Mapping Template'!$J44=1,C$3,0) -> 0 | D19: =IF('Mapping Template'!$J87=1,D$3,0) -> 0
B20: =IF('Mapping Template'!$J21=1,B$3,0) -> 0 | C20: =IF('Mapping Template'!$J45=1,C$3,0) -> 0 | D20: =IF('Mapping Template'!$J88=1,D$3,0) -> 0
B21: =IF('Mapping Template'!$J22=1,B$3,0) -> 0 | C21: =IF('Mapping Template'!$J46=1,C$3,0) -> 0 | D21: =IF('Mapping Template'!$J89=1,D$3,0) -> 0
B22: =IF('Mapping Template'!$J23=1,B$3,0) -> 0 | C22: =IF('Mapping Template'!$J47=1,C$3,0) -> 0 | D22: =IF('Mapping Template'!$J90=1,D$3,0) -> 0
B23: =IF('Mapping Template'!$J24=1,B$3,0) -> 0 | C23: =IF('Mapping Template'!$J48=1,C$3,0) -> 0 | D23: =IF('Mapping Template'!$J91=1,D$3,0) -> 0
B24: =IF('Mapping Template'!$J25=1,B$3,0) -> 0 | C24: =IF('Mapping Template'!$J49=1,C$3,0) -> 0 | D24: =IF('Mapping Template'!$J92=1,D$3,0) -> 0
B25: =IF('Mapping Template'!$J26=1,B$3,0) -> 0 | C25: =IF('Mapping Template'!$J50=1,C$3,0) -> 0 | D25: =IF('Mapping Template'!$J93=1,D$3,0) -> 0
B26: =IF('Mapping Template'!$J27=1,B$3,0) -> 0 | C26: =IF('Mapping Template'!$J51=1,C$3,0) -> 0 | D26: =IF('Mapping Template'!$J94=1,D$3,0) -> 0
B27: =IF('Mapping Template'!$J28=1,B$3,0) -> 0 | C27: =IF('Mapping Template'!$J52=1,C$3,0) -> 0 | D27: =IF('Mapping Template'!$J95=1,D$3,0) -> 0
C28: =IF('Mapping Template'!$J53=1,C$3,0) -> 0 | D28: =IF('Mapping Template'!$J96=1,D$3,0) -> 0
C29: =IF('Mapping Template'!$J54=1,C$3,0) -> 0 | D29: =IF('Mapping Template'!$J97=1,D$3,0) -> 0
C30: =IF('Mapping Template'!$J55=1,C$3,0) -> 0
C31: =IF('Mapping Template'!$J56=1,C$3,0) -> 0
C32: =IF('Mapping Template'!$J57=1,C$3,0) -> 0
C33: =IF('Mapping Template'!$J58=1,C$3,0) -> 0
C34: =IF('Mapping Template'!$J59=1,C$3,0) -> 0
C35: =IF('Mapping Template'!$J60=1,C$3,0) -> 0
C36: =IF('Mapping Template'!$J61=1,C$3,0) -> 0
C37: =IF('Mapping Template'!$J62=1,C$3,0) -> 0
C38: =IF('Mapping Template'!$J63=1,C$3,0) -> 0
C39: =IF('Mapping Template'!$J64=1,C$3,0) -> 0
C40: =IF('Mapping Template'!$J65=1,C$3,0) -> 0
...
