Workbook

Sheet Guidance
B1: #VALUE!
B2: Working with Culturally and Ethnically Diverse Communities Mapping Template
B3: Edition: V1.1
B4: Publication date: June 2024
B6: Navigating this document
B7: Mapping guidance - you are here!
B8: Mapping template to reference and evidence where the professional standard is being met by the course/ participant/ qualification
B9: N.B. Examples (e.g.) are given within the LDRs to provide an overview of the knowledge and skills most relevant to the role. It is not mandatory to assess learners against 100% of the examples provided, however, sufficient coverage to ensure occupational competence on achievement must be ensured. This will be reviewed as part of the CIMSPA endorsement process.
B10: For non-regulated qualifications (CPD), where an Education Partner does not meet the full CIMSPA professional standard. However, it is important to note, that the Education Partner must meet a full Knowledge or Skill LDR. For example, all sections within K1.1 would need to be evidenced for that LDR to partially map to the professional standard.
B11: For further information around product development guidance, please refer to the professional standard within the professional standard library; https://www.cimspa.co.uk/education-training/professional-standards/professional-standards-library/
B12: Alternatively, please view our CIMPSA Partner Endorsement Guide;https://cimspa.co.uk/education-training/endorsement/
B14: Revision History
B15: Version | C15: Name & Role | D15: Signature & Date | E15: Reason for Change
B16: V1.1 | C16: Aidan Riley Education Officer | D16: AR 22/01/25 | E16: Update to general formatting & implementation of conditional formating to streamline moderator feedback.
B20: E endorsements@cimspa.co.uk T 03438 360200 W www.cimspa.co.uk
B21: Chartered Institute for the Management of Sport and Physical Activity,
B22: SportPark Loughborough University, 3 Oakwood Drive, Loughborough, Leicestershire LE11 3QF
B23: Incorporated by Royal Charter Charity Registration No. 1144545

Sheet Mapping Template
E1: Education Product Title: INSERT HERE
A2: Professional Standard: Working with Culturally and Ethnically Diverse Communities | E2: Partner Mapping Section | J2: Moderator Feedback Section | Q2: IV Feedback Section
A3: Topic | B3: Competency | D3: Learning Outcome(s) | E3: Evidence (sign post to SOW / course specification / supporting documents) | F3: Assessment Method | G3: Further Comments (expand on evidence within column E) | H3: Response to Moderator Feedback Section (second review evidence - if applicable) | J3: Score | K3: Mapping to Point | L3: % Mapped to Section | M3: Moderator comments | N3: General Feedback (first review) | O3: General Feedback (second review - if applicable) | Q3: IV Comments
A4: 1. Where is sport currently | B4: Ref | C4: Knowledge & Understanding (K&U: | D4: Those working with culturally and ethnically diverse communities must:
B5: K1.1 | C5: A good understanding of current diversity and representation levels across sport | D5: Understand the clear links between ethnicity and inactivity in the UK. | K5: {=IF((AND(J5:J7=1)), "Fully Mapped", "Not/ Partially Mapped")} -> Not/ Partially Mapped | L5: =SUM('Workings out'!B5:B11) -> 0
D6: Have a good knowledge of the representation levels across participation levels, coaches, officials and leaders in sport.
D7: Have an appreciation of the representation levels in the sporting workforce, compared to the overall population.
B8: K1.2 | C8: An understanding of some of the factors behind the lower representation figures | D8: Understand the critical link between participation, inclusion and a respect for cultural identity. | K8: {=IF((AND(J8:J11=1)), "Fully Mapped", "Not/ Partially Mapped")} -> Not/ Partially Mapped
D9: Understand the link between psychological safety and participation.
D10: Understand the role racial stereotyping, the lack of role models and the media have on participation.
D11: Understand the pivotal role they can play in the building of trust and inclusion for racialised participants.
B12: Ref | C12: Skills | D12: Those working with culturally and ethnically diverse communities must be able to:
B13: S1.1 | C13: Be able to display conscious awareness and allyship to culturally and ethnically diverse communities | D13: Consistently demonstrate an allyship approach to coaching practice. | K13: {=IF((AND(J13:J15=1)), "Fully Mapped", "Not/ Partially Mapped")} -> Not/ Partially Mapped | L13: =SUM('Workings out'!C5:C7) -> 0
D14: Identify and proactively seek indicators of barriers to racial inclusion.
D15: Proactively and consciously explore key processes and decisions in relation to their inclusion of culturally and ethnically diverse people and communities.
A16: 2. Background to racial inequalities in sport | B16: Ref | C16: K&U | D16: Those working with culturally and ethnically diverse communities must:
B17: K2.1 | C17: An understanding of how pre WW2 sport history played a formative role in perpetuating racism and racial inequalities in sporting systems | D17: Understand the influence of historical events, including racial theories and the subsequent role of the British Empire, in the design and codification of modern sports. | K17: {=IF((AND(J17:J20=1)), "Fully Mapped", "Not/ Partially Mapped")} -> Not/ Partially Mapped | L17: =SUM('Workings out'!D5:D14) -> 0
D18: Understand how sport was used in colonial times to impart British values on colonial people, and the legacies of that today.
D19: Understand some of the conflicts to British values in actionable practice, including the quashing of other local sports, and implementing forms of racial segregation / hierarchical rules or roles within teams and sports.
D20: Understand the above in the context of your primary sport.
B21: K2.2 | C21: An understanding of post WW2 sport history, and sport’s changing role in racism and racial inequalities | D21: Understand the impact of decolonisation on racism and racial inequalities in sport. | K21: {=IF((AND(J21:J23=1)), "Fully Mapped", "Not/ Partially Mapped")} -> Not/ Partially Mapped
D22: Understand the impact of post-war immigration in the UK on racism, and racial inequalities in sport.
D23: Understand the above in the context of your primary sport
B24: K2.3 | C24: An understanding of how history still has an impact on our sporting system today | D24: Understand sport’s unique historical role in being a key driver for present day racial inequalities and racism, as opposed to simply a mirror of society. | K24: {=IF((AND(J24:J26=1)), "Fully Mapped", "Not/ Partially Mapped")} -> Not/ Partially Mapped
D25: Understand the importance of this in forming racial stereotypes and sporting traditions, some of which still exist today.
D26: Understand how some legacies and traditions may be exclusionary, based on their connections to periods of sport’s history.
B27: Ref | C27: Skills | D27: Those working with culturally and ethnically diverse communities must be able to:
B28: S2.1 | C28: Able to make reforms that prioritise inclusion of others over tradition and legacies | D28: Make adjustments to ensure exclusionary practice is adjusted, advocating against resistance on the grounds of tradition and legacy is used as a reason for maintaining exclusionary practice. | K28: {=IF((AND(J28:J29=1)), "Fully Mapped", "Not/ Partially Mapped")} -> Not/ Partially Mapped | L28: =SUM('Workings out'!E5:E6) -> 0
D29: Explain and advocate for differing cultural perspectives in sport.
A30: 3. Culturally and Ethnically Diverse | B30: Ref | C30: K&U | D30: Those working with culturally and ethnically diverse communities must:
B31: K3.1 | C31: Explain and advocate for differing cultural perspectives in sport. | D31: Understand what culturally and ethnically diverse practice means and how to apply it in a coaching setting. | K31: {=IF((AND(J31:J32=1)), "Fully Mapped", "Not/ Partially Mapped")} -> Not/ Partially Mapped | L31: =SUM('Workings out'!F5:F6) -> 0
D32: Understand how this differs from being not racist, and the importance of being consistent and proactive in addressing racial inequalities as a practitioner in sport.
B33: Ref | C33: Skills | D33: Those working with culturally and ethnically diverse communities must be able to:
B34: S3.1 | C34: An ability to apply culturally and ethnically diverse practices to your sporting system | D34: Critically assess your own actions in a more nuanced and informed way, in order to make personal and environmental improvements and progress. | K34: =IF((AND(J34=1)), "Fully Mapped", "Not/ Partially Mapped") -> Not/ Partially Mapped | L34: =SUM('Workings out'!G5) -> 0
A35: 4. Understanding Racism | B35: Ref | C35: K&U | D35: Those working with culturally and ethnically diverse communities must:
B36: K4.1 | C36: The origins of racism and the basis under which it exists in sport | D36: Understand that race is a social construct, only relatively new in human history terms, and has no scientific basis to it. | K36: {=IF((AND(J36:J40=1)), "Fully Mapped", "Not/ Partially Mapped")} -> Not/ Partially Mapped | L36: =SUM('Workings out'!H5:H27) -> 0
D37: Understand that classifying people into races using this construct has enabled systemic racism to prevail over a long period of time.
D38: Understand how this has become part of people’s cultural identity, and that it cannot be ignored.
D39: Understand the importance of understanding intersectionality and lived experience in creative inclusive environments.
D40: Have an appreciation as to why individuals find it hard to speak up about racism, leading to problems often remaining hidden or difficult to spot.
B41: K4.2 | C41: Institutional racism | D41: Clearly understand the definition of institutional racism. | K41: {=IF((AND(J41:J43=1)), "Fully Mapped", "Not/ Partially Mapped")} -> Not/ Partially Mapped
D42: Understand and be able to spot indicators that institutional racism exists.
D43: Understand how institutional racism differs from individual and overt racism.
B44: K4.3 | C44: Everyday racism | D44: Understand what everyday racism is, and how it might manifest itself in a sporting setting. | K44: {=IF((AND(J44:J45=1)), "Fully Mapped", "Not/ Partially Mapped")} -> Not/ Partially Mapped
D45: Understand impact on the individual is always primary to the intent to cause harm.
B46: K4.4 | C46: Microaggressions | D46: Understand what microaggressions are, and the different forms they can take. | K46: {=IF((AND(J46:J47=1)), "Fully Mapped", "Not/ Partially Mapped")} -> Not/ Partially Mapped
D47: Understand the cumulative impact microaggressions can have on individuals.
B48: K4.5 | C48: Internalised racism | D48: Understand what internalised racism is, and the reasons for its origin. | K48: {=IF((AND(J48:J50=1)), "Fully Mapped", "Not/ Partially Mapped")} -> Not/ Partially Mapped
D49: Appreciating an individual’s lived experience is a complex and personal thing, and the importance therefore of furthering your own learning on systemic and cultural issues, rather than leaving the burden of education and change to culturally and ethnically diverse communities.
D50: Appreciate that there are many factors to consider in racialised experience, and that this cannot be simplified to one individual’s racialised experience, as translatable to that of others.
B51: K4.6 | C51: Whiteness and privilege | D51: Understand what privilege is, and how it relates to racialised experiences in sport. | K51: {=IF((AND(J51:J52=1)), "Fully Mapped", "Not/ Partially Mapped")} -> Not/ Partially Mapped
D52: Understand the importance of intersectionality in privilege and disadvantage.
B53: K4.7 | C53: Racial colour-blindness | D53: Understand the importance of discussing racism and racial inequalities, in addressing it. | K53: {=IF((AND(J53:J53=1)), "Fully Mapped", "Not/ Partially Mapped")} -> Not/ Partially Mapped
D54: Understand that taking a ‘colour blind’ approach to racism will not address the problem.
B55: K4.8 | C55: (Un)conscious bias | D55: Understand what drives our bias, and the different forms it can take. | K55: =IF((AND(J55=1)), "Fully Mapped", "Not/ Partially Mapped") -> Not/ Partially Mapped
B56: K4.9 | C56: Racial stereotyping | D56: Understand the scale of the impact racial stereotyping has on racial inequalities and outcomes. | K56: =IF((AND(J56=1)), "Fully Mapped", "Not/ Partially Mapped") -> Not/ Partially Mapped
B57: K4.10 | C57: PCS Model for discrimination | D57: Understand the PCS model, and its importance in understanding racialised experiences in systems. | K57: {=IF((AND(J57:J58=1)), "Fully Mapped", "Not/ Partially Mapped")} -> Not/ Partially Mapped
D58: Understand how differing forms of racism intertwine to create a culture and set of behaviours.
B59: Ref | C59: Skills | D59: Those working with culturally and ethnically diverse communities must be able to:
B60: S4.1 | C60: The origins of racism and the basis under which it exists in sport | D60: Be able to confidently explore ‘race’ and cultural identity, as a route to belonging and inclusion, not something to be feared. | K60: {=IF((AND(J60:J61=1)), "Fully Mapped", "Not/ Partially Mapped")} -> Not/ Partially Mapped | L60: =SUM('Workings out'!I5:I21) -> 0
D61: Be able to see and understand intersectionality with racialised experience, and how that creates unique experiences and needs for those participating in sport.
B62: S4.2 | C62: Institutional racism | D62: Tackle systemic issues that lead to racial inequalities. | K62: {=IF((AND(J62:J64=1)), "Fully Mapped", "Not/ Partially Mapped")} -> Not/ Partially Mapped
D63: Critically assess and spot indicators of institutional racism.
D64: Design procedural and systemic interventions which ensure racial equity and inclusion from the start.
B65: S4.3 | C65: Everyday racism | D65: Be empathetic and compassionate to the needs of those experiencing everyday racism, and better able to spot and support people experiencing it. | K65: =IF((AND(J65=1)), "Fully Mapped", "Not/ Partially Mapped") -> Not/ Partially Mapped
B66: S4.4 | C66: Micro-aggressions | D66: Act appropriately when witnessing or confronted with micro-aggressions and poor behaviour. | K66: =IF((AND(J66=1)), "Fully Mapped", "Not/ Partially Mapped") -> Not/ Partially Mapped
B67: S4.5 | C67: Internalised racism | D67: Be able to factor internalised racisms into assessing circumstances. | K67: {=IF((AND(J67:J68=1)), "Fully Mapped", "Not/ Partially Mapped")} -> Not/ Partially Mapped
D68: Ensure internalised racism is not used to invalidate the racialised experience of others.
B69: S4.6 | C69: Whiteness and Privilege | D69: Consistently use any privilege to include others who do not have it. | K69: {=IF((AND(J69:J70=1)), "Fully Mapped", "Not/ Partially Mapped")} -> Not/ Partially Mapped
D70: Understand how to use privilege, and the explanation of privilege, in a supporting non-confrontational way.
B71: S4.7 | C71: Racial Colour-blindness | D71: Ensure colourblind views are tactfully challenged, to ensure conversations on racism and inclusion can be encouraged to happen. | K71: {=IF((AND(J71:J72=1)), "Fully Mapped", "Not/ Partially Mapped")} -> Not/ Partially Mapped
D72: Explore and lead conversations on ‘race’ and racism to help consciously improve understanding of issues and cultural differences.
B73: S4.8 | C73: (Un)conscious bias | D73: Spot bias in yourself and others, and be able to check it where it may lead to negative views or consequences. | K73: =IF((AND(J73=1)), "Fully Mapped", "Not/ Partially Mapped") -> Not/ Partially Mapped
B74: S4.9 | C74: Racial stereotyping | D74: Recognise and challenge racial stereotypes, as and when they display. | K74: =IF((AND(J74=1)), "Fully Mapped", "Not/ Partially Mapped") -> Not/ Partially Mapped
B75: S4.10 | C75: PCS Model | D75: Positively improve culture to ensure inclusivity using the PCS model as a guide. | K75: {=IF((AND(J75:J76=1)), "Fully Mapped", "Not/ Partially Mapped")} -> Not/ Partially Mapped
D76: Consistently tackle all forms of racism as a whole, in order to shift culture.
A77: 5. Equality and Equity | B77: Ref | C77: K&U | D77: Those working with culturally and ethnically diverse communities must:
B78: K5.1 | C78: Differentiating between different equality approaches | D78: Be able to understand the difference between the terms diversity, inclusion, equality and equity. | K78: {=IF((AND(J78:J80=1)), "Fully Mapped", "Not/ Partially Mapped")} -> Not/ Partially Mapped | L78: =SUM('Workings out'!J5:J24) -> 0
D79: Be able to see how they are linked, but that one does not always lead to another.
D80: Have a good understanding of the different types of equality approaches, and how they differ in their impact on achieving equity.
B81: Ref | C81: Skills: | D81: Those working with culturally and ethnically diverse communities must be able to:
B82: S5.1 | C82: Applying equality approaches | D82: Use a more nuanced understanding of equity and equality to assess the effectiveness of activities and decisions in addressing racial inequalities. | K82: =IF((AND(J82=1)), "Fully Mapped", "Not/ Partially Mapped") -> Not/ Partially Mapped | L82: =SUM('Workings out'!K5) -> 0
A83: 6. Allyship | B83: Ref | C83: K&U | D83: Those working with culturally and ethnically diverse communities must:
B84: K6.1 | C84: Reacting well when challenged | D84: Understand that getting things wrong in pursuit of making things better is ok, but reacting appropriately when challenged is critical. | K84: {=IF((AND(J84:J86=1)), "Fully Mapped", "Not/ Partially Mapped")} -> Not/ Partially Mapped | L84: =SUM('Workings out'!L5:L15) -> 0
D85: Understand the importance of putting the individual with the racialised experience at the centre of any response.
D86: Understand that reacting emotionally when challenged is a natural stress reaction, but with conscious awareness you can prevent this from happening.
B87: K6.2 | C87: Active Bystander | D87: Understand fully the active bystander approach, and the importance of following it. | K87: {=IF((AND(J87:J90=1)), "Fully Mapped", "Not/ Partially Mapped")} -> Not/ Partially Mapped
D88: Understand why people often fail to step in when witnessing problematic behaviour.
D89: Understand the ‘5ds’ principles of active bystander work.
D90: Understand different techniques for intervening directly, and indirectly. Understand the six steps to resolution.
B91: K6.3 | C91: Allyship | D91: Understand the definition of allyship, and the need to be consistent. | K91: {=IF((AND(J91:J94=1)), "Fully Mapped", "Not/ Partially Mapped")} -> Not/ Partially Mapped
D92: Understand that acting consistently is more important than only acting when you feel confident you will get it right.
D93: Understand and avoid saviour mentality and performative allyship.
D94: Understand how your allyship can have a wider positive impact on culture in your sport.
B95: Ref | C95: Skills: | D95: Those working with culturally and ethnically diverse communities must be able to:
B96: S6.1 | C96: Reacting well when challenged | D96: React appropriately if challenged. | K96: {=IF((AND(J96:J98=1)), "Fully Mapped", "Not/ Partially Mapped")} -> Not/ Partially Mapped | L96: =SUM('Workings out'!M5:M13) -> 0
D97: Respond appropriately if you witness or confront racist behaviour.
D98: Amplify voices and perspectives of people from other backgrounds and cultures.
B99: S6.2 | C99: Active Bystander | D99: Confidently intervene when witnessing problematic behaviour. | K99: {=IF((AND(J99:J102=1)), "Fully Mapped", "Not/ Partially Mapped")} -> Not/ Partially Mapped
D100: Critically assess safety and circumstance, in deciding how best to intervene.
...

Sheet Mapping results
B1: Mapping Breakdown shows a breakdown of the percentage that your course has mapped to each sections knowledge and skills criteria, and the overall percentage that your course has mapped to the professional standard
D2: Sections | E2: Specifications | F2: %worth of each section | G2: Total % covered of area | I2: % covered of entire standard
B3: 1 | C3: Knowledge | D3: 5 | E3: 7 | F3: =100/E3 -> 14.285714 | G3: =SUM('Mapping Template'!L5:L11) -> 0 | H3: =(E3/E17)*100 -> 7.2164948 | I3: =(H3/100)*G3 -> 0
C4: Skills | D4: 5 | E4: 3 | F4: =100/E4 -> 33.333333 | G4: =SUM('Mapping Template'!L13:L15) -> 0 | H4: {=(E4/_xlfn.ANCHORARRAY(E17))*100} -> 3.0927835 | I4: =(H4/100)*G4 -> 0
B5: 2 | C5: Knowledge | D5: 8 | E5: 10 | F5: =100/E5 -> 10 | G5: =SUM('Mapping Template'!L17:L26) -> 0 | H5: =(E5/E17)*100 -> 10.309278 | I5: =(H5/100)*G5 -> 0
C6: Skills | D6: 7 | E6: 2 | F6: =100/E6 -> 50 | G6: =SUM('Mapping Template'!L28:L29) -> 0 | H6: =(E6/E17)*100 -> 2.0618557 | I6: =(H6/100)*G6 -> 0
B7: 3 | C7: Knowledge | D7: 5 | E7: 2 | F7: =100/E7 -> 50 | G7: =SUM('Mapping Template'!L31:L32) -> 0 | H7: =(E7/E17)*100 -> 2.0618557 | I7: =(H7/100)*G7 -> 0
C8: Skills | D8: 3 | E8: 1 | F8: =100/E8 -> 100 | G8: =SUM('Mapping Template'!L34) -> 0 | H8: =(E8/E17)*100 -> 1.0309278 | I8: =(H8/100)*G8 -> 0
B9: 4 | C9: Knowledge | D9: 3 | E9: 23 | F9: =100/E9 -> 4.3478261 | G9: =SUM('Mapping Template'!L36:L58) -> 0 | H9: =(E9/E17)*100 -> 23.71134 | I9: =(H9/100)*G9 -> 0
C10: Skills | D10: 1 | E10: 17 | F10: =100/E10 -> 5.8823529 | G10: =SUM('Mapping Template'!L60:L76) -> 0 | H10: =(E10/E17)*100 -> 17.525773 | I10: =(H10/100)*G10 -> 0
B11: 5 | C11: Knowledge | D11: 9 | E11: 3 | F11: =100/E11 -> 33.333333 | G11: =SUM('Mapping Template'!L78:L80) -> 0 | H11: =(E11/E17)*100 -> 3.0927835 | I11: =(H11/100)*G11 -> 0
C12: Skills | D12: 1 | E12: 1 | F12: =100/E12 -> 100 | G12: =SUM('Mapping Template'!L82) -> 0 | H12: =(E12/E17)*100 -> 1.0309278 | I12: =(H12/100)*G12 -> 0
B13: 6 | C13: Knowledge | D13: 3 | E13: 11 | F13: =100/E13 -> 9.0909091 | G13: =SUM('Mapping Template'!L84:L94) -> 0 | H13: =(E13/E17)*100 -> 11.340206 | I13: =(H13/100)*G13 -> 0
C14: Skills | D14: 3 | E14: 9 | F14: =100/E14 -> 11.111111 | G14: =SUM('Mapping Template'!L96:L104) -> 0 | H14: =(E14/E17)*100 -> 9.2783505 | I14: =(H14/100)*G14 -> 0
B15: 7 | C15: Knowledge | D15: 3 | E15: 5 | F15: =100/E15 -> 20 | G15: =SUM('Mapping Template'!L106:L110) -> 0 | H15: =(E15/E17)*100 -> 5.1546392 | I15: =(H15/100)*G15 -> 0
C16: Skills | D16: 2 | E16: 3 | F16: =100/E16 -> 33.333333 | G16: =SUM('Mapping Template'!L112:L114) -> 0 | H16: =(E16/$E$17)*100 -> 3.0927835 | I16: =(H16/100)*G16 -> 0
B17: Totals | D17: =SUM(D3:D16) -> 58 | E17: =SUM(E3:E16) -> 97 | H17: =SUM(H3:H16) -> 100 | I17: =SUM(I3:I16) -> 0

Sheet Workings out
A1: Calculating the totally percentage of knowledge/ skill covered in each section
B2: K1 | C2: S1 | D2: K2 | E2: S2 | F2: K3 | G2: S3 | H2: K4 | I2: S4 | J2: K5 | K2: S5 | L2: K6 | M2: S6 | N2: K7 | O2: S7
A3: % value | B3: =100/B4 -> 14.285714 | C3: =100/C4 -> 33.333333 | D3: =100/D4 -> 10 | E3: =100/E4 -> 50 | F3: =100/F4 -> 50 | G3: =100/G4 -> 100 | H3: =100/H4 -> 4.3478261 | I3: =100/I4 -> 5.8823529 | ... O3: =100/O4 -> 33.333333
A4: # spec | B4: 7 | C4: 3 | D4: 10 | E4: 2 | F4: 2 | G4: 1 | H4: 23 | I4: 17 | J4: 3 | K4: 1 | L4: 11 | M4: 9 | N4: 5 | O4: 3
A5: Sections | B5: =IF('Mapping Template'!$J5=1,B$3,0) -> 0 | C5: =IF('Mapping Template'!$J13=1,C$3,0) -> 0 | D5: =IF('Mapping Template'!$J17=1,D$3,0) -> 0 | E5: =IF('Mapping Template'!$J28=1,E$3,0) -> 0 | F5: =IF('Mapping Template'!$J31=1,F$3,0) -> 0 | G5: =IF('Mapping Template'!$J34=1,G$3,0) -> 0 | H5: =IF('Mapping Template'!$J36=1,H$3,0) -> 0 | I5: =IF('Mapping Template'!J60=1,I$3,0) -> 0 | J5: =IF('Mapping Template'!$J78=1,J$3,0) -> 0 | K5: =IF('Mapping Template'!$J82=1,K$3,0) -> 0 | L5: =IF('Mapping Template'!$J84=1,L$3,0) -> 0 | M5: =IF('Mapping Template'!$J96=1,M$3,0) -> 0 | N5: =IF('Mapping Template'!$J106=1,N$3,0) -> 0 | O5: =IF('Mapping Template'!$J112=1,O$3,0) -> 0
B6: =IF('Mapping Template'!$J6=1,B$3,0) -> 0 | C6: =IF('Mapping Template'!$J14=1,C$3,0) -> 0 | D6: =IF('Mapping Template'!$J18=1,D$3,0) -> 0 | E6: =IF('Mapping Template'!$J29=1,E$3,0) -> 0 | F6: =IF('Mapping Template'!$J32=1,F$3,0) -> 0 | H6: =IF('Mapping Template'!$J37=1,H$3,0) -> 0 | I6: =IF('Mapping Template'!J61=1,I$3,0) -> 0 | J6: =IF('Mapping Template'!$J79=1,J$3,0) -> 0 | L6: =IF('Mapping Template'!$J85=1,L$3,0) -> 0 | M6: =IF('Mapping Template'!$J97=1,M$3,0) -> 0 | N6: =IF('Mapping Template'!$J107=1,N$3,0) -> 0 | O6: =IF('Mapping Template'!$J113=1,O$3,0) -> 0
B7: =IF('Mapping Template'!$J7=1,B$3,0) -> 0 | C7: =IF('Mapping Template'!$J15=1,C$3,0) -> 0 | D7: =IF('Mapping Template'!$J19=1,D$3,0) -> 0 | H7: =IF('Mapping Template'!$J38=1,H$3,0) -> 0 | I7: =IF('Mapping Template'!J62=1,I$3,0) -> 0 | J7: =IF('Mapping Template'!$J80=1,J$3,0) -> 0 | L7: =IF('Mapping Template'!$J86=1,L$3,0) -> 0 | M7: =IF('Mapping Template'!$J98=1,M$3,0) -> 0 | N7: =IF('Mapping Template'!$J108=1,N$3,0) -> 0 | O7: =IF('Mapping Template'!$J114=1,O$3,0) -> 0
B8: =IF('Mapping Template'!$J8=1,B$3,0) -> 0 | D8: =IF('Mapping Template'!$J20=1,D$3,0) -> 0 | H8: =IF('Mapping Template'!$J39=1,H$3,0) -> 0 | I8: =IF('Mapping Template'!J63=1,I$3,0) -> 0 | L8: =IF('Mapping Template'!$J87=1,L$3,0) -> 0 | M8: =IF('Mapping Template'!$J99=1,M$3,0) -> 0 | N8: =IF('Mapping Template'!$J109=1,N$3,0) -> 0
B9: =IF('Mapping Template'!$J9=1,B$3,0) -> 0 | D9: =IF('Mapping Template'!$J21=1,D$3,0) -> 0 | H9: =IF('Mapping Template'!$J40=1,H$3,0) -> 0 | I9: =IF('Mapping Template'!J64=1,I$3,0) -> 0 | L9: =IF('Mapping Template'!$J88=1,L$3,0) -> 0 | M9: =IF('Mapping Template'!$J100=1,M$3,0) -> 0 | N9: =IF('Mapping Template'!$J110=1,N$3,0) -> 0
B10: =IF('Mapping Template'!$J10=1,B$3,0) -> 0 | D10: =IF('Mapping Template'!$J22=1,D$3,0) -> 0 | H10: =IF('Mapping Template'!$J41=1,H$3,0) -> 0 | I10: =IF('Mapping Template'!J65=1,I$3,0) -> 0 | L10: =IF('Mapping Template'!$J89=1,L$3,0) -> 0 | M10: =IF('Mapping Template'!$J101=1,M$3,0) -> 0
B11: =IF('Mapping Template'!$J11=1,B$3,0) -> 0 | D11: =IF('Mapping Template'!$J23=1,D$3,0) -> 0 | H11: =IF('Mapping Template'!$J42=1,H$3,0) -> 0 | I11: =IF('Mapping Template'!J66=1,I$3,0) -> 0 | L11: =IF('Mapping Template'!$J90=1,L$3,0) -> 0 | M11: =IF('Mapping Template'!$J102=1,M$3,0) -> 0
D12: =IF('Mapping Template'!$J24=1,D$3,0) -> 0 | H12: =IF('Mapping Template'!$J43=1,H$3,0) -> 0 | I12: =IF('Mapping Template'!J67=1,I$3,0) -> 0 | L12: =IF('Mapping Template'!$J91=1,L$3,0) -> 0 | M12: =IF('Mapping Template'!$J103=1,M$3,0) -> 0
D13: =IF('Mapping Template'!$J25=1,D$3,0) -> 0 | H13: =IF('Mapping Template'!$J44=1,H$3,0) -> 0 | I13: =IF('Mapping Template'!J68=1,I$3,0) -> 0 | L13: =IF('Mapping Template'!$J92=1,L$3,0) -> 0 | M13: =IF('Mapping Template'!$J104=1,M$3,0) -> 0
D14: =IF('Mapping Template'!$J26=1,D$3,0) -> 0 | H14: =IF('Mapping Template'!$J45=1,H$3,0) -> 0 | I14: =IF('Mapping Template'!J69=1,I$3,0) -> 0 | L14: =IF('Mapping Template'!$J93=1,L$3,0) -> 0
H15: =IF('Mapping Template'!$J46=1,H$3,0) -> 0 | I15: =IF('Mapping Template'!J70=1,I$3,0) -> 0 | L15: =IF('Mapping Template'!$J94=1,L$3,0) -> 0
H16: =IF('Mapping Template'!$J47=1,H$3,0) -> 0 | I16: =IF('Mapping Template'!J71=1,I$3,0) -> 0
H17: =IF('Mapping Template'!$J48=1,H$3,0) -> 0 | I17: =IF('Mapping Template'!J72=1,I$3,0) -> 0
H18: =IF('Mapping Template'!$J49=1,H$3,0) -> 0 | I18: =IF('Mapping Template'!J73=1,I$3,0) -> 0
H19: =IF('Mapping Template'!$J50=1,H$3,0) -> 0 | I19: =IF('Mapping Template'!J74=1,I$3,0) -> 0
H20: =IF('Mapping Template'!$J51=1,H$3,0) -> 0 | I20: =IF('Mapping Template'!J75=1,I$3,0) -> 0
H21: =IF('Mapping Template'!$J52=1,H$3,0) -> 0 | I21: =IF('Mapping Template'!J76=1,I$3,0) -> 0
H22: =IF('Mapping Template'!$J53=1,H$3,0) -> 0
H23: =IF('Mapping Template'!$J54=1,H$3,0) -> 0
H24: =IF('Mapping Template'!$J55=1,H$3,0) -> 0
H25: =IF('Mapping Template'!$J56=1,H$3,0) -> 0
H26: =IF('Mapping Template'!$J57=1,H$3,0) -> 0
H27: =IF('Mapping Template'!$J58=1,H$3,0) -> 0

Sheet Feedback
A1: Standardised feedback comments | B1: Assessment methods
A2: Comprehensive evidence | B2: Assignment
A3: Sufficient evidence | B3: Attendence only
A4: Further evidence required | B4: Case study
B5: Dissertation
B6: Exam
B7: Listening test
B8: Multiple
B9: Online test
B10: Oral test
B11: Performance/ practical
B12: Portfolio
B13: Professional discussion
B14: Project
B15: Simulation
B16: Written test
