Workbook

Sheet Guidance
B1: #VALUE!
B2: Coaching in High Performance Sport Mapping Template
B3: Edition: V3.1
B4: Publication date: 30th January 2025
B6: Mapping Guidance - you are here!
B7: Mapping template to reference and evidence where the professional standard is being met by the course/ participant/ qualification
B8: N.B. Examples (e.g.) are given within the LDRs to provide an overview of the knowledge and skills most relevant to the role. It is not mandatory to assess learners against 100% of the examples provided, however, sufficient coverage to ensure occupational competence on achievement must be ensured. This will be reviewed as part of the CIMSPA endorsement process.
B9: For non-regulated qualifications (CPD), where an Education Partner does not meet the full CIMSPA professional standard, it is important to note, that the Education Partner must meet a full Knowledge or Skill LDR. For example, all three sections within K1.1 would need to evidenced for that LDR to partially map to the professional standard.
B10: For further information around product development guidance, please refer to the professional standard within the professional standard library; https://www.cimspa.co.uk/education-training/professional-standards/professional-standards-library/
B11: Alternatively, please view our CIMPSA Partner Endorsement Guide;https://cimspa.co.uk/education-training/endorsement/
B13: Revision History
B14: Version | C14: Name & Role | D14: Signature & Date | E14: Reason for Change
A15: c | B15: V3.1 | C15: Aidan Riley Education Officer | D15: AR 28/01/25 | E15: Update to general formatting & implementation of conditional formating to streamline moderator feedback.
B19: E endorsements@cimspa.co.uk T 03438 360200 W www.cimspa.co.uk
B20: Chartered Institute for the Management of Sport and Physical Activity,
B21: SportPark Loughborough University, 3 Oakwood Drive, Loughborough, Leicestershire LE11 3QF
B22: Incorporated by Royal Charter Charity Registration No. 1144545

Sheet Mapping Template
E1: Education Product Title: INSERT HERE
A2: Professional Standard: Coaching in High Performance Sport | E2: Partner Mapping Section | J2: Moderator Feedback Section | Q2: IV Feedback Section
A3: Topic | B3: Comptency | D3: Learning Outcome(s) | E3: Evidence (sign post to SOW / course specification / supporting documents) | F3: Assessment Method | G3: Further Comments (expand on evidence within column E / F) | H3: Response to Moderator Feedback Section (second review evidence - if applicable) | J3: Score | K3: Mapping to Point | L3: % Mapped to Section | M3: Moderator comments | N3: General Feedback (first review) | O3: General Feedback (second review - if applicable) | Q3: IV Comments
A4: 1. Context, culture and politics | B4: Ref | C4: Knowledge & Understanding (K&U): | D4: Those Coaching in High Performance Sport must:
B5: KC1.1 | C5: Context, culture and politics | D5: · Develop and articulate own coaching philosophy. | K5: {=IF((AND(J5:J14=1)), "Fully Mapped", "Not/ Partially Mapped")} -> Not/ Partially Mapped | L5: =SUM('Workings out'!B5:B14) -> 0
D6: · Recognise organisational values and beliefs.
D7: · Understand the coaching philosophy of others, including peers, Performance Directors and team members.
D8: · Consider what great coaching looks like and how it can be measured.
D9: · Recognise how their own coaching values and beliefs differ or align and can then work together with organisational values and beliefs.
D10: · Distinguish the importance of their own role and how their behaviour can impact athletes/players and the broader landscape of the organisation.
D11: · Understand the spirit of high performance and the importance of aligning to organisational vision, mission and values.
D12: · Examine how to effectively support the development of performance gains in a high challenge, high support sustainable manner.
D13: · Appreciate the principles of duty of care for themselves and anybody they are responsible for and how their practice must reflect this.
D14: · Identify the trends and contemporary issues in high performance sport in the UK and internationally including social, economic, educational and technological influences.
B15: Ref | C15: Skills: | D15: Those Coaching in High Performance Sport must be able to:
B16: SC1.1 | C16: Context, culture and politics | D16: · Demonstrate behaviours aligned to their own values and beliefs. | K16: {=IF((AND(J16:J22=1)), "Fully Mapped", "Not/ Partially Mapped")} -> Not/ Partially Mapped | L16: =SUM('Workings out'!C5:C11) -> 0
D17: · Show their coaching philosophy, how it has developed and how it comes to life in their day-to-day coaching.
D18: · Apply their coaching philosophy.
D19: · Demonstrate how their own and the organisational values and beliefs differ/align and consider the implications of differences.
D20: · Connect how contextual, cultural and procedural constraints impact their own behaviours.
D21: · Demonstrate leadership in their day-to-day coaching and when required lead the team around the player.
D22: · Influence key stakeholders both internally and externally, including funders, sponsors, board members, leaders and service providers.
A23: 2. Athletes/players and athlete/player development | B23: Ref | C23: K&U | D23: Those Coaching in High Performance Sport must:
B24: KC2.1 | C24: Athletes/players and athlete/player development | D24: · Understand how using a range of biopsychosocial concepts and theories as thinking tools can support athletes/players to develop as people and also in line with their sport-specific wants and needs. | K24: {=IF((AND(J24:J32=1)), "Fully Mapped", "Not/ Partially Mapped")} -> Not/ Partially Mapped | L24: =SUM('Workings out'!D5:D13) -> 0
D25: · Explain how to use effectively performance support to inform decision-making.
D26: · Recognise their own role in using professional judgement and coaching craft to confirm or deny evidence presented by performance support when making decisions.
D27: · Analyse how to observe individual athlete/player performance in practice and competition environments, developing an awareness of strengths and areas for development.
D28: · Understand the key developmental stages of athlete/player development.
D29: · Explain how to plan, design and implement practices and sessions that consider key developmental stages in line with athlete/player learning and development needs.
D30: · Recognise the developmental differences in athletes/players and how to blend all aspects of development to balance performance wants and needs.
D31: · Understand the different athlete/player development characteristics in both practice and competition situations highlighting key issues and potential solutions to help athletes/players learn and develop.
D32: · Appreciate the importance of related disciplines within the broader coaching team to support athlete/player development and performance including injury rehabilitation/recovery and pre/post competition.
B33: Ref | C33: Skills: | D33: Those Coaching in High Performance Sport must be able to:
B34: SC2.1 | C34: Athletes/players and athlete/player development | D34: · Use a range of biopsychosocial thinking tools to support the optimisation of athlete/player’s development as a person and as an athlete. | K34: {=IF((AND(J34:J42=1)), "Fully Mapped", "Not/ Partially Mapped")} -> Not/ Partially Mapped | L34: =SUM('Workings out'!E5:E13) -> 0
D35: · Recognise key developmental and transition stages for athletes/players and plan, design and implement practices and sessions that consider these stages in line with athlete/player’s human and sport specific wants and needs.
D36: · Show how to consult with athletes/players and gauge opinion on their self-development using information to inform practice.
D37: · Adapt in the moment to ensure developmental differences in athletes/players are met.
D38: · Recognise the key developmental moments in practice and competition situations and effectively adapt to improve individuals’ performance.
D39: · Recognise the different athlete/player development characteristics in both practice and competition situations and support individuals to learn.
D40: · Demonstrate effective collaboration with related disciplines within the broader coaching team to support athlete/player development and performance.
...

Sheet Mapping results
B1: Mapping Breakdown shows a breakdown of the percentage that your course has mapped to each sections knowledge and skills criteria, and the overall percentage that your course has mapped to the professional standard
D2: Sections | E2: Specifications | F2: %worth of each section | G2: Total % covered of area | H2: Section % of total standard | I2: % covered of entire standard
B3: 1 | C3: Knowledge | D3: 1 | E3: 10 | F3: =100/E3 -> 10 | G3: =SUM('Mapping Template'!L5:L14) -> 0 | H3: =(E3/E15)*100 -> 6.8965517 | I3: =(H3/100)*G3 -> 0
C4: Skills | D4: 1 | E4: 7 | F4: =100/E4 -> 14.285714 | G4: =SUM('Mapping Template'!L16:L22) -> 0 | H4: {=(E4/_xlfn.ANCHORARRAY(E15))*100} -> 4.8275862 | I4: =(H4/100)*G4 -> 0
B5: 2 | C5: Knowledge | D5: 1 | E5: 9 | F5: =100/E5 -> 11.111111 | G5: =SUM('Mapping Template'!L24:L32) -> 0 | H5: =(E5/E15)*100 -> 6.2068966 | I5: =(H5/100)*G5 -> 0
C6: Skills | D6: 1 | E6: 9 | F6: =100/E6 -> 11.111111 | G6: =SUM('Mapping Template'!L34:L42) -> 0 | H6: =(E6/E15)*100 -> 6.2068966 | I6: =(H6/100)*G6 -> 0
B7: 3 | C7: Knowledge | D7: 1 | E7: 16 | F7: =100/E7 -> 6.25 | G7: =SUM('Mapping Template'!L44:L59) -> 0 | H7: =(E7/E15)*100 -> 11.034483 | I7: =(H7/100)*G7 -> 0
C8: Skills | D8: 1 | E8: 13 | F8: =100/E8 -> 7.6923077 | G8: =SUM('Mapping Template'!L61:L73) -> 0 | H8: =(E8/E15)*100 -> 8.9655172 | I8: =(H8/100)*G8 -> 0
B9: 4 | C9: Knowledge | D9: 1 | E9: 7 | F9: =100/E9 -> 14.285714 | G9: =SUM('Mapping Template'!L75:L81) -> 0 | H9: =(E9/E15)*100 -> 4.8275862 | I9: =(H9/100)*G9 -> 0
C10: Skills | D10: 1 | E10: 5 | F10: =100/E10 -> 20 | G10: =SUM('Mapping Template'!L83:L87) -> 0 | H10: =(E10/E15)*100 -> 3.4482759 | I10: =(H10/100)*G10 -> 0
B11: 5 | C11: Knowledge | D11: 1 | E11: 10 | F11: =100/E11 -> 10 | G11: =SUM('Mapping Template'!L89:L98) -> 0 | H11: =(E11/E15)*100 -> 6.8965517 | I11: =(H11/100)*G11 -> 0
C12: Skills | D12: 1 | E12: 7 | F12: =100/E12 -> 14.285714 | G12: =SUM('Mapping Template'!L100:L106) -> 0 | H12: =(E12/E15)*100 -> 4.8275862 | I12: =(H12/100)*G12 -> 0
B13: 6 | C13: Knowledge | G13: =SUM('Mapping Template'!L108:L110) -> 0 | I13: =(H13/100)*G13 -> 0
C14: Skills | D14: 4 | E14: 52 | F14: =100/E14 -> 1.9230769 | G14: =SUM('Mapping Template'!L112:L163) -> 0 | H14: =(E14/E15)*100 -> 35.862069 | I14: =(H14/100)*G14 -> 0
B15: Totals | D15: =SUM(D3:D14) -> 14 | E15: =SUM(E3:E14) -> 145 | H15: =SUM(H3:H14) -> 100 | I15: =SUM(I3:I14) -> 0

Sheet Feedback
A1: Standardised feedback comments | B1: Assessment methods
A2: Comprehensive evidence | B2: Multiple
A3: Sufficient evidence | B3: Case study
A4: Further evidence required | B4: Dissertation
B5: Exam
B6: Written test
B7: Listening test
B8: Oral test
B9: Performance/ practical
B10: Portfolio
B11: Professional discussion
B12: Project
B13: Simulation
B14: Online test
B15: Attendance only
B16: Assignment
B17: Other

Sheet Workings out
A1: Calculating the totally percentage of knowledge/ skill covered in each section
B2: K1 | C2: S1 | D2: K2 | E2: S2 | F2: K3 | G2: S3 | H2: K4 | I2: S4 | J2: K5 | K2: S5 | L2: K6 | M2: S6
A3: % value | B3: =100/B4 -> 10 | C3: =100/C4 -> 14.285714 | D3: =100/D4 -> 11.111111 | E3: =100/E4 -> 11.111111 | F3: =100/F4 -> 6.25 | G3: =100/G4 -> 7.6923077 | H3: =100/H4 -> 14.285714 | I3: =100/I4 -> 20 | ... M3: =100/M4 -> 1.9230769
A4: # spec | B4: 10 | C4: 7 | D4: 9 | E4: 9 | F4: 16 | G4: 13 | H4: 7 | I4: 5 | J4: 10 | K4: 7 | L4: 3 | M4: 52
A5: Sections | B5: =IF('Mapping Template'!$J5=1,B$3,0) -> 0 | C5: =IF('Mapping Template'!$J16=1,C$3,0) -> 0 | D5: =IF('Mapping Template'!$J24=1,D$3,0) -> 0 | E5: =IF('Mapping Template'!$J34=1,E$3,0) -> 0 | F5: =IF('Mapping Template'!$J44=1,F$3,0) -> 0 | G5: =IF('Mapping Template'!$J61=1,G$3,0) -> 0 | H5: =IF('Mapping Template'!$J75=1,H$3,0) -> 0 | I5: =IF('Mapping Template'!$J83=1,I$3,0) -> 0 | J5: =IF('Mapping Template'!$J89=1,J$3,0) -> 0 | K5: =IF('Mapping Template'!$J100=1,K$3,0) -> 0 | L5: =IF('Mapping Template'!$J108=1,L$3,0) -> 0 | M5: =IF('Mapping Template'!$J112=1,M$3,0) -> 0
B6: =IF('Mapping Template'!$J6=1,B$3,0) -> 0 | C6: =IF('Mapping Template'!$J17=1,C$3,0) -> 0 | D6: =IF('Mapping Template'!$J25=1,D$3,0) -> 0 | E6: =IF('Mapping Template'!$J35=1,E$3,0) -> 0 | F6: =IF('Mapping Template'!$J45=1,F$3,0) -> 0 | G6: =IF('Mapping Template'!$J62=1,G$3,0) -> 0 | H6: =IF('Mapping Template'!$J76=1,H$3,0) -> 0 | I6: =IF('Mapping Template'!$J84=1,I$3,0) -> 0 | J6: =IF('Mapping Template'!$J90=1,J$3,0) -> 0 | K6: =IF('Mapping Template'!$J101=1,K$3,0) -> 0 | L6: =IF('Mapping Template'!$J109=1,L$3,0) -> 0 | M6: =IF('Mapping Template'!$J113=1,M$3,0) -> 0
B7: =IF('Mapping Template'!$J7=1,B$3,0) -> 0 | C7: =IF('Mapping Template'!$J18=1,C$3,0) -> 0 | D7: =IF('Mapping Template'!$J26=1,D$3,0) -> 0 | E7: =IF('Mapping Template'!$J36=1,E$3,0) -> 0 | F7: =IF('Mapping Template'!$J46=1,F$3,0) -> 0 | G7: =IF('Mapping Template'!$J63=1,G$3,0) -> 0 | H7: =IF('Mapping Template'!$J77=1,H$3,0) -> 0 | I7: =IF('Mapping Template'!$J85=1,I$3,0) -> 0 | J7: =IF('Mapping Template'!$J91=1,J$3,0) -> 0 | K7: =IF('Mapping Template'!$J102=1,K$3,0) -> 0 | L7: =IF('Mapping Template'!$J110=1,L$3,0) -> 0 | M7: =IF('Mapping Template'!$J114=1,M$3,0) -> 0
B8: =IF('Mapping Template'!$J8=1,B$3,0) -> 0 | C8: =IF('Mapping Template'!$J19=1,C$3,0) -> 0 | D8: =IF('Mapping Template'!$J27=1,D$3,0) -> 0 | E8: =IF('Mapping Template'!$J37=1,E$3,0) -> 0 | F8: =IF('Mapping Template'!$J47=1,F$3,0) -> 0 | G8: =IF('Mapping Template'!$J64=1,G$3,0) -> 0 | H8: =IF('Mapping Template'!$J78=1,H$3,0) -> 0 | I8: =IF('Mapping Template'!$J86=1,I$3,0) -> 0 | J8: =IF('Mapping Template'!$J92=1,J$3,0) -> 0 | K8: =IF('Mapping Template'!$J103=1,K$3,0) -> 0 | M8: =IF('Mapping Template'!$J115=1,M$3,0) -> 0
B9: =IF('Mapping Template'!$J9=1,B$3,0) -> 0 | C9: =IF('Mapping Template'!$J20=1,C$3,0) -> 0 | D9: =IF('Mapping Template'!$J28=1,D$3,0) -> 0 | E9: =IF('Mapping Template'!$J38=1,E$3,0) -> 0 | F9: =IF('Mapping Template'!$J48=1,F$3,0) -> 0 | G9: =IF('Mapping Template'!$J65=1,G$3,0) -> 0 | H9: =IF('Mapping Template'!$J79=1,H$3,0) -> 0 | I9: =IF('Mapping Template'!$J87=1,I$3,0) -> 0 | J9: =IF('Mapping Template'!$J93=1,J$3,0) -> 0 | K9: =IF('Mapping Template'!$J104=1,K$3,0) -> 0 | M9: =IF('Mapping Template'!$J116=1,M$3,0) -> 0
B10: =IF('Mapping Template'!$J10=1,B$3,0) -> 0 | C10: =IF('Mapping Template'!$J21=1,C$3,0) -> 0 | D10: =IF('Mapping Template'!$J29=1,D$3,0) -> 0 | E10: =IF('Mapping Template'!$J39=1,E$3,0) -> 0 | F10: =IF('Mapping Template'!$J49=1,F$3,0) -> 0 | G10: =IF('Mapping Template'!$J66=1,G$3,0) -> 0 | H10: =IF('Mapping Template'!$J80=1,H$3,0) -> 0 | J10: =IF('Mapping Template'!$J94=1,J$3,0) -> 0 | K10: =IF('Mapping Template'!$J105=1,K$3,0) -> 0 | M10: =IF('Mapping Template'!$J117=1,M$3,0) -> 0
B11: =IF('Mapping Template'!$J11=1,B$3,0) -> 0 | C11: =IF('Mapping Template'!$J22=1,C$3,0) -> 0 | D11: =IF('Mapping Template'!$J30=1,D$3,0) -> 0 | E11: =IF('Mapping Template'!$J40=1,E$3,0) -> 0 | F11: =IF('Mapping Template'!$J50=1,F$3,0) -> 0 | G11: =IF('Mapping Template'!$J67=1,G$3,0) -> 0 | H11: =IF('Mapping Template'!$J81=1,H$3,0) -> 0 | J11: =IF('Mapping Template'!$J95=1,J$3,0) -> 0 | K11: =IF('Mapping Template'!$J106=1,K$3,0) -> 0 | M11: =IF('Mapping Template'!$J118=1,M$3,0) -> 0
B12: =IF('Mapping Template'!$J12=1,B$3,0) -> 0 | D12: =IF('Mapping Template'!$J31=1,D$3,0) -> 0 | E12: =IF('Mapping Template'!$J41=1,E$3,0) -> 0 | F12: =IF('Mapping Template'!$J51=1,F$3,0) -> 0 | G12: =IF('Mapping Template'!$J68=1,G$3,0) -> 0 | J12: =IF('Mapping Template'!$J96=1,J$3,0) -> 0 | M12: =IF('Mapping Template'!$J119=1,M$3,0) -> 0
B13: =IF('Mapping Template'!$J13=1,B$3,0) -> 0 | D13: =IF('Mapping Template'!$J32=1,D$3,0) -> 0 | E13: =IF('Mapping Template'!$J42=1,E$3,0) -> 0 | F13: =IF('Mapping Template'!$J52=1,F$3,0) -> 0 | G13: =IF('Mapping Template'!$J69=1,G$3,0) -> 0 | J13: =IF('Mapping Template'!$J97=1,J$3,0) -> 0 | M13: =IF('Mapping Template'!$J120=1,M$3,0) -> 0
B14: =IF('Mapping Template'!$J14=1,B$3,0) -> 0 | F14: =IF('Mapping Template'!$J53=1,F$3,0) -> 0 | G14: =IF('Mapping Template'!$J70=1,G$3,0) -> 0 | J14: =IF('Mapping Template'!$J98=1,J$3,0) -> 0 | M14: =IF('Mapping Template'!$J121=1,M$3,0) -> 0
F15: =IF('Mapping Template'!$J54=1,F$3,0) -> 0 | G15: =IF('Mapping Template'!$J71=1,G$3,0) -> 0 | M15: =IF('Mapping Template'!$J122=1,M$3,0) -> 0
F16: =IF('Mapping Template'!$J55=1,F$3,0) -> 0 | G16: =IF('Mapping Template'!$J72=1,G$3,0) -> 0 | M16: =IF('Mapping Template'!$J123=1,M$3,0) -> 0
F17: =IF('Mapping Template'!$J56=1,F$3,0) -> 0 | G17: =IF('Mapping Template'!$J73=1,G$3,0) -> 0 | M17: =IF('Mapping Template'!$J124=1,M$3,0) -> 0
F18: =IF('Mapping Template'!$J57=1,F$3,0) -> 0 | M18: =IF('Mapping Template'!$J125=1,M$3,0) -> 0
F19: =IF('Mapping Template'!$J58=1,F$3,0) -> 0 | M19: =IF('Mapping Template'!$J126=1,M$3,0) -> 0
F20: =IF('Mapping Template'!$J59=1,F$3,0) -> 0 | M20: =IF('Mapping Template'!$J127=1,M$3,0) -> 0
M21: =IF('Mapping Template'!$J128=1,M$3,0) -> 0
M22: =IF('Mapping Template'!$J129=1,M$3,0) -> 0
M23: =IF('Mapping Template'!$J130=1,M$3,0) -> 0
M24: =IF('Mapping Template'!$J131=1,M$3,0) -> 0
M25: =IF('Mapping Template'!$J132=1,M$3,0) -> 0
M26: =IF('Mapping Template'!$J133=1,M$3,0) -> 0
M27: =IF('Mapping Template'!$J134=1,M$3,0) -> 0
M28: =IF('Mapping Template'!$J135=1,M$3,0) -> 0
M29: =IF('Mapping Template'!$J136=1,M$3,0) -> 0
M30: =IF('Mapping Template'!$J137=1,M$3,0) -> 0
M31: =IF('Mapping Template'!$J138=1,M$3,0) -> 0
M32: =IF('Mapping Template'!$J139=1,M$3,0) -> 0
... M56: =IF('Mapping Template'!$J163=1,M$3,0) -> 0
