Workbook

Sheet Guidance
B1: #VALUE!
B2: Working in the Community Environment Mapping Template
B3: Edition: V2.1
B4: Publication date: 30th January 2025
B6: Mapping Guidance - you are here!
B7: Mapping template to reference and evidence where the professional standard is being met by the course/ participant/ qualification
B8: N.B. Examples (e.g.) are given within the LDRs to provide an overview of the knowledge and skills most relevant to the role. It is not mandatory to assess learners against 100% of the examples provided, however, sufficient coverage to ensure occupational competence on achievement must be ensured. This will be reviewed as part of the CIMSPA endorsement process.
B9: For non-regulated qualifications (CPD), where an Education Partner does not meet the full CIMSPA professional standard, it is important to note, that the Education Partner must meet a full Knowledge or Skill LDR. For example, all three sections within K1.1 would need to evidenced for that LDR to partially map to the professional standard.
B10: For further information around product development guidance, please refer to the professional standard within the professional standard library; https://www.cimspa.co.uk/education-training/professional-standards/professional-standards-library/
B11: Alternatively, please view our CIMPSA Partner Endorsement Guide;https://cimspa.co.uk/education-training/endorsement/
B13: Revision History
B14: Version | C14: Name & Role | D14: Signature & Date | E14: Reason for Change
A15: c | B15: V2.1 | C15: Aidan Riley Education Officer | D15: AR 28/01/25 | E15: Update to general formatting & implementation of conditional formating to streamline moderator feedback.
B19: E endorsements@cimspa.co.uk T 03438 360200 W www.cimspa.co.uk
B20: Chartered Institute for the Management of Sport and Physical Activity,
B21: SportPark Loughborough University, 3 Oakwood Drive, Loughborough, Leicestershire LE11 3QF
B22: Incorporated by Royal Charter Charity Registration No. 1144545

Sheet Mapping Template
E1: Education Product Title: INSERT HERE
A2: Professional Standard: Working in the Community Environment | E2: Partner Mapping Section | J2: Moderator Feedback Section | Q2: IV Feedback Section
A3: Topic | B3: Competency | D3: Learning Outcome(s) | E3: Evidence (sign post to SOW / course specification / supporting documents) | F3: Assessment Method | G3: Further Comments (expand on evidence within column E / F) | H3: Response to Moderator Feedback Section (second review evidence - if applicable) | J3: Score | K3: Mapping to Point | L3: % Mapped to Section | M3: Moderator comments | N3: General Feedback (first review) | O3: General Feedback (second review - if applicable) | Q3: IV Comments
A4: 1. Understanding the community | B4: Ref | C4: Knowledge and Understanding (K&U): | D4: Those working in the community environment must:
B5: K1.1 | C5: Customs and cultures | D5: · Know the importance of cultures and customs for individuals and groups. | K5: {=IF((AND(J5:J6=1)), "Fully Mapped", "Not/ Partially Mapped")} -> Not/ Partially Mapped | L5: =SUM('Workings out'!B5:B22) -> 0
D6: · Know how the cultures and customs impact on community liaison and cohesion.
B7: K1.2 | C7: Demographic of local area | D7: · Know how to research and use information gathered on the demographic of the population within the local community. | K7: =IF((AND(J7=1)), "Fully Mapped", "Not/ Partially Mapped") -> Not/ Partially Mapped
B8: K1.3 | C8: Structure and function | D8: · Know how local communities are structured and how they function. | K8: =IF((AND(J8=1)), "Fully Mapped", "Not/ Partially Mapped") -> Not/ Partially Mapped
B9: K1.4 | C9: Identity | D9: · Know how individuals identify themselves and the potential impact this has on participation within physical activity. | K9: {=IF((AND(J9:J10=1)), "Fully Mapped", "Not/ Partially Mapped")} -> Not/ Partially Mapped
D10: · Know what subsequent actions to take as a result of the impact.
B11: K1.5 | C11: Protected characteristics | D11: · Know the different protected characteristics. | K11: =IF((AND(J11=1)), "Fully Mapped", "Not/ Partially Mapped") -> Not/ Partially Mapped
B12: K1.6 | C12: Engagement | D12: · Know how to engage with the individual through empathy. | K12: {=IF((AND(J12:J13=1)), "Fully Mapped", "Not/ Partially Mapped")} -> Not/ Partially Mapped
D13: · Know how to communicate effectively to meet the specific needs of the individuals and groups within the local community.
B14: K1.7 | C14: Barriers | D14: · Know the barriers that stop individuals/groups within the local community from participating in sport, physical activity or health and well-being sessions/programmes. | K14: =IF((AND(J14=1)), "Fully Mapped", "Not/ Partially Mapped") -> Not/ Partially Mapped
B15: K1.8 | C15: Physical and mental well-being | D15: · The different benefits of being physically active and the affects that these have on the person sociologically, physically and psychologically. | K15: {=IF((AND(J15:J18=1)), "Fully Mapped", "Not/ Partially Mapped")} -> Not/ Partially Mapped
D16: · Know the importance of leading a healthy lifestyle including, nutrition, sleep and alcohol.
D17: · The societal and economic benefits of a physically active and healthier nation.
D18: · Know where to signpost and refer to support mechanisms.
B19: K1.9 | C19: Build rapport | D19: · Know the importance of building relationships and connecting with the individuals and groups within local community and those who support them including: | K19: {=IF((AND(J19:J22=1)), "Fully Mapped", "Not/ Partially Mapped")} -> Not/ Partially Mapped
D20: ­ Creating a connection.
D21: ­ Creating rapport.
D22: ­ Creating a positive and motivating environment.
A23: 2. The community environment | B23: Ref | C23: Knowledge and understanding: | D23: Those working in the community environment must:
B24: K2.1 | C24: Local community area | D24: · Understand the different community environments that can be used to assist in the delivery of sport and physical activity sessions, above and beyond traditional or dedicated sports facilities such as sports halls and playing fields. | K24: {=IF((AND(J24:J26=1)), "Fully Mapped", "Not/ Partially Mapped")} -> Not/ Partially Mapped | L24: =SUM('Workings out'!C5:C16) -> 0
D25: · Understand the geography of your local community – housing estates, schools, green spaces, civic spaces, retail and industrial areas.
D26: · Understand ‘territories’ and physical barriers, which influence how different parts of the community move and/or relate to each other e.g. rivers and major roads.
B27: K2.2 | C27: Current provision | D27: · Know about the existing provision within a local community: e.g. location, whether it is fit-for-purpose and the accessibility provisions available. | K27: {=IF((AND(J27:J30=1)), "Fully Mapped", "Not/ Partially Mapped")} -> Not/ Partially Mapped
D28: · Know how to work with clubs, local authorities’ other organisations within the local community.
D29: · Understand key socialising hot spots within the local area.
D30: · Know the current gaps in provision based on articulated needs.
B31: K2.3 | C31: Movement | D31: · Know how individuals within the local area travel around the community: e.g. bus, car or walking. | K31: =IF((AND(J31=1)), "Fully Mapped", "Not/ Partially Mapped") -> Not/ Partially Mapped
B32: K2.4 | C32: Key contacts | D32: · Know how to access information on key contacts within local area. | K32: {=IF((AND(J32:J33=1)), "Fully Mapped", "Not/ Partially Mapped")} -> Not/ Partially Mapped
D33: · Know who the key local influencers are within the local community and how to contact them.
B34: K2.5 | C34: Networks | D34: · Know the different networks in the local community: e.g. formal and informal. | K34: {=IF((AND(J34:J35=1)), "Fully Mapped", "Not/ Partially Mapped")} -> Not/ Partially Mapped
D35: · Know how to communicate, engage and utilise local networks to collaboratively support the local community.
A36: 3. Principles of behaviour change | B36: Ref | C36: Knowledge and understanding: | D36: Those working in the community environment must:
B37: K3.1 | C37: Behaviour change | D37: · Know how to influence people’s attitude towards sport and physical activity, health and well-being. | K37: {=IF((AND(J37:J39=1)), "Fully Mapped", "Not/ Partially Mapped")} -> Not/ Partially Mapped | L37: =SUM('Workings out'!D5:D14) -> 0
D38: · Know how to support behaviour change in individuals.
D39: · Know how to influence culture for behaviour change.
B40: K3.2 | C40: Community’s behaviours | D40: · Know how to recognise community’s normal behaviour. | K40: =IF((AND(J40=1)), "Fully Mapped", "Not/ Partially Mapped") -> Not/ Partially Mapped
...

Sheet Mapping results
B1: Mapping Breakdown shows a breakdown of the percentage that your course has mapped to each sections knowledge and skills criteria, and the overall percentage that your course has mapped to the professional standard
D2: Sections | E2: Specifications | F2: %worth of each section | G2: Total % covered of area | H2: Section % of total standard | I2: % covered of entire standard
B3: 1 | C3: Knowledge | D3: 9 | E3: 18 | F3: =100/E3 -> 5.5555556 | G3: =SUM('Mapping Template'!L5:L22) -> 0 | H3: =(E3/E9)*100 -> 32.142857 | I3: =(H3/100)*G3 -> 0
B4: 2 | C4: Knowledge | D4: 5 | E4: 12 | F4: =100/E4 -> 8.3333333 | G4: =SUM('Mapping Template'!L24:L35) -> 0 | H4: =(E4/E9)*100 -> 21.428571 | I4: =(H4/100)*G4 -> 0
B5: 3 | C5: Knowledge | D5: 5 | E5: 10 | F5: =100/E5 -> 10 | G5: =SUM('Mapping Template'!L37:L46) -> 0 | H5: =(E5/E9)*100 -> 17.857143 | I5: =(H5/100)*G5 -> 0
C6: Skills | D6: 1 | E6: 1 | F6: =100/E6 -> 100 | G6: =SUM('Mapping Template'!L48) -> 0 | H6: =(E6/E9)*100 -> 1.7857143 | I6: =(H6/100)*G6 -> 0
B7: 4 | C7: Knowledge | D7: 6 | E7: 9 | F7: =100/E7 -> 11.111111 | G7: =SUM('Mapping Template'!L50:L58) -> 0 | H7: =(E7/E9)*100 -> 16.071429 | I7: =(H7/100)*G7 -> 0
C8: Skills | D8: 4 | E8: 6 | F8: =100/E8 -> 16.666667 | G8: =SUM('Mapping Template'!L60:L65) -> 0 | H8: =(E8/E9)*100 -> 10.714286 | I8: =(H8/100)*G8 -> 0
B9: Totals | D9: =SUM(D3:D8) -> 30 | E9: =SUM(E3:E8) -> 56 | H9: =SUM(H3:H8) -> 100 | I9: =SUM(I3:I8) -> 0

Sheet Feedback
A1: Standardised feedback comments | B1: Assessment methods
A2: Comprehensive evidence | B2: Assignment
A3: Sufficient evidence | B3: Case study
A4: Further evidence required | B4: Dissertation
B5: Exam
B6: Written test
B7: Listening test
B8: Oral test
B9: Performance/ practical
B10: Portfolio
B11: Professional discussion
B12: Project
B13: Simulation
B14: Online test
B15: Attendence only
B16: Multiple
B17: Other

Sheet Workings out
A1: Calculating the totally percentage of knowledge/ skill covered in each section
B2: K1 | C2: K2 | D2: K3 | E2: S3 | F2: K4 | G2: S4
A3: % value | B3: 5.5555556 | C3: 8.3333333 | D3: 10 | E3: 100 | F3: 11.111111 | G3: 16.666667
A4: # spec | B4: 18 | C4: 12 | D4: 10 | E4: 1 | F4: 9 | G4: 6
A5: Sections | B5: =IF('Mapping Template'!$J5=1,B$3,0) -> 0 | C5: =IF('Mapping Template'!$J24=1,C$3,0) -> 0 | D5: =IF('Mapping Template'!$J37=1,D$3,0) -> 0 | E5: =IF('Mapping Template'!$J48=1,E$3,0) -> 0 | F5: =IF('Mapping Template'!$J50=1,F$3,0) -> 0 | G5: =IF('Mapping Template'!$J60=1,G$3,0) -> 0
B6: =IF('Mapping Template'!$J6=1,B$3,0) -> 0 | C6: =IF('Mapping Template'!$J25=1,C$3,0) -> 0 | D6: =IF('Mapping Template'!$J38=1,D$3,0) -> 0 | F6: =IF('Mapping Template'!$J51=1,F$3,0) -> 0 | G6: =IF('Mapping Template'!$J61=1,G$3,0) -> 0
B7: =IF('Mapping Template'!$J7=1,B$3,0) -> 0 | C7: =IF('Mapping Template'!$J26=1,C$3,0) -> 0 | D7: =IF('Mapping Template'!$J39=1,D$3,0) -> 0 | F7: =IF('Mapping Template'!$J52=1,F$3,0) -> 0 | G7: =IF('Mapping Template'!$J62=1,G$3,0) -> 0
B8: =IF('Mapping Template'!$J8=1,B$3,0) -> 0 | C8: =IF('Mapping Template'!$J27=1,C$3,0) -> 0 | D8: =IF('Mapping Template'!$J40=1,D$3,0) -> 0 | F8: =IF('Mapping Template'!$J53=1,F$3,0) -> 0 | G8: =IF('Mapping Template'!$J63=1,G$3,0) -> 0
B9: =IF('Mapping Template'!$J9=1,B$3,0) -> 0 | C9: =IF('Mapping Template'!$J28=1,C$3,0) -> 0 | D9: =IF('Mapping Template'!$J41=1,D$3,0) -> 0 | F9: =IF('Mapping Template'!$J54=1,F$3,0) -> 0 | G9: =IF('Mapping Template'!$J64=1,G$3,0) -> 0
B10: =IF('Mapping Template'!$J10=1,B$3,0) -> 0 | C10: =IF('Mapping Template'!$J29=1,C$3,0) -> 0 | D10: =IF('Mapping Template'!$J42=1,D$3,0) -> 0 | F10: =IF('Mapping Template'!$J55=1,F$3,0) -> 0 | G10: =IF('Mapping Template'!$J65=1,G$3,0) -> 0
B11: =IF('Mapping Template'!$J11=1,B$3,0) -> 0 | C11: =IF('Mapping Template'!$J30=1,C$3,0) -> 0 | D11: =IF('Mapping Template'!$J43=1,D$3,0) -> 0 | F11: =IF('Mapping Template'!$J56=1,F$3,0) -> 0
B12: =IF('Mapping Template'!$J12=1,B$3,0) -> 0 | C12: =IF('Mapping Template'!$J31=1,C$3,0) -> 0 | D12: =IF('Mapping Template'!$J44=1,D$3,0) -> 0 | F12: =IF('Mapping Template'!$J57=1,F$3,0) -> 0
B13: =IF('Mapping Template'!$J13=1,B$3,0) -> 0 | C13: =IF('Mapping Template'!$J32=1,C$3,0) -> 0 | D13: =IF('Mapping Template'!$J45=1,D$3,0) -> 0 | F13: =IF('Mapping Template'!$J58=1,F$3,0) -> 0
B14: =IF('Mapping Template'!$J14=1,B$3,0) -> 0 | C14: =IF('Mapping Template'!$J33=1,C$3,0) -> 0 | D14: =IF('Mapping Template'!$J46=1,D$3,0) -> 0
B15: =IF('Mapping Template'!$J15=1,B$3,0) -> 0 | C15: =IF('Mapping Template'!$J34=1,C$3,0) -> 0
B16: =IF('Mapping Template'!$J16=1,B$3,0) -> 0 | C16: =IF('Mapping Template'!$J35=1,C$3,0) -> 0
B17: =IF('Mapping Template'!$J17=1,B$3,0) -> 0
B18: =IF('Mapping Template'!$J18=1,B$3,0) -> 0
B19: =IF('Mapping Template'!$J19=1,B$3,0) -> 0
B20: =IF('Mapping Template'!$J20=1,B$3,0) -> 0
B21: =IF('Mapping Template'!$J21=1,B$3,0) -> 0
B22: =IF('Mapping Template'!$J22=1,B$3,0) -> 0
