Workbook

Sheet Guidance
B1: #VALUE!
B2: General Manager Mapping Template
B3: Edition: V2.1
B4: Publication date: 1st October 2024
B6: Mapping Guidance - you are here!
B7: Mapping template to reference and evidence where the professional standard is being met by the course/ participant/ qualification
B8: N.B. Examples (e.g.) are given within the LDRs to provide an overview of the knowledge and skills most relevant to the role. It is not mandatory to assess learners against 100% of the examples provided, however, sufficient coverage to ensure occupational competence on achievement must be ensured. This will be reviewed as part of the CIMSPA endorsement process.
B9: For non-regulated qualifications (CPD), where an Education Partner does not meet the full CIMSPA professional standard, it is important to note, that the Education Partner must meet a full Knowledge or Skill LDR. For example, all three sections within K1.1 would need to evidence for that LDR to partially map to the professional standard.
B10: For further information around product development guidance, please refer to the professional standard within the professional standard library; https://www.cimspa.co.uk/education-training/professional-standards/professional-standards-library/
B11: Alternatively, please view our CIMPSA Partner Endorsement Guide;https://cimspa.co.uk/education-training/endorsement/
B13: Revision History
B14: Version | C14: Name & Role | D14: Signature & Date | E14: Reason for Change
A15: c | B15: V2.1 | C15: Aidan Riley Education Officer | D15: AR 12/09/24 | E15: Update to general formatting & implementation of conditional formatting to streamline moderator feedback.
B19: E endorsements@cimspa.co.uk T 03438 360200 W www.cimspa.co.uk
B20: Chartered Institute for the Management of Sport and Physical Activity,
B21: SportPark Loughborough University, 3 Oakwood Drive, Loughborough, Leicestershire LE11 3QF
B22: Incorporated by Royal Charter Charity Registration No. 1144545

Sheet Mapping Template
E1: Education Product Title: INSERT HERE
A2: Professional Standard: General Manager | E2: Partner Mapping Section | J2: Moderator Feedback Section | Q2: IV Feedback Section
A3: Topic | B3: Competency | D3: Learning Outcome(s) | E3: Evidence (sign post to SOW / course specification / supporting documents) | F3: Assessment method | G3: Further comments (expand on evidence within column E) | H3: Response to moderator feedback section (second review evidence - if applicable) | J3: Score | K3: Mapping to point | L3: % mapped to section | M3: Moderator comments | N3: General feedback (first review) | O3: General feedback (second review - if applicable) | Q3: IV comments
A4: 1. Develop, manage, review and improve sales support and customer service programmes | B4: Key Management Theme 1: Service Improvement
B5: Ref | C5: Knowledge and understanding (K&U): | D5: A General Manager must:
B6: KC1.1 | C6: Understand the monitoring and resolution of customer complaints | D6: Assess the suitability of a range of monitoring techniques for customer complaints. | K6: {=IF(AND(J6:J10=1), "Fully Mapped", "Not/ Partially Mapped")} -> Not/ Partially Mapped | L6: =SUM('Workings out'!B4:B8) -> 0
D7: Explain how to identify which complaints should prompt a review of the service offer and service delivery.
D8: Explain negotiating techniques used to resolve customer complaints including problem solving and decision making.
D9: Explain conflict management techniques used in dealing with upset customers.
D10: Explain organisational procedures for dealing with customer complaints.
B11: Ref | C11: Skills | D11: A General Manager must be able to:
B12: SC1.1 | C12: Be able to develop sales support and/or customer service programmes | D12: · Plan a sales support and customer service programme in accordance with the sales strategy. | K12: {=IF((AND(J12:J25=1)), "Fully Mapped", "Not/ Partially Mapped")} -> Not/ Partially Mapped | L12: =SUM('Workings out'!C4:C17) -> 0
D13: · Evaluate the effectiveness of existing processes for managing and providing service to customers against agreed criteria.
D14: · Develop a sales support or customer service programme or recommend improvements to existing processes that meet the agreed criteria.
D15: · Establish resource requirements directly related to the sales area to deliver sales support and customer management to the agreed standard.
B16: SC1.2 | C16: Be able to implement sales support and customer service programmes | D16: · Identify appropriate information communications technology (ICT) support for effective communication with customers.
D17: · Adapt to changing circumstances in implementing sales support and customer service programmes in accordance with the plan.
D18: · Record customer management information in accordance with organisational procedures.
D19: · Keep those concerned with sales support and customer service up to date with customer management information.
D20: · Ensure ongoing compliance with quality initiatives, processes and procedures and service level agreements as agreed between the customer and the organisation.
D21: · Take prompt action in the event of shortfalls in service standards in accordance with the sales strategy.
B22: SC1.3 | C22: Be able to manage, review and improve the quality of sales support and customer service programmes | D22: · Validate the information collected to identify useable data.
D23: · Use information analysis methods that are appropriate to the nature of the information collected.
D24: · Identify instances of effective delivery, shortfalls and gaps from the information analysis against agreed criteria.
D25: · Develop recommendations that address identified areas for improvement supported by evidence.
A26: 2. Develop customer service procedures for an organisation | B26: Ref | C26: K&U | D26: A General Manager must:
B27: KC2.1 | C27: Understand the development of customer service delivery in an organisation | D27: · Evaluate the impact of organisational and regulatory requirements on customer service delivery. | K27: {=IF((AND(J27:J30=1)), "Fully Mapped", "Not/ Partially Mapped")} -> Not/ Partially Mapped | L27: =SUM('Workings out'!D4:D8) -> 0
D28: · Explain the link between the organisation’s customer service aims and objectives and the service offer(s) of the organisation.
D29: · Explain how to define a service offer for a customer.
D30: · Explain how to trial draft customer service procedures and guidelines.
B31: Ref | C31: Skills | D31: A General Manager must be able to:
B32: SC2.1 | C32: Be able to set organisational aims and objectives that have an impact on customer service delivery | D32: · Assess the contribution of customer service to the overall achievement and effectiveness of an organisation’s business objectives. | K32: {=IF((AND(J32:J35=1)), "Fully Mapped", "Not/ Partially Mapped")} -> Not/ Partially Mapped | L32: =SUM('Workings out'!E4:E12) -> 0
D33: · Develop a customer service offer to meet an organisation’s business objectives and improve customer retention.
D34: · Identify management tools that can be used to measure consumer loyalty.
D35: · Use market segmentation to define customer service standards that meet organisational business objectives.
B36: SC2.2 | C36: Be able to develop an organisation’s procedures for customer service | D36: · Develop proposals for customer service procedures that are consistent with agreed requirements and budgets. | K36: {=IF((AND(J36:J40=1)), "Fully Mapped", "Not/ Partially Mapped")} -> Not/ Partially Mapped
D37: · Consult relevant people when developing different proposals.
D38: · Ensure the proposals conform with legal requirements and with any organisational strategy and policy for customer service.
D39: · Ensure proposals take account of stakeholders’ needs.
D40: · Confirm the appropriateness of proposed procedures and guidelines following a trial.
...

Sheet Mapping results
B1: Mapping Breakdown shows a breakdown of the percentage that your course has mapped to each sections knowledge and skills criteria, and the overall percentage that your course has mapped to the professional standard
B2: Section | D2: No of Sections | E2: No of Specifications | F2: %worth of each specification | G2: Total % covered of area | H2: Section % of total standard | I2: % covered of entire standard
B3: 1 | C3: Knowledge | D3: 1 | E3: 5 | F3: =100/E3 -> 20 | G3: =SUM('Mapping Template'!L6:L10) -> 0 | H3: =(E3/E29)*100 -> 1.7921147 | I3: =(H3/100)*G3 -> 0
C4: Skills | D4: 3 | E4: 14 | F4: =100/E4 -> 7.1428571 | G4: =SUM('Mapping Template'!L12:L25) -> 0 | H4: =(E4/E29)*100 -> 5.0179211 | I4: =(H4/100)*G4 -> 0
B5: 2 | C5: Knowledge | D5: 1 | E5: 4 | F5: =100/E5 -> 25 | G5: =SUM('Mapping Template'!L27:L30) -> 0 | H5: =(E5/E29)*100 -> 1.4336918 | I5: =(H5/100)*G5 -> 0
C6: Skills | D6: 2 | E6: 9 | F6: =100/E6 -> 11.111111 | G6: =SUM('Mapping Template'!L32:L40) -> 0 | H6: =(E6/E29)*100 -> 3.2258065 | I6: =(H6/100)*G6 -> 0
B7: 3 | C7: Knowledge | D7: 1 | E7: 3 | F7: =100/E7 -> 33.333333 | G7: =SUM('Mapping Template'!L43:L45) -> 0 | H7: =(E7/E29)*100 -> 1.0752688 | I7: =(H7/100)*G7 -> 0
C8: Skills | D8: 3 | E8: 11 | F8: =100/E8 -> 9.0909091 | G8: =SUM('Mapping Template'!L47:L57) -> 0 | H8: =(E8/E29)*100 -> 3.9426523 | I8: =(H8/100)*G8 -> 0
B9: 4 | C9: Knowledge | D9: 5 | E9: 27 | F9: =100/E9 -> 3.7037037 | G9: =SUM('Mapping Template'!L59:L85) -> 0 | H9: =(E9/E29)*100 -> 9.6774194 | I9: =(H9/100)*G9 -> 0
C10: Skills | D10: 1 | E10: 8 | F10: =100/E10 -> 12.5 | G10: =SUM('Mapping Template'!L87:L94) -> 0 | H10: =(E10/E29)*100 -> 2.8673835 | I10: =(H10/100)*G10 -> 0
B11: 5 | C11: Knowledge | D11: 1 | E11: 10 | F11: =100/E11 -> 10 | G11: =SUM('Mapping Template'!L96:L105) -> 0 | H11: =(E11/$E$29)*100 -> 3.5842294 | I11: =(H11/100)*G11 -> 0
C12: Skills | D12: 2 | E12: 11 | F12: =100/E12 -> 9.0909091 | G12: =SUM('Mapping Template'!L107:L117) -> 0 | H12: =(E12/$E$29)*100 -> 3.9426523 | I12: =(H12/100)*G12 -> 0
B13: 6 | C13: Knowledge | D13: 2 | E13: 12 | F13: =100/E13 -> 8.3333333 | G13: =SUM('Mapping Template'!L119:L130) -> 0 | H13: =(E13/$E$29)*100 -> 4.3010753 | I13: =(H13/100)*G13 -> 0
B14: 7 | C14: Knowledge | D14: 1 | E14: 8 | F14: =100/E14 -> 12.5 | G14: =SUM('Mapping Template'!L132:L139) -> 0 | H14: =(E14/$E$29)*100 -> 2.8673835 | I14: =(H14/100)*G14 -> 0
C15: Skills | D15: 3 | E15: 10 | F15: =100/E15 -> 10 | G15: =SUM('Mapping Template'!L141:L150) -> 0 | H15: =(E15/$E$29)*100 -> 3.5842294 | I15: =(H15/100)*G15 -> 0
B16: 8 | C16: Knowledge | D16: 4 | E16: 11 | F16: =100/E16 -> 9.0909091 | G16: =SUM('Mapping Template'!L152:L162) -> 0 | H16: =(E16/$E$29)*100 -> 3.9426523 | I16: =(H16/100)*G16 -> 0
C17: Skills | D17: 2 | E17: 9 | F17: =100/E17 -> 11.111111 | G17: =SUM('Mapping Template'!L164:L172) -> 0 | H17: =(E17/$E$29)*100 -> 3.2258065 | I17: =(H17/100)*G17 -> 0
B18: 9 | C18: Knowledge | D18: 3 | E18: 10 | F18: =100/E18 -> 10 | G18: =SUM('Mapping Template'!L174:L183) -> 0 | H18: =(E18/$E$29)*100 -> 3.5842294 | I18: =(H18/100)*G18 -> 0
C19: Skills | D19: 2 | E19: 9 | F19: =100/E19 -> 11.111111 | G19: =SUM('Mapping Template'!L185:L193) -> 0 | H19: =(E19/$E$29)*100 -> 3.2258065 | I19: =(H19/100)*G19 -> 0
B20: 10 | C20: Knowledge | D20: 1 | E20: 2 | F20: =100/E20 -> 50 | G20: =SUM('Mapping Template'!L196:L197) -> 0 | H20: =(E20/$E$29)*100 -> 0.71684588 | I20: =(H20/100)*G20 -> 0
C21: Skills | D21: 3 | E21: 9 | F21: =100/E21 -> 11.111111 | G21: =SUM('Mapping Template'!L199:L207) -> 0 | H21: =(E21/$E$29)*100 -> 3.2258065 | I21: =(H21/100)*G21 -> 0
B22: 11 | C22: Knowledge | D22: 4 | E22: 16 | F22: =100/E22 -> 6.25 | G22: =SUM('Mapping Template'!L209:L224) -> 0 | H22: =(E22/$E$29)*100 -> 5.734767 | I22: =(H22/100)*G22 -> 0
C23: Skills | D23: 3 | E23: 10 | F23: =100/E23 -> 10 | G23: =SUM('Mapping Template'!L226:L235) -> 0 | H23: =(E23/$E$29)*100 -> 3.5842294 | I23: =(H23/100)*G23 -> 0
B24: 12 | C24: Knowledge | D24: 1 | E24: 5 | F24: =100/E24 -> 20 | G24: =SUM('Mapping Template'!L237:L241) -> 0 | H24: =(E24/$E$29)*100 -> 1.7921147 | I24: =(H24/100)*G24 -> 0
C25: Skills | D25: 3 | E25: 11 | F25: =100/E25 -> 9.0909091 | G25: =SUM('Mapping Template'!L243:L253) -> 0 | H25: =(E25/$E$29)*100 -> 3.9426523 | I25: =(H25/100)*G25 -> 0
B26: 13 | C26: Knowledge | D26: 1 | E26: 18 | F26: =100/E26 -> 5.5555556 | G26: =SUM('Mapping Template'!L256:L273) -> 0 | H26: =(E26/$E$29)*100 -> 6.4516129 | I26: =(H26/100)*G26 -> 0
B27: 14 | C27: Knowledge | D27: 1 | E27: 15 | F27: =100/E27 -> 6.6666667 | G27: =SUM('Mapping Template'!L276:L290) -> 0 | H27: =(E27/$E$29)*100 -> 5.3763441 | I27: =(H27/100)*G27 -> 0
B28: 15 | C28: Knowledge | D28: 4 | E28: 22 | F28: =100/E28 -> 4.5454545 | G28: =SUM('Mapping Template'!L293:L314) -> 0 | H28: =(E28/$E$29)*100 -> 7.8853047 | I28: =(H28/100)*G28 -> 0
C29: Totals | D29: =SUM(D3:D28) -> 58 | E29: =SUM(E3:E28) -> 279 | H29: =SUM(H3:H28) -> 100 | I29: =SUM(I3:I28) -> 0

Sheet Feedback
A1: Standardised feedback comments | B1: Assessment methods
A2: Comprehensive evidence | B2: Assignment
A3: Sufficient evidence | B3: Case study
A4: Further evidence required | B4: Dissertation
B5: Exam
B6: Written test
B7: Listening test
B8: Oral test
B9: Performance/ practical
B10: Portfolio
B11: Professional discussion
B12: Project
B13: Simulation
B14: Online test
B15: Attendence only
B16: Multiple
B17: Other

Sheet Workings out
B1: K1 | C1: S1 | D1: K2 | E1: S2 | F1: K3 | G1: S3 | H1: K4 | I1: S4 | J1: K5 | K1: S5 | L1: K6 | M1: K7 | N1: S7 | O1: K8 | P1: S8 | Q1: K9 | R1: S9 | S1: K10 | T1: S10 | U1: K11 | V1: S11 | W1: K12 | X1: S12 | Y1: K13 | Z1: K14 | AA1: K15
A2: % value | B2: 20 | C2: 7.1428571 | D2: 25 | E2: 11.111111 | F2: 33.333333 | G2: 9.0909091 | H2: 3.7037037 | I2: 12.5 | J2: 10 | K2: 9.0909091 | L2: 8.3333333 | M2: 12.5 | N2: 10 | O2: 9.0909091 | P2: 11.111111 | Q2: 10 | R2: 11.111111 | S2: 50 | T2: 11.111111 | U2: 6.25 | V2: 10 | W2: 20 | X2: 9.0909091 | Y2: 5.5555556 | Z2: 6.6666667 | AA2: 4.5454545
A3: # spec | B3: 5 | C3: 14 | D3: 4 | E3: 9 | F3: 3 | G3: 11 | H3: 27 | I3: 8 | J3: 10 | K3: 11 | L3: 12 | M3: 8 | N3: 10 | O3: 11 | P3: 9 | Q3: 10 | R3: 9 | S3: 2 | T3: 9 | U3: 16 | V3: 10 | W3: 5 | X3: 11 | Y3: 18 | Z3: 15 | AA3: 22
B4: =IF('Mapping Template'!$J6=1,B$2,0) -> 0 | C4: =IF('Mapping Template'!$J12=1,C$2,0) -> 0 | D4: =IF('Mapping Template'!$J27=1,D$2,0) -> 0 | E4: =IF('Mapping Template'!$J32=1,E$2,0) -> 0 | F4: =IF('Mapping Template'!$J43=1,F$2,0) -> 0 | G4: =IF('Mapping Template'!$J47=1,G$2,0) -> 0 | H4: =IF('Mapping Template'!$J59=1,H$2,0) -> 0 | I4: =IF('Mapping Template'!$J87=1,I$2,0) -> 0 | J4: =IF('Mapping Template'!$J96=1,J$2,0) -> 0 | K4: =IF('Mapping Template'!$J107=1,K$2,0) -> 0 | L4: =IF('Mapping Template'!$J119=1,L$2,0) -> 0 | M4: =IF('Mapping Template'!$J132=1,M$2,0) -> 0 | N4: =IF('Mapping Template'!$J141=1,N$2,0) -> 0 | O4: =IF('Mapping Template'!$J152=1,O$2,0) -> 0 | P4: =IF('Mapping Template'!$J164=1,P$2,0) -> 0 | Q4: =IF('Mapping Template'!$J174=1,Q$2,0) -> 0 | R4: =IF('Mapping Template'!$J185=1,R$2,0) -> 0 | S4: =IF('Mapping Template'!$J196=1,S$2,0) -> 0 | T4: =IF('Mapping Template'!$J199=1,T$2,0) -> 0 | U4: =IF('Mapping Template'!$J209=1,U$2,0) -> 0 | V4: =IF('Mapping Template'!$J226=1,V$2,0) -> 0 | W4: =IF('Mapping Template'!$J237=1,W$2,0) -> 0 | X4: =IF('Mapping Template'!$J243=1,X$2,0) -> 0 | Y4: =IF('Mapping Template'!$J256=1,Y$2,0) -> 0 | Z4: =IF('Mapping Template'!$J276=1,Z$2,0) -> 0 | AA4: =IF('Mapping Template'!$J293=1,AA$2,0) -> 0
B5: =IF('Mapping Template'!$J7=1,B$2,0) -> 0 | C5: =IF('Mapping Template'!$J13=1,C$2,0) -> 0 | D5: =IF('Mapping Template'!$J28=1,D$2,0) -> 0 | E5: =IF('Mapping Template'!$J33=1,E$2,0) -> 0 | F5: =IF('Mapping Template'!$J44=1,F$2,0) -> 0 | G5: =IF('Mapping Template'!$J48=1,G$2,0) -> 0 | H5: =IF('Mapping Template'!$J60=1,H$2,0) -> 0 | I5: =IF('Mapping Template'!$J88=1,I$2,0) -> 0 | J5: =IF('Mapping Template'!$J97=1,J$2,0) -> 0 | K5: =IF('Mapping Template'!$J108=1,K$2,0) -> 0 | L5: =IF('Mapping Template'!$J120=1,L$2,0) -> 0 | M5: =IF('Mapping Template'!$J133=1,M$2,0) -> 0 | N5: =IF('Mapping Template'!$J142=1,N$2,0) -> 0 | O5: =IF('Mapping Template'!$J153=1,O$2,0) -> 0 | P5: =IF('Mapping Template'!$J165=1,P$2,0) -> 0 | Q5: =IF('Mapping Template'!$J175=1,Q$2,0) -> 0 | R5: =IF('Mapping Template'!$J186=1,R$2,0) -> 0 | S5: =IF('Mapping Template'!$J197=1,S$2,0) -> 0 | T5: =IF('Mapping Template'!$J200=1,T$2,0) -> 0 | U5: =IF('Mapping Template'!$J210=1,U$2,0) -> 0 | V5: =IF('Mapping Template'!$J227=1,V$2,0) -> 0 | W5: =IF('Mapping Template'!$J238=1,W$2,0) -> 0 | X5: =IF('Mapping Template'!$J244=1,X$2,0) -> 0 | Y5: =IF('Mapping Template'!$J257=1,Y$2,0) -> 0 | Z5: =IF('Mapping Template'!$J277=1,Z$2,0) -> 0 | AA5: =IF('Mapping Template'!$J294=1,AA$2,0) -> 0
B6: =IF('Mapping Template'!$J8=1,B$2,0) -> 0 | C6: =IF('Mapping Template'!$J14=1,C$2,0) -> 0 | D6: =IF('Mapping Template'!$J29=1,D$2,0) -> 0 | E6: =IF('Mapping Template'!$J34=1,E$2,0) -> 0 | F6: =IF('Mapping Template'!$J45=1,F$2,0) -> 0 | G6: =IF('Mapping Template'!$J49=1,G$2,0) -> 0 | H6: =IF('Mapping Template'!$J61=1,H$2,0) -> 0 | I6: =IF('Mapping Template'!$J89=1,I$2,0) -> 0 | J6: =IF('Mapping Template'!$J98=1,J$2,0) -> 0 | K6: =IF('Mapping Template'!$J109=1,K$2,0) -> 0 | L6: =IF('Mapping Template'!$J121=1,L$2,0) -> 0 | M6: =IF('Mapping Template'!$J134=1,M$2,0) -> 0 | N6: =IF('Mapping Template'!$J143=1,N$2,0) -> 0 | O6: =IF('Mapping Template'!$J154=1,O$2,0) -> 0 | P6: =IF('Mapping Template'!$J166=1,P$2,0) -> 0 | Q6: =IF('Mapping Template'!$J176=1,Q$2,0) -> 0 | R6: =IF('Mapping Template'!$J187=1,R$2,0) -> 0 | T6: =IF('Mapping Template'!$J201=1,T$2,0) -> 0 | U6: =IF('Mapping Template'!$J211=1,U$2,0) -> 0 | V6: =IF('Mapping Template'!$J228=1,V$2,0) -> 0 | W6: =IF('Mapping Template'!$J239=1,W$2,0) -> 0 | X6: =IF('Mapping Template'!$J245=1,X$2,0) -> 0 | Y6: =IF('Mapping Template'!$J258=1,Y$2,0) -> 0 | Z6: =IF('Mapping Template'!$J278=1,Z$2,0) -> 0 | AA6: =IF('Mapping Template'!$J295=1,AA$2,0) -> 0
B7: =IF('Mapping Template'!$J9=1,B$2,0) -> 0 | C7: =IF('Mapping Template'!$J15=1,C$2,0) -> 0 | D7: =IF('Mapping Template'!$J30=1,D$2,0) -> 0 | E7: =IF('Mapping Template'!$J35=1,E$2,0) -> 0 | G7: =IF('Mapping Template'!$J50=1,G$2,0) -> 0 | H7: =IF('Mapping Template'!$J62=1,H$2,0) -> 0 | I7: =IF('Mapping Template'!$J90=1,I$2,0) -> 0 | J7: =IF('Mapping Template'!$J99=1,J$2,0) -> 0 | K7: =IF('Mapping Template'!$J110=1,K$2,0) -> 0 | L7: =IF('Mapping Template'!$J122=1,L$2,0) -> 0 | M7: =IF('Mapping Template'!$J135=1,M$2,0) -> 0 | N7: =IF('Mapping Template'!$J144=1,N$2,0) -> 0 | O7: =IF('Mapping Template'!$J155=1,O$2,0) -> 0 | P7: =IF('Mapping Template'!$J167=1,P$2,0) -> 0 | Q7: =IF('Mapping Template'!$J177=1,Q$2,0) -> 0 | R7: =IF('Mapping Template'!$J188=1,R$2,0) -> 0 | T7: =IF('Mapping Template'!$J202=1,T$2,0) -> 0 | U7: =IF('Mapping Template'!$J212=1,U$2,0) -> 0 | V7: =IF('Mapping Template'!$J229=1,V$2,0) -> 0 | W7: =IF('Mapping Template'!$J240=1,W$2,0) -> 0 | X7: =IF('Mapping Template'!$J246=1,X$2,0) -> 0 | Y7: =IF('Mapping Template'!$J259=1,Y$2,0) -> 0 | Z7: =IF('Mapping Template'!$J279=1,Z$2,0) -> 0 | AA7: =IF('Mapping Template'!$J296=1,AA$2,0) -> 0
B8: =IF('Mapping Template'!$J10=1,B$2,0) -> 0 | C8: =IF('Mapping Template'!$J16=1,C$2,0) -> 0 | E8: =IF('Mapping Template'!$J36=1,E$2,0) -> 0 | G8: =IF('Mapping Template'!$J51=1,G$2,0) -> 0 | H8: =IF('Mapping Template'!$J63=1,H$2,0) -> 0 | I8: =IF('Mapping Template'!$J91=1,I$2,0) -> 0 | J8: =IF('Mapping Template'!$J100=1,J$2,0) -> 0 | K8: =IF('Mapping Template'!$J111=1,K$2,0) -> 0 | L8: =IF('Mapping Template'!$J123=1,L$2,0) -> 0 | M8: =IF('Mapping Template'!$J136=1,M$2,0) -> 0 | N8: =IF('Mapping Template'!$J145=1,N$2,0) -> 0 | O8: =IF('Mapping Template'!$J156=1,O$2,0) -> 0 | P8: =IF('Mapping Template'!$J168=1,P$2,0) -> 0 | Q8: =IF('Mapping Template'!$J178=1,Q$2,0) -> 0 | R8: =IF('Mapping Template'!$J189=1,R$2,0) -> 0 | T8: =IF('Mapping Template'!$J203=1,T$2,0) -> 0 | U8: =IF('Mapping Template'!$J213=1,U$2,0) -> 0 | V8: =IF('Mapping Template'!$J230=1,V$2,0) -> 0 | W8: =IF('Mapping Template'!$J241=1,W$2,0) -> 0 | X8: =IF('Mapping Template'!$J247=1,X$2,0) -> 0 | Y8: =IF('Mapping Template'!$J260=1,Y$2,0) -> 0 | Z8: =IF('Mapping Template'!$J280=1,Z$2,0) -> 0 | AA8: =IF('Mapping Template'!$J297=1,AA$2,0) -> 0
C9: =IF('Mapping Template'!$J17=1,C$2,0) -> 0 | E9: =IF('Mapping Template'!$J37=1,E$2,0) -> 0 | G9: =IF('Mapping Template'!$J52=1,G$2,0) -> 0 | H9: =IF('Mapping Template'!$J64=1,H$2,0) -> 0 | I9: =IF('Mapping Template'!$J92=1,I$2,0) -> 0 | J9: =IF('Mapping Template'!$J101=1,J$2,0) -> 0 | K9: =IF('Mapping Template'!$J112=1,K$2,0) -> 0 | L9: =IF('Mapping Template'!$J124=1,L$2,0) -> 0 | M9: =IF('Mapping Template'!$J137=1,M$2,0) -> 0 | N9: =IF('Mapping Template'!$J146=1,N$2,0) -> 0 | O9: =IF('Mapping Template'!$J157=1,O$2,0) -> 0 | P9: =IF('Mapping Template'!$J169=1,P$2,0) -> 0 | Q9: =IF('Mapping Template'!$J179=1,Q$2,0) -> 0 | R9: =IF('Mapping Template'!$J190=1,R$2,0) -> 0 | T9: =IF('Mapping Template'!$J204=1,T$2,0) -> 0 | U9: =IF('Mapping Template'!$J214=1,U$2,0) -> 0 | V9: =IF('Mapping Template'!$J231=1,V$2,0) -> 0 | X9: =IF('Mapping Template'!$J248=1,X$2,0) -> 0 | Y9: =IF('Mapping Template'!$J261=1,Y$2,0) -> 0 | Z9: =IF('Mapping Template'!$J281=1,Z$2,0) -> 0 | AA9: =IF('Mapping Template'!$J298=1,AA$2,0) -> 0
C10: =IF('Mapping Template'!$J18=1,C$2,0) -> 0 | E10: =IF('Mapping Template'!$J38=1,E$2,0) -> 0 | G10: =IF('Mapping Template'!$J53=1,G$2,0) -> 0 | H10: =IF('Mapping Template'!$J65=1,H$2,0) -> 0 | I10: =IF('Mapping Template'!$J93=1,I$2,0) -> 0 | J10: =IF('Mapping Template'!$J102=1,J$2,0) -> 0 | K10: =IF('Mapping Template'!$J113=1,K$2,0) -> 0 | L10: =IF('Mapping Template'!$J125=1,L$2,0) -> 0 | M10: =IF('Mapping Template'!$J138=1,M$2,0) -> 0 | N10: =IF('Mapping Template'!$J147=1,N$2,0) -> 0 | O10: =IF('Mapping Template'!$J158=1,O$2,0) -> 0 | P10: =IF('Mapping Template'!$J170=1,P$2,0) -> 0 | Q10: =IF('Mapping Template'!$J180=1,Q$2,0) -> 0 | R10: =IF('Mapping Template'!$J191=1,R$2,0) -> 0 | T10: =IF('Mapping Template'!$J205=1,T$2,0) -> 0 | U10: =IF('Mapping Template'!$J215=1,U$2,0) -> 0 | V10: =IF('Mapping Template'!$J232=1,V$2,0) -> 0 | X10: =IF('Mapping Template'!$J249=1,X$2,0) -> 0 | Y10: =IF('Mapping Template'!$J262=1,Y$2,0) -> 0 | Z10: =IF('Mapping Template'!$J282=1,Z$2,0) -> 0 | AA10: =IF('Mapping Template'!$J299=1,AA$2,0) -> 0
C11: =IF('Mapping Template'!$J19=1,C$2,0) -> 0 | E11: =IF('Mapping Template'!$J39=1,E$2,0) -> 0 | G11: =IF('Mapping Template'!$J54=1,G$2,0) -> 0 | H11: =IF('Mapping Template'!$J66=1,H$2,0) -> 0 | I11: =IF('Mapping Template'!$J94=1,I$2,0) -> 0 | J11: =IF('Mapping Template'!$J103=1,J$2,0) -> 0 | K11: =IF('Mapping Template'!$J114=1,K$2,0) -> 0 | L11: =IF('Mapping Template'!$J126=1,L$2,0) -> 0 | M11: =IF('Mapping Template'!$J139=1,M$2,0) -> 0 | N11: =IF('Mapping Template'!$J148=1,N$2,0) -> 0 | O11: =IF('Mapping Template'!$J159=1,O$2,0) -> 0 | P11: =IF('Mapping Template'!$J171=1,P$2,0) -> 0 | Q11: =IF('Mapping Template'!$J181=1,Q$2,0) -> 0 | R11: =IF('Mapping Template'!$J192=1,R$2,0) -> 0 | T11: =IF('Mapping Template'!$J206=1,T$2,0) -> 0 | U11: =IF('Mapping Template'!$J216=1,U$2,0) -> 0 | V11: =IF('Mapping Template'!$J233=1,V$2,0) -> 0 | X11: =IF('Mapping Template'!$J250=1,X$2,0) -> 0 | Y11: =IF('Mapping Template'!$J263=1,Y$2,0) -> 0 | Z11: =IF('Mapping Template'!$J283=1,Z$2,0) -> 0 | AA11: =IF('Mapping Template'!$J300=1,AA$2,0) -> 0
C12: =IF('Mapping Template'!$J20=1,C$2,0) -> 0 | E12: =IF('Mapping Template'!$J40=1,E$2,0) -> 0 | G12: =IF('Mapping Template'!$J55=1,G$2,0) -> 0 | H12: =IF('Mapping Template'!$J67=1,H$2,0) -> 0 | J12: =IF('Mapping Template'!$J104=1,J$2,0) -> 0 | K12: =IF('Mapping Template'!$J115=1,K$2,0) -> 0 | L12: =IF('Mapping Template'!$J127=1,L$2,0) -> 0 | N12: =IF('Mapping Template'!$J149=1,N$2,0) -> 0 | O12: =IF('Mapping Template'!$J160=1,O$2,0) -> 0 | P12: =IF('Mapping Template'!$J172=1,P$2,0) -> 0 | Q12: =IF('Mapping Template'!$J182=1,Q$2,0) -> 0 | R12: =IF('Mapping Template'!$J193=1,R$2,0) -> 0 | T12: =IF('Mapping Template'!$J207=1,T$2,0) -> 0 | U12: =IF('Mapping Template'!$J217=1,U$2,0) -> 0 | V12: =IF('Mapping Template'!$J234=1,V$2,0) -> 0 | X12: =IF('Mapping Template'!$J251=1,X$2,0) -> 0 | Y12: =IF('Mapping Template'!$J264=1,Y$2,0) -> 0 | Z12: =IF('Mapping Template'!$J284=1,Z$2,0) -> 0 | AA12: =IF('Mapping Template'!$J301=1,AA$2,0) -> 0
C13: =IF('Mapping Template'!$J21=1,C$2,0) -> 0 | G13: =IF('Mapping Template'!$J56=1,G$2,0) -> 0 | H13: =IF('Mapping Template'!$J68=1,H$2,0) -> 0 | J13: =IF('Mapping Template'!$J105=1,J$2,0) -> 0 | K13: =IF('Mapping Template'!$J116=1,K$2,0) -> 0 | L13: =IF('Mapping Template'!$J128=1,L$2,0) -> 0 | N13: =IF('Mapping Template'!$J150=1,N$2,0) -> 0 | O13: =IF('Mapping Template'!$J161=1,O$2,0) -> 0 | Q13: =IF('Mapping Template'!$J183=1,Q$2,0) -> 0 | U13: =IF('Mapping Template'!$J218=1,U$2,0) -> 0 | V13: =IF('Mapping Template'!$J235=1,V$2,0) -> 0 | X13: =IF('Mapping Template'!$J252=1,X$2,0) -> 0 | Y13: =IF('Mapping Template'!$J265=1,Y$2,0) -> 0 | Z13: =IF('Mapping Template'!$J285=1,Z$2,0) -> 0 | AA13: =IF('Mapping Template'!$J302=1,AA$2,0) -> 0
C14: =IF('Mapping Template'!$J22=1,C$2,0) -> 0 | G14: =IF('Mapping Template'!$J57=1,G$2,0) -> 0 | H14: =IF('Mapping Template'!$J69=1,H$2,0) -> 0 | K14: =IF('Mapping Template'!$J117=1,K$2,0) -> 0 | L14: =IF('Mapping Template'!$J129=1,L$2,0) -> 0 | O14: =IF('Mapping Template'!$J162=1,O$2,0) -> 0 | U14: =IF('Mapping Template'!$J219=1,U$2,0) -> 0 | X14: =IF('Mapping Template'!$J253=1,X$2,0) -> 0 | Y14: =IF('Mapping Template'!$J266=1,Y$2,0) -> 0 | Z14: =IF('Mapping Template'!$J286=1,Z$2,0) -> 0 | AA14: =IF('Mapping Template'!$J303=1,AA$2,0) -> 0
C15: =IF('Mapping Template'!$J23=1,C$2,0) -> 0 | H15: =IF('Mapping Template'!$J70=1,H$2,0) -> 0 | L15: =IF('Mapping Template'!$J130=1,L$2,0) -> 0 | U15: =IF('Mapping Template'!$J220=1,U$2,0) -> 0 | Y15: =IF('Mapping Template'!$J267=1,Y$2,0) -> 0 | Z15: =IF('Mapping Template'!$J287=1,Z$2,0) -> 0 | AA15: =IF('Mapping Template'!$J304=1,AA$2,0) -> 0
C16: =IF('Mapping Template'!$J24=1,C$2,0) -> 0 | H16: =IF('Mapping Template'!$J71=1,H$2,0) -> 0 | U16: =IF('Mapping Template'!$J221=1,U$2,0) -> 0 | Y16: =IF('Mapping Template'!$J268=1,Y$2,0) -> 0 | Z16: =IF('Mapping Template'!$J288=1,Z$2,0) -> 0 | AA16: =IF('Mapping Template'!$J305=1,AA$2,0) -> 0
C17: =IF('Mapping Template'!$J25=1,C$2,0) -> 0 | H17: =IF('Mapping Template'!$J72=1,H$2,0) -> 0 | U17: =IF('Mapping Template'!$J222=1,U$2,0) -> 0 | Y17: =IF('Mapping Template'!$J269=1,Y$2,0) -> 0 | Z17: =IF('Mapping Template'!$J289=1,Z$2,0) -> 0 | AA17: =IF('Mapping Template'!$J306=1,AA$2,0) -> 0
H18: =IF('Mapping Template'!$J73=1,H$2,0) -> 0 | U18: =IF('Mapping Template'!$J223=1,U$2,0) -> 0 | Y18: =IF('Mapping Template'!$J270=1,Y$2,0) -> 0 | Z18: =IF('Mapping Template'!$J290=1,Z$2,0) -> 0 | AA18: =IF('Mapping Template'!$J307=1,AA$2,0) -> 0
H19: =IF('Mapping Template'!$J74=1,H$2,0) -> 0 | U19: =IF('Mapping Template'!$J224=1,U$2,0) -> 0 | Y19: =IF('Mapping Template'!$J271=1,Y$2,0) -> 0 | AA19: =IF('Mapping Template'!$J308=1,AA$2,0) -> 0
H20: =IF('Mapping Template'!$J75=1,H$2,0) -> 0 | Y20: =IF('Mapping Template'!$J272=1,Y$2,0) -> 0 | AA20: =IF('Mapping Template'!$J309=1,AA$2,0) -> 0
H21: =IF('Mapping Template'!$J76=1,H$2,0) -> 0 | Y21: =IF('Mapping Template'!$J273=1,Y$2,0) -> 0 | AA21: =IF('Mapping Template'!$J310=1,AA$2,0) -> 0
H22: =IF('Mapping Template'!$J77=1,H$2,0) -> 0 | AA22: =IF('Mapping Template'!$J311=1,AA$2,0) -> 0
H23: =IF('Mapping Template'!$J78=1,H$2,0) -> 0 | AA23: =IF('Mapping Template'!$J312=1,AA$2,0) -> 0
H24: =IF('Mapping Template'!$J79=1,H$2,0) -> 0 | AA24: =IF('Mapping Template'!$J313=1,AA$2,0) -> 0
H25: =IF('Mapping Template'!$J80=1,H$2,0) -> 0 | AA25: =IF('Mapping Template'!$J314=1,AA$2,0) -> 0
H26: =IF('Mapping Template'!$J81=1,H$2,0) -> 0
H27: =IF('Mapping Template'!$J82=1,H$2,0) -> 0
H28: =IF('Mapping Template'!$J83=1,H$2,0) -> 0
H29: =IF('Mapping Template'!$J84=1,H$2,0) -> 0
H30: =IF('Mapping Template'!$J85=1,H$2,0) -> 0
