Workbook

Sheet Guidance
B1: #VALUE!
B2: Aspiring Manager Mapping Template
B3: Edition: V3
B4: Publication date: 1st August 2024
B6: Mapping Guidance - you are here!
B7: Mapping template to reference and evidence where the professional standard is being met by the course/ participant/ qualification
B8: N.B. Examples (e.g.) are given within the LDRs to provide an overview of the knowledge and skills most relevant to the role. It is not mandatory to assess learners against 100% of the examples provided, however, sufficient coverage to ensure occupational competence on achievement must be ensured. This will be reviewed as part of the CIMSPA endorsement process.
B9: For non-regulated qualifications (CPD), where an Education Partner does not meet the full CIMSPA professional standard, it is important to note, that the Education Partner must meet a full Knowledge or Skill LDR. For example, all three sections within K1.1 would need to evidenced for that LDR to partially map to the professional standard.
B10: For further information around product development guidance, please refer to the professional standard within the professional standard library; https://www.cimspa.co.uk/education-training/professional-standards/professional-standards-library/
B11: Alternatively, please view our CIMPSA Partner Endorsement Guide;https://cimspa.co.uk/education-training/endorsement/
B13: Revision History
B14: Version | C14: Name & Role | D14: Signature & Date | E14: Reason for Change
A15: c | B15: V3 | C15: Aidan Riley Education Officer | D15: AR 30/07/24 | E15: Update to general formatting & implementation of conditional formating to streamline moderator feedback.
B19: E endorsements@cimspa.co.uk T 03438 360200 W www.cimspa.co.uk
B20: Chartered Institute for the Management of Sport and Physical Activity,
B21: SportPark Loughborough University, 3 Oakwood Drive, Loughborough, Leicestershire LE11 3QF
B22: Incorporated by Royal Charter Charity Registration No. 1144545

Sheet Mapping Template
E1: Education Product Title: INSERT HERE
A2: Professional Standard: Aspiring Manager | E2: Partner Mapping Section | J2: Moderator Feedback Section | Q2: IV Feedback Section
A3: Topic | B3: Competency | D3: Learning Outcome(s) | E3: Evidence (sign post to SOW / course specification / supporting documents) | F3: Assessment method | G3: Further comments (expand on evidence within column E) | H3: Response to moderator feedback section (second review evidence - if applicable) | J3: Score | K3: Mapping to point | L3: % mapped to section | M3: Moderator comments | N3: General feedback (first review) | O3: General feedback (second review - if applicable) | Q3: IV comments
A4: KEY MANAGEMENT THEME 1: SERVICE IMPROVEMENTS
A5: 1. Customer service delivery | B5: Ref | C5: K&U | D5: An Aspiring Manager must:
B6: K1.1 | C6: Understand customer service delivery | D6: · Explain the relationship between customer needs, expectations and customer satisfaction. | K6: {=IF((AND(J6:J10=1)), "Fully Mapped", "Not/ Partially Mapped")} -> Not/ Partially Mapped | L6: =SUM('Workings out'!B4:B18) -> 0
D7: · Explain the importance of treating customers as individuals.
D8: · Explain the importance of balancing promises made to customers with the needs of an organisation.
D9: · Explain when and to whom to escalate problems.
D10: · Explain the importance of managing the customer experience.
B11: K1.2 | C11: Understand the relationship between service providers, customers and consumers | D11: · Describe a typical customer in own area of responsibility. | K11: {=IF((AND(J11:J12=1)), "Fully Mapped", "Not/ Partially Mapped")} -> Not/ Partially Mapped
D12: · Describe types of customers in different settings within sport and physical activity.
B13: K1.3 | C13: Know how to resolve customer service problems | D13: · Describe organisational procedures and systems for dealing with customer service problems. | K13: {=IF((AND(J13:J16=1)), "Fully Mapped", "Not/ Partially Mapped")} -> Not/ Partially Mapped
D14: · Explain how to defuse stressful situations.
D15: · Describe how to negotiate.
D16: · Describe types of actions that may make a customer problem worse and should be avoided.
B17: K1.4 | C17: Participation and progression in sport and physical activity | D17: · Describe typical motivations for participation. | K17: {=IF((AND(J17:J20=1)), "Fully Mapped", "Not/ Partially Mapped")} -> Not/ Partially Mapped
D18: · Describe barriers to participation and how to overcome them.
D19: · Explain retention in a sport and physical activity context.
D20: · Explain progression pathways in sport and physical activity.
B21: Ref | C21: Skills | D21: An Aspiring Manager must be able to:
B22: S1.1 | C22: Be able to provide customer service | D22: · Manage and maintain organisational standards of presentation and behaviour when providing customer service. | K22: {=IF((AND(J22:J26=1)), "Fully Mapped", "Not/ Partially Mapped")} -> Not/ Partially Mapped | L22: =SUM('Workings out'!C4:C7) -> 100
D23: · Adapt own behaviour to meet customer needs or expectations.
D24: · Respond to customer requests in line with organisational guidelines.
D25: · Contribute to continuous customer service improvements.
D26: · Adhere to organisational policies and procedures, legal and ethical requirements when providing customer service.
A27: KEY MANAGEMENT THEME 2: PEOPLE MANAGEMENT AND DEVELOPMENT
B28: Ref | C28: K&U | D28: An Aspiring Manager must:
A29: 2. Principles of team leading | B29: K2.1 | C29: Understand management and leadership styles in organisations | D29: · Describe characteristics of effective leaders. | K29: {=IF((AND(J29:J35=1)), "Fully Mapped", "Not/ Partially Mapped")} -> Not/ Partially Mapped | L29: =SUM('Workings out'!D4:D29) -> 0
D30: · Describe different leadership styles.
D31: · Describe ways in which leaders can motivate their teams.
D32: · Explain the benefits of effective leadership for organisations.
D33: · Explain the meaning and purpose of senior management, middle management and junior management.
D34: · Describe the different styles of management.
D35: · Describe management challenges in small and medium sized organisations.
B36: K2.2 | C36: Understand team dynamics | D36: · Explain the purpose of different types of teams. | K36: {=IF((AND(J36:J40=1)), "Fully Mapped", "Not/ Partially Mapped")} -> Not/ Partially Mapped
D37: · Describe the stages of team development and behaviour.
D38: · Explain the concept of team role theory.
D39: · Explain how the principle of team role theory is used in team building and leadership.
D40: · Explain typical sources of conflict within a team and how they could be managed.
...

Sheet Mapping results
B1: Mapping Breakdown shows a breakdown of the percentage that your course has mapped to each sections knowledge and skills criteria, and the overall percentage that your course has mapped to the professional standard
B2: Section | D2: No of Sections | E2: No of Specifications | F2: %worth of each specification | G2: Total % covered of area | H2: Section % of total standard | I2: % covered of entire standard
B3: 1 | C3: Knowledge | D3: 4 | E3: 15 | F3: =100/E3 -> 6.6666667 | G3: =SUM('Mapping Template'!L6:L20) -> 0 | H3: =(E3/E21)*100 -> 8.0213904 | I3: =(H3/100)*G3 -> 0
C4: Skills | D4: 1 | E4: 5 | F4: =100/E4 -> 20 | G4: =SUM('Mapping Template'!L22:L26) -> 100 | H4: =(E4/E21)*100 -> 2.6737968 | I4: =(H4/100)*G4 -> 2.6737968
B5: 2 | C5: Knowledge | D5: 6 | E5: 26 | F5: =100/E5 -> 3.8461538 | G5: =SUM('Mapping Template'!L29:L54) -> 0 | H5: =(E5/E21)*100 -> 13.903743 | I5: =(H5/100)*G5 -> 0
B6: 3 | C6: Knowledge | D6: 2 | E6: 13 | F6: =100/E6 -> 7.6923077 | G6: =SUM('Mapping Template'!L56:L68) -> 0 | H6: =(E6/E21)*100 -> 6.9518717 | I6: =(H6/100)*G6 -> 0
B7: 4 | C7: Knowledge | D7: 1 | E7: 6 | F7: =100/E7 -> 16.666667 | G7: =SUM('Mapping Template'!L70:L75) -> 0 | H7: =(E7/E21)*100 -> 3.2085561 | I7: =(H7/100)*G7 -> 0
C8: Skills | D8: 3 | E8: 9 | F8: =100/E8 -> 11.111111 | G8: =SUM('Mapping Template'!L77:L85) -> 0 | H8: =(E8/E21)*100 -> 4.8128342 | I8: =(H8/100)*G8 -> 0
B9: 5 | C9: Knowledge | D9: 3 | E9: 12 | F9: =100/E9 -> 8.3333333 | G9: =SUM('Mapping Template'!L88:L99) -> 0 | H9: =(E9/$E$21)*100 -> 6.4171123 | I9: =(H9/100)*G9 -> 0
B10: 6 | C10: Knowledge | D10: 4 | E10: 22 | F10: =100/E10 -> 4.5454545 | G10: =SUM('Mapping Template'!L101:L122) -> 0 | H10: =(E10/$E$21)*100 -> 11.764706 | I10: =(H10/100)*G10 -> 0
B11: 7 | C11: Knowledge | D11: 1 | E11: 4 | F11: =100/E11 -> 25 | G11: =SUM('Mapping Template'!L124:L127) -> 0 | H11: =(E11/$E$21)*100 -> 2.1390374 | I11: =(H11/100)*G11 -> 0
C12: Skills | D12: 2 | E12: 12 | F12: =100/E12 -> 8.3333333 | G12: =SUM('Mapping Template'!L129:L140) -> 0 | H12: =(E12/$E$21)*100 -> 6.4171123 | I12: =(H12/100)*G12 -> 0
B13: 8 | C13: Knowledge | D13: 4 | E13: 14 | F13: =100/E13 -> 7.1428571 | G13: =SUM('Mapping Template'!L143:L156) -> 0 | H13: =(E13/$E$21)*100 -> 7.486631 | I13: =(H13/100)*G13 -> 0
B14: 9 | C14: Knowledge | D14: 1 | E14: 3 | F14: =100/E14 -> 33.333333 | G14: =SUM('Mapping Template'!L159:L161) -> 0 | H14: =(E14/$E$21)*100 -> 1.6042781 | I14: =(H14/100)*G14 -> 0
B15: 10 | C15: Knowledge | D15: 1 | E15: 3 | F15: =100/E15 -> 33.333333 | G15: =SUM('Mapping Template'!L162:L163) -> 0 | H15: =(E15/$E$21)*100 -> 1.6042781 | I15: =(H15/100)*G15 -> 0
B16: 11 | C16: Knowledge | D16: 1 | E16: 10 | F16: =100/E16 -> 10 | G16: =SUM('Mapping Template'!L165:L174) -> 0 | H16: =(E16/$E$21)*100 -> 5.3475936 | I16: =(H16/100)*G16 -> 0
B17: 12 | C17: Knowledge | D17: 1 | E17: 3 | F17: =100/E17 -> 33.333333 | G17: =SUM('Mapping Template'!L177:L179) -> 0 | H17: =(E17/$E$21)*100 -> 1.6042781 | I17: =(H17/100)*G17 -> 0
B18: 13 | C18: Knowledge | D18: 1 | E18: 3 | F18: =100/E18 -> 33.333333 | G18: =SUM('Mapping Template'!L180:L182) -> 0 | H18: =(E18/$E$21)*100 -> 1.6042781 | I18: =(H18/100)*G18 -> 0
B19: 14 | C19: Knowledge | D19: 1 | E19: 10 | F19: =100/E19 -> 10 | G19: =SUM('Mapping Template'!L183:L192) -> 0 | H19: =(E19/$E$21)*100 -> 5.3475936 | I19: =(H19/100)*G19 -> 0
B20: 15 | C20: Knowledge | D20: 2 | E20: 17 | F20: =100/E20 -> 5.8823529 | G20: =SUM('Mapping Template'!L195:L211) -> 0 | H20: =(E20/$E$21)*100 -> 9.0909091 | I20: =(H20/100)*G20 -> 0
C21: Totals | D21: =SUM(D3:D13) -> 31 | E21: =SUM(E3:E20) -> 187 | H21: =SUM(H3:H20) -> 100 | I21: =SUM(I3:I20) -> 2.6737968

Sheet Feedback
A1: Standardised feedback comments | B1: Assessment methods
A2: Comprehensive evidence | B2: Assignment
A3: Sufficient evidence | B3: Case study
A4: Further evidence required | B4: Dissertation
B5: Exam
B6: Written test
B7: Listening test
B8: Oral test
B9: Performance/ practical
B10: Portfolio
B11: Professional discussion
B12: Project
B13: Simulation
B14: Online test
B15: Attendence only
B16: Multiple
B17: Other

Sheet Workings out
B1: K1 | C1: S1 | D1: K2 | E1: K3 | F1: K4 | G1: S4 | H1: K5 | I1: K6 | J1: K7 | K1: S7 | L1: K8 | M1: K9 | N1: K10 | O1: K11 | P1: K12 | Q1: K13 | R1: K14 | S1: K15
A2: % value | B2: 6.6666667 | C2: 20 | D2: 3.8461538 | E2: 7.6923077 | F2: 16.666667 | G2: 11.111111 | H2: 8.3333333 | I2: 4.5454545 | J2: 25 | K2: 8.3333333 | L2: 7.1428571 | M2: 33.333333 | N2: 33.333333 | O2: 10 | P2: 33.333333 | Q2: 33.333333 | R2: 10 | S2: 5.8823529
A3: # spec | B3: 15 | C3: 5 | D3: 26 | E3: 13 | F3: 6 | G3: 9 | H3: 12 | I3: 22 | J3: 4 | K3: 12 | L3: 14 | M3: 3 | N3: 3 | O3: 10 | P3: 3 | Q3: 3 | R3: 10 | S3: 17
B4: =IF('Mapping Template'!$J6=1,$B$2,0) -> 0 | C4: 25 | D4: =IF('Mapping Template'!$J29=1,D$2,0) -> 0 | E4: =IF('Mapping Template'!$J56=1,E$2,0) -> 0 | F4: =IF('Mapping Template'!$J70=1,F$2,0) -> 0 | G4: =IF('Mapping Template'!$J77=1,G$2,0) -> 0 | H4: =IF('Mapping Template'!$J88=1,H$2,0) -> 0 | I4: =IF('Mapping Template'!$J101=1,I$2,0) -> 0 | J4: =IF('Mapping Template'!$J124=1,J$2,0) -> 0 | K4: =IF('Mapping Template'!$J129=1,K$2,0) -> 0 | L4: =IF('Mapping Template'!$J143=1,L$2,0) -> 0 | M4: =IF('Mapping Template'!$J159=1,M$2,0) -> 0 | N4: =IF('Mapping Template'!$J162,N$2,0) -> 0 | O4: =IF('Mapping Template'!$J165=1,O$2,0) -> 0 | P4: =IF('Mapping Template'!$J177=1,P$2,0) -> 0 | Q4: =IF('Mapping Template'!$J180=1,Q$2,0) -> 0 | R4: =IF('Mapping Template'!$J183=1,R$2,0) -> 0 | S4: =IF('Mapping Template'!$J195=1,S$2,0) -> 0
B5: =IF('Mapping Template'!$J7=1,$B$2,0) -> 0 | C5: 25 | D5: =IF('Mapping Template'!$J30=1,D$2,0) -> 0 | E5: =IF('Mapping Template'!$J57=1,E$2,0) -> 0 | F5: =IF('Mapping Template'!$J71=1,F$2,0) -> 0 | G5: =IF('Mapping Template'!$J78=1,G$2,0) -> 0 | H5: =IF('Mapping Template'!$J89=1,H$2,0) -> 0 | I5: =IF('Mapping Template'!$J102=1,I$2,0) -> 0 | J5: =IF('Mapping Template'!$J125=1,J$2,0) -> 0 | K5: =IF('Mapping Template'!$J130=1,K$2,0) -> 0 | L5: =IF('Mapping Template'!$J144=1,L$2,0) -> 0 | M5: =IF('Mapping Template'!$J160=1,M$2,0) -> 0 | N5: =IF('Mapping Template'!$J163,N$2,0) -> 0 | O5: =IF('Mapping Template'!$J166=1,O$2,0) -> 0 | P5: =IF('Mapping Template'!$J178=1,P$2,0) -> 0 | Q5: =IF('Mapping Template'!$J181=1,Q$2,0) -> 0 | R5: =IF('Mapping Template'!$J184=1,R$2,0) -> 0 | S5: =IF('Mapping Template'!$J196=1,S$2,0) -> 0
B6: =IF('Mapping Template'!$J8=1,$B$2,0) -> 0 | C6: 25 | D6: =IF('Mapping Template'!$J31=1,D$2,0) -> 0 | E6: =IF('Mapping Template'!$J58=1,E$2,0) -> 0 | F6: =IF('Mapping Template'!$J72=1,F$2,0) -> 0 | G6: =IF('Mapping Template'!$J79=1,G$2,0) -> 0 | H6: =IF('Mapping Template'!$J90=1,H$2,0) -> 0 | I6: =IF('Mapping Template'!$J103=1,I$2,0) -> 0 | J6: =IF('Mapping Template'!$J126=1,J$2,0) -> 0 | K6: =IF('Mapping Template'!$J131=1,K$2,0) -> 0 | L6: =IF('Mapping Template'!$J145=1,L$2,0) -> 0 | M6: =IF('Mapping Template'!$J161=1,M$2,0) -> 0 | N6: =IF('Mapping Template'!$J164,N$2,0) -> 0 | O6: =IF('Mapping Template'!$J167=1,O$2,0) -> 0 | P6: =IF('Mapping Template'!$J179=1,P$2,0) -> 0 | Q6: =IF('Mapping Template'!$J182=1,Q$2,0) -> 0 | R6: =IF('Mapping Template'!$J185=1,R$2,0) -> 0 | S6: =IF('Mapping Template'!$J197=1,S$2,0) -> 0
B7: =IF('Mapping Template'!$J9=1,$B$2,0) -> 0 | C7: 25 | D7: =IF('Mapping Template'!$J32=1,D$2,0) -> 0 | E7: =IF('Mapping Template'!$J59=1,E$2,0) -> 0 | F7: =IF('Mapping Template'!$J73=1,F$2,0) -> 0 | G7: =IF('Mapping Template'!$J80=1,G$2,0) -> 0 | H7: =IF('Mapping Template'!$J91=1,H$2,0) -> 0 | I7: =IF('Mapping Template'!$J104=1,I$2,0) -> 0 | J7: =IF('Mapping Template'!$J127=1,J$2,0) -> 0 | K7: =IF('Mapping Template'!$J132=1,K$2,0) -> 0 | L7: =IF('Mapping Template'!$J146=1,L$2,0) -> 0 | O7: =IF('Mapping Template'!$J168=1,O$2,0) -> 0 | R7: =IF('Mapping Template'!$J186=1,R$2,0) -> 0 | S7: =IF('Mapping Template'!$J198=1,S$2,0) -> 0
B8: =IF('Mapping Template'!$J10=1,$B$2,0) -> 0 | D8: =IF('Mapping Template'!$J33=1,D$2,0) -> 0 | E8: =IF('Mapping Template'!$J60=1,E$2,0) -> 0 | F8: =IF('Mapping Template'!$J74=1,F$2,0) -> 0 | G8: =IF('Mapping Template'!$J81=1,G$2,0) -> 0 | H8: =IF('Mapping Template'!$J92=1,H$2,0) -> 0 | I8: =IF('Mapping Template'!$J105=1,I$2,0) -> 0 | K8: =IF('Mapping Template'!$J133=1,K$2,0) -> 0 | L8: =IF('Mapping Template'!$J147=1,L$2,0) -> 0 | O8: =IF('Mapping Template'!$J169=1,O$2,0) -> 0 | R8: =IF('Mapping Template'!$J187=1,R$2,0) -> 0 | S8: =IF('Mapping Template'!$J199=1,S$2,0) -> 0
B9: =IF('Mapping Template'!$J11=1,$B$2,0) -> 0 | D9: =IF('Mapping Template'!$J34=1,D$2,0) -> 0 | E9: =IF('Mapping Template'!$J61=1,E$2,0) -> 0 | F9: =IF('Mapping Template'!$J75=1,F$2,0) -> 0 | G9: =IF('Mapping Template'!$J82=1,G$2,0) -> 0 | H9: =IF('Mapping Template'!$J93=1,H$2,0) -> 0 | I9: =IF('Mapping Template'!$J106=1,I$2,0) -> 0 | K9: =IF('Mapping Template'!$J134=1,K$2,0) -> 0 | L9: =IF('Mapping Template'!$J148=1,L$2,0) -> 0 | O9: =IF('Mapping Template'!$J170=1,O$2,0) -> 0 | R9: =IF('Mapping Template'!$J188=1,R$2,0) -> 0 | S9: =IF('Mapping Template'!$J200=1,S$2,0) -> 0
B10: =IF('Mapping Template'!$J12=1,$B$2,0) -> 0 | D10: =IF('Mapping Template'!$J35=1,D$2,0) -> 0 | E10: =IF('Mapping Template'!$J62=1,E$2,0) -> 0 | G10: =IF('Mapping Template'!$J83=1,G$2,0) -> 0 | H10: =IF('Mapping Template'!$J94=1,H$2,0) -> 0 | I10: =IF('Mapping Template'!$J107=1,I$2,0) -> 0 | K10: =IF('Mapping Template'!$J135=1,K$2,0) -> 0 | L10: =IF('Mapping Template'!$J149=1,L$2,0) -> 0 | O10: =IF('Mapping Template'!$J171=1,O$2,0) -> 0 | R10: =IF('Mapping Template'!$J189=1,R$2,0) -> 0 | S10: =IF('Mapping Template'!$J201=1,S$2,0) -> 0
B11: =IF('Mapping Template'!$J13=1,$B$2,0) -> 0 | D11: =IF('Mapping Template'!$J36=1,D$2,0) -> 0 | E11: =IF('Mapping Template'!$J63=1,E$2,0) -> 0 | G11: =IF('Mapping Template'!$J84=1,G$2,0) -> 0 | H11: =IF('Mapping Template'!$J95=1,H$2,0) -> 0 | I11: =IF('Mapping Template'!$J108=1,I$2,0) -> 0 | K11: =IF('Mapping Template'!$J136=1,K$2,0) -> 0 | L11: =IF('Mapping Template'!$J150=1,L$2,0) -> 0 | O11: =IF('Mapping Template'!$J172=1,O$2,0) -> 0 | R11: =IF('Mapping Template'!$J190=1,R$2,0) -> 0 | S11: =IF('Mapping Template'!$J202=1,S$2,0) -> 0
B12: =IF('Mapping Template'!$J14=1,$B$2,0) -> 0 | D12: =IF('Mapping Template'!$J37=1,D$2,0) -> 0 | E12: =IF('Mapping Template'!$J64=1,E$2,0) -> 0 | G12: =IF('Mapping Template'!$J85=1,G$2,0) -> 0 | H12: =IF('Mapping Template'!$J96=1,H$2,0) -> 0 | I12: =IF('Mapping Template'!$J109=1,I$2,0) -> 0 | K12: =IF('Mapping Template'!$J137=1,K$2,0) -> 0 | L12: =IF('Mapping Template'!$J151=1,L$2,0) -> 0 | O12: =IF('Mapping Template'!$J173=1,O$2,0) -> 0 | R12: =IF('Mapping Template'!$J191=1,R$2,0) -> 0 | S12: =IF('Mapping Template'!$J203=1,S$2,0) -> 0
B13: =IF('Mapping Template'!$J15=1,$B$2,0) -> 0 | D13: =IF('Mapping Template'!$J38=1,D$2,0) -> 0 | E13: =IF('Mapping Template'!$J65=1,E$2,0) -> 0 | H13: =IF('Mapping Template'!$J97=1,H$2,0) -> 0 | I13: =IF('Mapping Template'!$J110=1,I$2,0) -> 0 | K13: =IF('Mapping Template'!$J138=1,K$2,0) -> 0 | L13: =IF('Mapping Template'!$J152=1,L$2,0) -> 0 | O13: =IF('Mapping Template'!$J174=1,O$2,0) -> 0 | R13: =IF('Mapping Template'!$J192=1,R$2,0) -> 0 | S13: =IF('Mapping Template'!$J204=1,S$2,0) -> 0
B14: =IF('Mapping Template'!$J16=1,$B$2,0) -> 0 | D14: =IF('Mapping Template'!$J39=1,D$2,0) -> 0 | E14: =IF('Mapping Template'!$J66=1,E$2,0) -> 0 | H14: =IF('Mapping Template'!$J98=1,H$2,0) -> 0 | I14: =IF('Mapping Template'!$J111=1,I$2,0) -> 0 | K14: =IF('Mapping Template'!$J139=1,K$2,0) -> 0 | L14: =IF('Mapping Template'!$J153=1,L$2,0) -> 0 | S14: =IF('Mapping Template'!$J205=1,S$2,0) -> 0
B15: =IF('Mapping Template'!$J17=1,$B$2,0) -> 0 | D15: =IF('Mapping Template'!$J40=1,D$2,0) -> 0 | E15: =IF('Mapping Template'!$J67=1,E$2,0) -> 0 | H15: =IF('Mapping Template'!$J99=1,H$2,0) -> 0 | I15: =IF('Mapping Template'!$J112=1,I$2,0) -> 0 | K15: =IF('Mapping Template'!$J140=1,K$2,0) -> 0 | L15: =IF('Mapping Template'!$J154=1,L$2,0) -> 0 | S15: =IF('Mapping Template'!$J206=1,S$2,0) -> 0
B16: =IF('Mapping Template'!$J18=1,$B$2,0) -> 0 | D16: =IF('Mapping Template'!$J41=1,D$2,0) -> 0 | E16: =IF('Mapping Template'!$J68=1,E$2,0) -> 0 | I16: =IF('Mapping Template'!$J113=1,I$2,0) -> 0 | L16: =IF('Mapping Template'!$J155=1,L$2,0) -> 0 | S16: =IF('Mapping Template'!$J207=1,S$2,0) -> 0
B17: =IF('Mapping Template'!$J19=1,$B$2,0) -> 0 | D17: =IF('Mapping Template'!$J42=1,D$2,0) -> 0 | I17: =IF('Mapping Template'!$J114=1,I$2,0) -> 0 | L17: =IF('Mapping Template'!$J156=1,L$2,0) -> 0 | S17: =IF('Mapping Template'!$J208=1,S$2,0) -> 0
B18: =IF('Mapping Template'!$J20=1,$B$2,0) -> 0 | D18: =IF('Mapping Template'!$J43=1,D$2,0) -> 0 | I18: =IF('Mapping Template'!$J115=1,I$2,0) -> 0 | S18: =IF('Mapping Template'!$J209=1,S$2,0) -> 0
D19: =IF('Mapping Template'!$J44=1,D$2,0) -> 0 | I19: =IF('Mapping Template'!$J116=1,I$2,0) -> 0 | S19: =IF('Mapping Template'!$J210=1,S$2,0) -> 0
D20: =IF('Mapping Template'!$J45=1,D$2,0) -> 0 | I20: =IF('Mapping Template'!$J117=1,I$2,0) -> 0 | S20: =IF('Mapping Template'!$J211=1,S$2,0) -> 0
D21: =IF('Mapping Template'!$J46=1,D$2,0) -> 0 | I21: =IF('Mapping Template'!$J118=1,I$2,0) -> 0
D22: =IF('Mapping Template'!$J47=1,D$2,0) -> 0 | I22: =IF('Mapping Template'!$J119=1,I$2,0) -> 0
D23: =IF('Mapping Template'!$J48=1,D$2,0) -> 0 | I23: =IF('Mapping Template'!$J120=1,I$2,0) -> 0
D24: =IF('Mapping Template'!$J49=1,D$2,0) -> 0 | I24: =IF('Mapping Template'!$J121=1,I$2,0) -> 0
D25: =IF('Mapping Template'!$J50=1,D$2,0) -> 0 | I25: =IF('Mapping Template'!$J122=1,I$2,0) -> 0
D26: =IF('Mapping Template'!$J51=1,D$2,0) -> 0
D27: =IF('Mapping Template'!$J52=1,D$2,0) -> 0
D28: =IF('Mapping Template'!$J53=1,D$2,0) -> 0
D29: =IF('Mapping Template'!$J54=1,D$2,0) -> 0
