Workbook

Sheet Guidance
B1: #VALUE!
B2: Safeguarding Adults Mapping Template
B3: Edition: V3.1
B4: Publication date: November 2025
B6: Mapping Guidance - you are here!
B7: Mapping template to reference and evidence where the professional standard is being met by the course/ participant/ qualification
B8: N.B. Examples (e.g.) are given within the LDRs to provide an overview of the knowledge and skills most relevant to the role. It is not mandatory to assess learners against 100% of the examples provided, however, sufficient coverage to ensure occupational competence on achievement must be ensured. This will be reviewed as part of the CIMSPA endorsement process.
B9: For non-regulated qualifications (CPD), where an Education Partner does not meet the full CIMSPA professional standard, it is important to note, that the Education Partner must meet a full Knowledge or Skill LDR. For example, all three sections within K1.1 would need to evidenced for that LDR to partially map to the professional standard.
B10: For further information around product development guidance, please refer to the professional standard within the professional standard library; https://www.cimspa.co.uk/education-training/professional-standards/professional-standards-library/
B11: Alternatively, please view our CIMPSA Partner Endorsement Guide;https://cimspa.co.uk/education-training/endorsement/
B13: Revision History
B14: Version | C14: Name & Role | D14: Signature & Date | E14: Reason for Change
B15: V2.1 | C15: Aidan Riley Education Officer | D15: AR 14/01/25 | E15: Update to general formatting & implementation of conditional formating to streamline moderator feedback.
B16: V3.1 | C16: Aidan Riley Education Officer Sara Byrne Technical Education Manager | D16: AR 05/11/2025 SB 05/11/2025 | E16: Update to content in line with V2 Safeguarding Adults. Additional Category (4) and removal of adults at risk.
B19: E endorsements@cimspa.co.uk T 03438 360200 W www.cimspa.co.uk
B20: Chartered Institute for the Management of Sport and Physical Activity,
B21: SportPark Loughborough University, 3 Oakwood Drive, Loughborough, Leicestershire LE11 3QF
B22: Incorporated by Royal Charter Charity Registration No. 1144545

Sheet Mapping Template
D1: Education Product Title: INSERT HERE
A2: Professional Standard: Safeguarding Adults | D2: Partner Mapping Section | I2: Moderator Feedback Section | P2: IV Feedback Section
A3: Topic | B3: Ref | C3: Competency | D3: Evidence (sign post to SOW / course specification / supporting documents) | E3: Assessment Method | F3: Further Comments (expand on evidence within column E / F) | G3: Response to Moderator Feedback Section (second review evidence - if applicable) | I3: Score | J3: Mapping to Point | K3: % Mapped to Section | L3: Moderator comments | M3: General Feedback (first review) | N3: General Feedback (second review - if applicable) | P3: IV Comments
A4: Safeguarding Adults and Adults at Risk Category 1: A basic awareness of safeguarding adults and adults at risk | B4: Ref | C4: Knowledge and understanding- those Safeguarding Adults must:
B5: K1.1 | C5: Understand what is meant by safeguarding adults. | J5: {=IF((AND(I5:I15=1)), "Fully Mapped", "Not/ Partially Mapped")} -> Not/ Partially Mapped | K5: =SUM('Workings out'!B5:B15) -> 0
B6: K1.2 | C6: Understand what is meant by appropriate behaviour in relation to adults.
B7: K1.3 | C7: Understand there may be a need for additional support for some adults with care and support needs.
B8: K1.4 | C8: Understand definition of 'adult at risk' within relevant safeguarding adult legislation.
B9: K1.5 | C9: Understand the difference between poor practice and abuse.
B10: K1.6 | C10: Understand the different types, indicators, and contexts of adult abuse.
B11: K1.7 | C11: Understand own organisation’s policies and procedures on reporting safeguarding or other concerns.
B12: K1.8 | C12: Understand own role and responsibilities in terms of safeguarding and protecting adults.
B13: K1.9 | C13: Understand where to seek advice and support on safeguarding adults.
B14: K1.10 | C14: Understand the importance of culture in creating and maintaining a safer environment for all adults.
B15: K1.11 | C15: Understand the principles and ethos of equity, equality, diversity, and inclusion and how biases can impact safeguarding practices.
B16: Ref | C16: Skills- those Safeguarding Adults must:
B17: S1.1 | C17: Be able to recognise potential indicators of adult abuse and poor practice. | J17: {=IF((AND(I17:I19=1)), "Fully Mapped", "Not/ Partially Mapped")} -> Not/ Partially Mapped | K17: =SUM('Workings out'!C5:C7) -> 0
B18: S1.2 | C18: Be able to follow reporting procedures/ raise concerns as outlined in own organisation's safeguarding adult procedures.
B19: S1.3 | C19: Be able to seek advice and support when required.
A20: Category 2: An essential understanding of safeguarding adults and adults at risk for anyone with responsibilities for participants’ welfare | B20: Ref | C20: Knowledge and understanding- those Safeguarding Adults must:
B21: K2.1 | C21: Understand government legislation in relation to safeguarding adults. | J21: {=IF((AND(I21:I29=1)), "Fully Mapped", "Not/ Partially Mapped")} -> Not/ Partially Mapped | K21: =SUM('Workings out'!D5:D13) -> 0
B22: K2.2 | C22: Understand key concepts and key principles of safeguarding adults.
B23: K2.3 | C23: Understand and follow own organisation’s online safety/ social media/ online communication policy to minimise professional risks and any safeguarding risks to participants when using online platforms to communicate.
B24: K2.4 | C24: Understand how to identify good practice in safeguarding for adults.
B25: K2.5 | C25: Understand the difference between appropriate and inappropriate behaviour with adults.
B26: K2.6 | C26: Know how to appropriately react and respond to an adult should they make a disclosure.
B27: K2.7 | C27: Understand the importance of sharing information appropriately.
B28: K2.8 | C28: Understand the scope of own role and that of others in safeguarding adults.
B29: K2.9 | C29: Understand the correct recruitment procedure for working with adults in sport and when relevant background checks (e.g. DBS/Home country equivalent) are required.
B30: Ref | C30: Skills- those Safeguarding Adults must:
B31: S2.1 | C31: Demonstrate good practice and appropriate behaviour with adults. | J31: {=IF((AND(I31:I35=1)), "Fully Mapped", "Not/ Partially Mapped")} -> Not/ Partially Mapped | K31: =SUM('Workings out'!E5:E9) -> 0
B32: S2.2 | C32: Apply the government legislation in relation to safeguarding adults.
B33: S2.3 | C33: Apply the key principles in practice when supporting adults who are being abused or may be at risk of abuse.
B34: S2.4 | C34: Demonstrate accurate report writing.
B35: S2.5 | C35: Demonstrate how a safer environment could be created for adults.
A36: Category 3: An advanced understanding of safeguarding adults for anyone with a direct role and responsibilities for receiving and managing safeguarding adult concerns | B36: Ref | C36: Knowledge and understanding- those Safeguarding Adults must:
B37: K3.1 | C37: Understand background/context of safeguarding adults including relevant legislation, guidance, and key concepts and how they apply to sport and activity. | J37: {=IF((AND(I37:I47=1)), "Fully Mapped", "Not/ Partially Mapped")} -> Not/ Partially Mapped | K37: =SUM('Workings out'!F5:F15) -> 0
B38: K3.2 | C38: Understand the importance of capacity and consent and defensible decision-making.
B39: K3.3 | C39: Understand importance of information sharing and confidentiality.
B40: K3.4 | C40: Understand the key concepts and principles in safeguarding adults and how they apply in practice.
...

Sheet Mapping results
B1: Mapping Breakdown shows a breakdown of the percentage that your course has mapped to each sections knowledge and skills criteria, and the overall percentage that your course has mapped to the professional standard
D2: Sections | E2: Specifications | F2: %worth of each section | G2: Total % covered of area | H2: Section % of total standard | I2: % covered of entire standard
B3: 1 | C3: Knowledge | D3: 11 | E3: 11 | F3: =100/E3 -> 9.0909091 | G3: =SUM('Mapping Template'!K5:K13) -> 0 | H3: =(E3/E11)*100 -> 14.864865 | I3: =(H3/100)*G3 -> 0
C4: Skills | D4: 3 | E4: 3 | F4: =100/E4 -> 33.333333 | G4: =SUM('Mapping Template'!K17:K19) -> 0 | H4: {=(E4/_xlfn.ANCHORARRAY(E11))*100} -> 4.0540541 | I4: =(H4/100)*G4 -> 0
B5: 2 | C5: Knowledge | D5: 9 | E5: 9 | F5: =100/E5 -> 11.111111 | G5: =SUM('Mapping Template'!K21:K29) -> 0 | H5: =(E5/E11)*100 -> 12.162162 | I5: =(H5/100)*G5 -> 0
C6: Skills | D6: 5 | E6: 5 | F6: =100/E6 -> 20 | G6: =SUM('Mapping Template'!K31:K33) -> 0 | H6: =(E6/E11)*100 -> 6.7567568 | I6: =(H6/100)*G6 -> 0
B7: 3 | C7: Knowledge | D7: 11 | E7: 11 | F7: =100/E7 -> 9.0909091 | G7: =SUM('Mapping Template'!K37:K47) -> 0 | H7: =(E7/E11)*100 -> 14.864865 | I7: =(H7/100)*G7 -> 0
C8: Skills | D8: 11 | E8: 11 | F8: =100/E8 -> 9.0909091 | G8: =SUM('Mapping Template'!K49:K58) -> 0 | H8: =(E8/E11)*100 -> 14.864865 | I8: =(H8/100)*G8 -> 0
B9: 4 | C9: Knowledge | D9: 14 | E9: 14 | F9: =100/E9 -> 7.1428571 | G9: =SUM('Mapping Template'!K61:K74) -> 0 | H9: =(E9/E11)*100 -> 18.918919 | I9: =(H9/100)*G9 -> 0
C10: Skills | D10: 10 | E10: 10 | F10: =100/E10 -> 10 | G10: =SUM('Mapping Template'!K76:K85) -> 0 | H10: =(E10/E11)*100 -> 13.513514 | I10: =(H10/100)*G10 -> 0
B11: Totals | D11: =SUM(D3:D10) -> 74 | E11: =SUM(E3:E10) -> 74 | H11: =SUM(H3:H10) -> 100 | I11: =SUM(I3:I10) -> 0

Sheet Feedback
A1: Standardised feedback comments | B1: Assessment methods
A2: Comprehensive evidence | B2: Multiple
A3: Sufficient evidence | B3: Case study
A4: Further evidence required | B4: Dissertation
B5: Exam
B6: Written test
B7: Listening test
B8: Oral test
B9: Performance/ practical
B10: Portfolio
B11: Professional discussion
B12: Project
B13: Simulation
B14: Online test
B15: Attendence only
B16: Assignment
B17: Other

Sheet Workings out
A1: Calculating the totally percentage of knowledge/ skill covered in each section
B2: K1 | C2: S1 | D2: K2 | E2: S2 | F2: K3 | G2: S3 | H2: K4 | I2: S4
A3: % value | B3: =100/B4 -> 9.0909091 | C3: =100/C4 -> 33.333333 | D3: =100/D4 -> 11.111111 | E3: =100/E4 -> 20 | F3: =100/F4 -> 9.0909091 | G3: =100/G4 -> 9.0909091 | H3: =100/H4 -> 7.1428571 | I3: =100/I4 -> 10
A4: # spec | B4: 11 | C4: 3 | D4: 9 | E4: 5 | F4: 11 | G4: 11 | H4: 14 | I4: 10
A5: Sections | B5: =IF('Mapping Template'!$I5=1,B$3,0) -> 0 | C5: =IF('Mapping Template'!$I17=1,C$3,0) -> 0 | D5: =IF('Mapping Template'!$I21=1,D$3,0) -> 0 | E5: =IF('Mapping Template'!$I31=1,E$3,0) -> 0 | F5: =IF('Mapping Template'!$I37=1,F$3,0) -> 0 | G5: =IF('Mapping Template'!$I49=1,G$3,0) -> 0 | H5: =IF('Mapping Template'!$I61=1,H$3,0) -> 0 | I5: =IF('Mapping Template'!$I76=1,I$3,0) -> 0
B6: =IF('Mapping Template'!$I6=1,B$3,0) -> 0 | C6: =IF('Mapping Template'!$I18=1,C$3,0) -> 0 | D6: =IF('Mapping Template'!$I22=1,D$3,0) -> 0 | E6: =IF('Mapping Template'!$I32=1,E$3,0) -> 0 | F6: =IF('Mapping Template'!$I38=1,F$3,0) -> 0 | G6: =IF('Mapping Template'!$I50=1,G$3,0) -> 0 | H6: =IF('Mapping Template'!$I62=1,H$3,0) -> 0 | I6: =IF('Mapping Template'!$I77=1,I$3,0) -> 0
B7: =IF('Mapping Template'!$I7=1,B$3,0) -> 0 | C7: =IF('Mapping Template'!$I19=1,C$3,0) -> 0 | D7: =IF('Mapping Template'!$I23=1,D$3,0) -> 0 | E7: =IF('Mapping Template'!$I33=1,E$3,0) -> 0 | F7: =IF('Mapping Template'!$I39=1,F$3,0) -> 0 | G7: =IF('Mapping Template'!$I51=1,G$3,0) -> 0 | H7: =IF('Mapping Template'!$I63=1,H$3,0) -> 0 | I7: =IF('Mapping Template'!$I78=1,I$3,0) -> 0
B8: =IF('Mapping Template'!$I8=1,B$3,0) -> 0 | D8: =IF('Mapping Template'!$I24=1,D$3,0) -> 0 | E8: =IF('Mapping Template'!$I34=1,E$3,0) -> 0 | F8: =IF('Mapping Template'!$I40=1,F$3,0) -> 0 | G8: =IF('Mapping Template'!$I52=1,G$3,0) -> 0 | H8: =IF('Mapping Template'!$I64=1,H$3,0) -> 0 | I8: =IF('Mapping Template'!$I79=1,I$3,0) -> 0
B9: =IF('Mapping Template'!$I9=1,B$3,0) -> 0 | D9: =IF('Mapping Template'!$I25=1,D$3,0) -> 0 | E9: =IF('Mapping Template'!$I35=1,E$3,0) -> 0 | F9: =IF('Mapping Template'!$I41=1,F$3,0) -> 0 | G9: =IF('Mapping Template'!$I53=1,G$3,0) -> 0 | H9: =IF('Mapping Template'!$I65=1,H$3,0) -> 0 | I9: =IF('Mapping Template'!$I80=1,I$3,0) -> 0
B10: =IF('Mapping Template'!$I10=1,B$3,0) -> 0 | D10: =IF('Mapping Template'!$I26=1,D$3,0) -> 0 | F10: =IF('Mapping Template'!$I42=1,F$3,0) -> 0 | G10: =IF('Mapping Template'!$I54=1,G$3,0) -> 0 | H10: =IF('Mapping Template'!$I66=1,H$3,0) -> 0 | I10: =IF('Mapping Template'!$I81=1,I$3,0) -> 0
B11: =IF('Mapping Template'!$I11=1,B$3,0) -> 0 | D11: =IF('Mapping Template'!$I27=1,D$3,0) -> 0 | F11: =IF('Mapping Template'!$I43=1,F$3,0) -> 0 | G11: =IF('Mapping Template'!$I55=1,G$3,0) -> 0 | H11: =IF('Mapping Template'!$I67=1,H$3,0) -> 0 | I11: =IF('Mapping Template'!$I82=1,I$3,0) -> 0
B12: =IF('Mapping Template'!$I12=1,B$3,0) -> 0 | D12: =IF('Mapping Template'!$I28=1,D$3,0) -> 0 | F12: =IF('Mapping Template'!$I44=1,F$3,0) -> 0 | G12: =IF('Mapping Template'!$I56=1,G$3,0) -> 0 | H12: =IF('Mapping Template'!$I68=1,H$3,0) -> 0 | I12: =IF('Mapping Template'!$I83=1,I$3,0) -> 0
B13: =IF('Mapping Template'!$I13=1,B$3,0) -> 0 | D13: =IF('Mapping Template'!$I29=1,D$3,0) -> 0 | F13: =IF('Mapping Template'!$I45=1,F$3,0) -> 0 | G13: =IF('Mapping Template'!$I57=1,G$3,0) -> 0 | H13: =IF('Mapping Template'!$I69=1,H$3,0) -> 0 | I13: =IF('Mapping Template'!$I84=1,I$3,0) -> 0
B14: =IF('Mapping Template'!$I14=1,B$3,0) -> 0 | F14: =IF('Mapping Template'!$I46=1,F$3,0) -> 0 | G14: =IF('Mapping Template'!$I58=1,G$3,0) -> 0 | H14: =IF('Mapping Template'!$I70=1,H$3,0) -> 0 | I14: =IF('Mapping Template'!$I85=1,I$3,0) -> 0
B15: =IF('Mapping Template'!$I15=1,B$3,0) -> 0 | F15: =IF('Mapping Template'!$I47=1,F$3,0) -> 0 | G15: =IF('Mapping Template'!$I59=1,G$3,0) -> 0 | H15: =IF('Mapping Template'!$I71=1,H$3,0) -> 0
H16: =IF('Mapping Template'!$I72=1,H$3,0) -> 0
H17: =IF('Mapping Template'!$I73=1,H$3,0) -> 0
H18: =IF('Mapping Template'!$I74=1,H$3,0) -> 0
