Workbook

Sheet Guidance
B1: #VALUE!
B2: Working with Women & Girls Mapping Template
B3: Edition: V1.2
B4: Publication date: 5th November 2024
B6: Mapping Guidance - you are here!
B7: Mapping template to reference and evidence where the professional standard is being met by the course/ participant/ qualification
B8: N.B. Examples (e.g.) are given within the LDRs to provide an overview of the knowledge and skills most relevant to the role. It is not mandatory to assess learners against 100% of the examples provided, however, sufficient coverage to ensure occupational competence on achievement must be ensured. This will be reviewed as part of the CIMSPA endorsement process.
B9: For non-regulated qualifications (CPD), where an Education Partner does not meet the full CIMSPA professional standard, it is important to note, that the Education Partner must meet a full Knowledge or Skill LDR. For example, all three sections within K1.1 would need to evidenced for that LDR to partially map to the professional standard.
B10: For further information around product development guidance, please refer to the professional standard within the professional standard library; https://www.cimspa.co.uk/education-training/professional-standards/professional-standards-library/
B11: Alternatively, please view our CIMPSA Partner Endorsement Guide;https://cimspa.co.uk/education-training/endorsement/
B13: Revision History
B14: Version | C14: Name & Role | D14: Signature & Date | E14: Reason for Change
B15: V1.2 | C15: Aidan Riley Education Officer | D15: AR 05/11/24 | E15: Update to general formatting & implementation of conditional formating to streamline moderator feedback.
B19: E endorsements@cimspa.co.uk T 03438 360200 W www.cimspa.co.uk
B20: Chartered Institute for the Management of Sport and Physical Activity,
B21: SportPark Loughborough University, 3 Oakwood Drive, Loughborough, Leicestershire LE11 3QF
B22: Incorporated by Royal Charter Charity Registration No. 1144545

Sheet Mapping Template
E1: Education Product Title: INSERT HERE
A2: Professional Standard: Working with Women & Girls | E2: Partner Mapping Section | J2: Moderator Feedback Section | Q2: IV Feedback Section
A3: Topic | B3: Competency | D3: Learning Outcome(s) | E3: Evidence (sign post to SOW / course specification / supporting documents) | F3: Assessment Method | G3: Further Comments (expand on evidence within column E) | H3: Response to Moderator Feedback Section (second review evidence - if applicable) | J3: Score | K3: Mapping to Point | L3: % Mapped to Section | M3: Moderator comments | N3: General Feedback (first review) | O3: General Feedback (second review - if applicable) | Q3: IV Comments
A4: 1. The rights of women and girls and their access to sport and physical activity | B4: Ref | C4: Knowledge and Understanding (K&U): | D4: Those working with women and girls must:
B5: K1.1 | C5: UN women’s strategic plan (UNWSP) and UN guidelines on access to sport and physical activity. | D5: Identify the components of the UNWSP, including the right to: - Good health and wellbeing - Quality Education - Gender equality - Reduced inequalities. | K5: {=IF((AND(J5:J8=1)), "Fully Mapped", "Not/ Partially Mapped")} -> Not/ Partially Mapped | L5: =SUM('Workings out'!B4:B8) -> 0
D6: Describe the application of the UNWSP in sport and physical activity.
D7: Describe the importance of providing inclusive practice.
D8: Identify the elements of an inclusive environment.
B9: K1.2 | C9: Transgender Policies in Sport and Physical Activity | D9: Describe the application of transgender policies in sport and physical activity. | K9: {=IF((AND(J9:J9=1)), "Fully Mapped", "Not/ Partially Mapped")} -> Not/ Partially Mapped
B10: Ref | C10: Skills: | D10: Those working with women and girls must be able to:
B11: S1.1 | C11: Act on UN Guidelines | D11: Act in accordance with the relevant UN guidelines when delivering sport and or physical activity activities with women and girls. | K11: {=IF((AND(J11:J11=1)), "Fully Mapped", "Not/ Partially Mapped")} -> Not/ Partially Mapped | L11: =SUM('Workings out'!C4) -> 0
A12: 2. Safe and inclusive practice when working with women and girls | B12: Ref | C12: K&U | D12: Those working with women and girls must:
B13: K2.1 | C13: Recognise inequalities in the provision of sport and physical activity | D13: Identify ways in which to address inequalities in sport and physical activity provision e.g., ensuring female, not unisex kit; female changing facilities; provision of equal quality facilities or coaching. | K13: {=IF((AND(J13:J15=1)), "Fully Mapped", "Not/ Partially Mapped")} -> Not/ Partially Mapped | L13: =SUM('Workings out'!D4:D13) -> 0
D14: Identify ways in which to achieve gender equity within your sport and physical activity setting.
D15: Identify any cultural, epidemiological and / or socioeconomic factors related to women and girls, e.g., religious, or cultural taboo’s, intersectionality, the roles and responsibilities of women, working patterns.
B16: K2.2 | C16: Professional boundaries when working with women and girls | D16: Describe how coaching behaviours, language and tone of voice can impact participation, enjoyment and development of women and girls in sport and physical activity. | K16: {=IF((AND(J16:J17=1)), "Fully Mapped", "Not/ Partially Mapped")} -> Not/ Partially Mapped
D17: Identify your scope of practise and what issues would fall outside of that, specifically related to women and girls, e.g., fitting a sports bra, investigating pelvic floor dysfunction, exercise programming and/or delivery for pregnant or postnatal women; rehabilitation of injuries; or dealing with an eating disorder, may extend beyond your scope of practise.
B18: K2.3 | C18: The components which comprise a safe environment for women and girls | D18: Identify what is a safe environment for women and girls. | K18: {=IF((AND(J18:J19=1)), "Fully Mapped", "Not/ Partially Mapped")} -> Not/ Partially Mapped
D19: Detail the process for challenging when environments are deemed unsafe.
B20: K2.4 | C20: The components which comprise an inclusive environment for women and girls | D20: Describe the importance of providing inclusive practise. | K20: {=IF((AND(J20:J21=1)), "Fully Mapped", "Not/ Partially Mapped")} -> Not/ Partially Mapped
D21: Identify the elements of an inclusive environment.
B22: K2.5 | C22: Know how to challenge poor practise or behaviour | D22: Detail the process for challenging when practice and / or activities are deemed inappropriate or unsafe for women and girls. | K22: {=IF((AND(J22:J22=1)), "Fully Mapped", "Not/ Partially Mapped")} -> Not/ Partially Mapped
B23: Ref | C23: Skills: | D23: Those working with women and girls must be able to:
B24: S2.1 | C24: Safe and inclusive practice | D24: Provide an inclusive and safe sport and physical activity environment for women and girls. | K24: {=IF((AND(J24:J26=1)), "Fully Mapped", "Not/ Partially Mapped")} -> Not/ Partially Mapped | L24: =SUM('Workings out'!E4:E6) -> 0
D25: Deliver inclusive activities for women and girls.
D26: Adhere to appropriate procedures and professional standards.
A27: 3. Female Specific Physiology | B27: Ref | C27: K&U | D27: Those working with women and girls must:
B28: K3.1 | C28: Knowledge and understanding of the physiology and anatomy of women and girls' bodies throughout their lives | D28: Identify the physiological, anatomical, and biomechanical elements that happen exclusively in a female body, or differently in a female body compared to a male body, and why these are important in the context of sport and physical activity. For example: • Understand the impact of the menstrual cycle on how women feel physically and emotionally, and how this can influence participation and performance in sport and exercise. - Describe the challenges of managing periods in sport and how you might best support women and girls within the scope of your role - Understand why knowing if a girl or woman is using hormonal contraceptives is important as a coach, practitioner or trainer - Describe how to identify pelvic floor dysfunction and how to ensure that pelvic floor health is protected and preserved in training regimes and sports performance - Understand the importance of breast support in sport and exercise, and how best to advise women and girls about breast support within the scope of your role in sport and exercise. | K28: {=IF((AND(J28:J28=1)), "Fully Mapped", "Not/ Partially Mapped")} -> Not/ Partially Mapped | L28: =SUM('Workings out'!F4:F6) -> 0
B29: K3.2 | C29: Knowledge and understanding of the psychological and psychosocial factors which negatively influence the experiences of women and girls in sport and physical activity across their lives | D29: Describe how psychological factors such as fear of judgment, body confidence, self-esteem, perfectionism, stress and overwhelm impact women and girls participation in, and experience of sport and physical activity. | K29: {=IF((AND(J29:J30=1)), "Fully Mapped", "Not/ Partially Mapped")} -> Not/ Partially Mapped
D30: Describe how psychosocial factors such as gender stereotyping, misogyny, sexism, media and social media impact the experience of women and girls in sport and physical activity.
B31: Ref | C31: Skills: | D31: Those working with women and girls must be able to:
B32: S3.1 | C32: Female Specific Physiology | D32: Design and deliver activities that honour female physiology | K32: {=IF((AND(J32:J35=1)), "Fully Mapped", "Not/ Partially Mapped")} -> Not/ Partially Mapped | L32: =SUM('Workings out'!G4:G8) -> 0
D33: Design approaches that accommodate sex differences in adaptation responses, where appropriate (e.g. heat or altitude acclimation, strength training programming, fasted training
D34: Promote a psychologically safe environment for women and girls doing sport and physical activity to discuss female specific anatomy and physiology.
D35: Provide and offer sign posting to support women and girls who require additional guidance.
B36: S3.2 | C36: Psychosocial barriers | D36: Demonstrate proactivity to remove the psychosocial barriers that impact the experiences of women and girls in sport and physical activity. | K36: {=IF((AND(J36:J36=1)), "Fully Mapped", "Not/ Partially Mapped")} -> Not/ Partially Mapped
A37: 4. Life stages of Women and Girls | B37: Ref | C37: K&U | D37: Those working with women and girls must:
B38: K4.1 | C38: The life stages (puberty, pre/post natal/perimenopause and post menopause) a girl and woman can go through and their physical, emotional and social impact | D38: Describe the inevitable and potential life stages of a woman through different domains. E.g. physical, social, emotional, and cognitive. | K38: {=IF((AND(J38:J40=1)), "Fully Mapped", "Not/ Partially Mapped")} -> Not/ Partially Mapped | L38: =SUM('Workings out'!H4:H10) -> 0
D39: Identify the relationship between the different domains.
D40: Recognise the need for further specialist knowledge, understanding and skills when working with pregnant and postnatal women, which should be developed through training which is mapped to the ‘Working with Antenatal and Postnatal Clients’ CIMSPA standard
B41: K4.2 | C41: The physiology and anatomy of women and girls' bodies throughout their lives. | D41: Describe sex-specific endocrine (hormonal) changes that occur across life stages and how they influence physiological systems, psychology and mental wellbeing in women and girls. | K41: {=IF((AND(J41:J43=1)), "Fully Mapped", "Not/ Partially Mapped")} -> Not/ Partially Mapped
D42: Describe the intersecting sex- and age- specific factors which influence body composition in women and girls.
D43: Describe how you would translate knowledge of the life stage specific physiology into practise.
B44: K4.3 | C44: The psychosocial experience of women and girls in sport and physical activity across their lives | D44: Describe the life-stage specific psychosocial experiences of women and girls and how they influence motivation and ability in sport and physical activity. | K44: {=IF((AND(J44:J44=1)), "Fully Mapped", "Not/ Partially Mapped")} -> Not/ Partially Mapped
B45: Ref | C45: Skills: | D45: Those working with women and girls must be able to:
B46: S4.1 | C46: Activities | D46: Plan activities that are relevant for the life stage of women and girls, and across all domains (physical, social, emotional, and cognitive) | K46: {=IF((AND(J46:J47=1)), "Fully Mapped", "Not/ Partially Mapped")} -> Not/ Partially Mapped | L46: =SUM('Workings out'!I4:I5) -> 0
D47: Adapt your delivery to support the lived experience of women and girls to allow them to participate or perform
A48: 5. External factors influencing participation in sport and physical activity | B48: Ref | C48: K&U | D48: Those working with women and girls must:
B49: K5.1 | C49: The range of female specific factors that influence participation and performance in sport and physical activity | D49: Describe the range of female specific factors that influence participation and performance in sport and physical activity, and how they might impact participation and performance in sport and physical activity for women and girls. Including: - Childcare - Equipment - Kit and clothing (e.g. teamwear, issued uniforms, apparel design) - Facilities - Finances - Body confidence - Belonging - Societal and Cultural - Accessibility. | K49: =IF((AND(J49=1)), "Fully Mapped", "Not/ Partially Mapped") -> Not/ Partially Mapped | L49: =SUM('Workings out'!J4) -> 0
B50: Ref | C50: Skills: | D50: Those working with women and girls must be able to:
B51: S5.1 | C51: External factors influencing participation | D51: Adapt and deliver sport and physical activity which considers the factors that influence women and girls' motivations and ability to take part in sport and physical activity. | K51: {=IF((AND(J51:J51=1)), "Fully Mapped", "Not/ Partially Mapped")} -> Not/ Partially Mapped | L51: =SUM('Workings out'!K4) -> 0
A52: 6. Creating a positive environment | B52: Ref | C52: K&U | D52: Those working with women and girls must:
B53: K6.1 | C53: Methods to engage women and girls in a group, team or individually which sufficiently challenge and offer opportunities to be successful. | D53: Describe the elements of sessions that will engage and motivate all women and girls, across the life stages, including coaching behaviours, tone, language, imagery, equipment, communication styles and exercise modifications | K53: {=IF((AND(J53:J54=1)), "Fully Mapped", "Not/ Partially Mapped")} -> Not/ Partially Mapped | L53: =SUM('Workings out'!L4:L10) -> 0
D54: Describe how to create an environment that focusses on the physical and emotional health of women and girls.
B55: K6.2 | C55: Reflect and explore your own and others attitudes and beliefs around women and girls. | D55: Define the potential power dynamic between coach and athlete and the potential impact this could have on the physical and emotional health of women and girls. | K55: {=IF((AND(J55:J57=1)), "Fully Mapped", "Not/ Partially Mapped")} -> Not/ Partially Mapped
D56: Give examples of potential sexist behaviour which could create a negative experience for women and girls in sport and physical activity.
D57: Describe how you could respond to sexism within your sport or physical activity environment.
B58: K6.3 | C58: How to create an environment that promotes body literacy and body confidence. | D58: Describe ways of communicating positively about female specific topics, e.g., pelvic health, menstrual cycle, weight management. | K58: {=IF((AND(J58:J59=1)), "Fully Mapped", "Not/ Partially Mapped")} -> Not/ Partially Mapped
D59: Describe what kit and equipment would encourage women and girls to participate and perform in sport and physical activity, e.g., not having white shorts, kit that fits female bodies, caught short period products, sports bra’s, period underwear, swimming costumes.
B60: Ref | C60: Skills: | D60: Those working with women and girls must be able to:
B61: S6.1 | C61: Lead sessions | D61: Lead sessions that engage and motivate all women and girls. | K61: {=IF((AND(J61:J61=1)), "Fully Mapped", "Not/ Partially Mapped")} -> Not/ Partially Mapped | L61: =SUM('Workings out'!M4:M9) -> 0
B62: S6.2 | C62: Safe environment | D62: Demonstrate an ability to create an environment that focusses on the physical and emotional health of women and girls. | K62: {=IF((AND(J62:J64=1)), "Fully Mapped", "Not/ Partially Mapped")} -> Not/ Partially Mapped
D63: Demonstrate reflective practise in relation to the way you work with women and girls.
D64: Demonstrate that you can deal with conflict in a non-sexist, non derogatory way.
B65: S6.3 | C65: Awareness | D65: Communicate positively about female specific topics. | K65: {=IF((AND(J65:J66=1)), "Fully Mapped", "Not/ Partially Mapped")} -> Not/ Partially Mapped
D66: Observe when kit and equipment impacts women and girls' ability to participate and perform in sport and physical activity.
A67: 7. Duty of care to Women and Girls | B67: Ref | C67: K&U | D67: Those working with women and girls must:
B68: K7.1 | C68: The IOC consensus statement on Relative Energy Deficiency in Sport (RED-S). | D68: Define RED-S and explain why it occurs. | K68: {=IF((AND(J68:J73=1)), "Fully Mapped", "Not/ Partially Mapped")} -> Not/ Partially Mapped | L68: =SUM('Workings out'!N4:N17) -> 0
D69: Describe the signs and symptoms of RED-S
D70: Describe how to support and rehabilitate women and girls with RED-S
D71: Identify where to sign post for RED-S support and know what care to expect.
D72: Describe factors which could increase the prevalence of RED-S in your sport and physical activity setting, e.g., weight monitoring practises, high training volumes, poor nutritional knowledge.
D73: Evaluate the potential risks versus value of weight or body composition monitoring practises on the physical and emotional health of women and girls.
B74: K7.2 | C74: Female specific injury risks in women and girls in sport and physical activity | D74: Describe the female specific risk factors for injury. | K74: {=IF((AND(J74:J75=1)), "Fully Mapped", "Not/ Partially Mapped")} -> Not/ Partially Mapped
D75: Describe and deliver an evidence-based approach to injury resilience in women and girls, e.g., Multi component conditioning programs, FIFA 11+.
B76: K7.3 | C76: Concussion in women and girls | D76: Identify sex-specific risk factors for concussion. | K76: {=IF((AND(J76:J78=1)), "Fully Mapped", "Not/ Partially Mapped")} -> Not/ Partially Mapped
D77: Identify how to recognise concussion in women and girls.
D78: Explain a sex-specific approach to rehabilitation and RTP from concussion in women and girls.
B79: K7.4 | C79: Potential risk to health of sport and physical activity at each life stage in women and girls | D79: Describe the elements of an environment which promotes healthy relationships with food, bodies, sport and physical activity across a girls and woman’s life, e.g., practises around body composition monitoring, access to and judgement around nutrition, language around body shapes and size, diet trends and supplementation. | K79: {=IF((AND(J79:J80=1)), "Fully Mapped", "Not/ Partially Mapped")} -> Not/ Partially Mapped
D80: Describe the potential injury risk factors associated with a woman’s life stages.
B81: K7.5 | C81: Reporting and recording safeguarding concerns | D81: Describe the safeguarding procedures appropriate to their job role or where appropriate how to implement sufficient safeguarding procedures that are necessary in order to safeguard and protect women and girls. | K81: =IF((AND(J81=1)), "Fully Mapped", "Not/ Partially Mapped") -> Not/ Partially Mapped
B82: Ref | C82: Skills: | D82: Those working with women and girls must be able to:
B83: S7.1 | C83: Support | D83: Appropriately review menstrual health status in the women and girls in your care. | K83: {=IF((AND(J83:J85=1)), "Fully Mapped", "Not/ Partially Mapped")} -> Not/ Partially Mapped | L83: =SUM('Workings out'!O4:O13) -> 0
D84: Recognise the signs and symptoms of RED-S.
D85: Signpost for support and know what care to expect.
B86: S7.2 | C86: Plan and deliver programmes | D86: Plan and deliver programmes to promote injury resilience in women and girls. | K86: =IF((AND(J86=1)), "Fully Mapped", "Not/ Partially Mapped") -> Not/ Partially Mapped
B87: S7.3 | C87: Awareness of risk and injury | D87: Awareness of the risk of brain trauma in your sport or activity and adapt your practise accordingly. | K87: {=IF((AND(J87:J88=1)), "Fully Mapped", "Not/ Partially Mapped")} -> Not/ Partially Mapped
D88: Recognise concussion in women and girls and adapt care and support appropriately.
B89: S7.4 | C89: Behaviour and language | D89: Reflect on your behaviours and language which could impact healthy relationships with food, diet, eating behaviours and body confidence and sport and physical activity, across a girls and woman’s life. | K89: {=IF((AND(J89:J91=1)), "Fully Mapped", "Not/ Partially Mapped")} -> Not/ Partially Mapped
D90: Recognise potential indicators of abuse and poor practice
D91: Be able to seek advice and support when required
B92: S7.5 | C92: Safeguarding | D92: Apply organisational procedures around safeguarding and the protection of women and girls | K92: =IF((AND(J92=1)), "Fully Mapped", "Not/ Partially Mapped") -> Not/ Partially Mapped
A93: 8. Working with a team of Women and Girls specialists | B93: Ref | C93: K&U | D93: Those working with women and girls must:
B94: K8.1 | C94: The roles of women and girls' specialists specific to the needs of women and girls across their lives. E.g., GP’s, women’s health physios, dieticians | D94: Identify appropriate practitioners and/or resources which support women and girls in sport and physical activity. | K94: {=IF((AND(J94:J95=1)), "Fully Mapped", "Not/ Partially Mapped")} -> Not/ Partially Mapped | L94: =SUM('Workings out'!P4:P6) -> 0
D95: Describe how to identify credible and accurate sources of information regarding women and girls' health, wellbeing and performance in physical activity and sport.
B96: K8.2 | C96: The skills required and parameters of each role and how to access them in line with professional responsibility | D96: Explain how you would develop reliable referral pathways through to these roles. | K96: =IF((AND(J96=1)), "Fully Mapped", "Not/ Partially Mapped") -> Not/ Partially Mapped
B97: Ref | C97: Skills: | D97: Those working with women and girls must be able to:
B98: S8.1 | C98: Working with others | D98: Use a team appropriately to provide support to women and girls in sport and physical activity. | K98: =IF((AND(J98=1)), "Fully Mapped", "Not/ Partially Mapped") -> Not/ Partially Mapped | L98: =SUM('Workings out'!Q4:Q5) -> 0
B99: S8.2 | C99: Referrals to other sources | D99: Create reliable referral pathways through to these roles. | K99: {=IF((AND(J99:J99=1)), "Fully Mapped", "Not/ Partially Mapped")} -> Not/ Partially Mapped
A100: 9. Professional practice when working with Women and Girls | B100: Ref | C100: K&U | D100: Those working with women and girls must:
...

Sheet Mapping results
B1: Mapping Breakdown shows a breakdown of the percentage that your course has mapped to each sections knowledge and skills criteria, and the overall percentage that your course has mapped to the professional standard
D2: Sections | E2: Specifications | F2: %worth of each section | G2: Total % covered of area | H2: Section % of total standard | I2: % covered of entire standard
B3: 1. The rights of women and girls and their access to sport and physical activity | C3: Knowledge | D3: 2 | E3: 5 | F3: =100/E3 -> 20 | G3: =SUM('Mapping Template'!L5:L9) -> 0 | H3: =(E3/E21)*100 -> 5.8139535 | I3: =(H3/100)*G3 -> 0
C4: Skills | D4: 1 | E4: 1 | F4: =100/E4 -> 100 | G4: =SUM('Mapping Template'!L11:L11) -> 0 | H4: =(E4/E21)*100 -> 1.1627907 | I4: =(H4/100)*G4 -> 0
B5: 2. Safe and inclusive practice when working with women and girls | C5: Knowledge | D5: 5 | E5: 10 | F5: =100/E5 -> 10 | G5: =SUM('Mapping Template'!L13:L22) -> 0 | H5: =(E5/E21)*100 -> 11.627907 | I5: =(H5/100)*G5 -> 0
C6: Skills | D6: 1 | E6: 3 | F6: =100/E6 -> 33.333333 | G6: =SUM('Mapping Template'!L24:L26) -> 0 | H6: =(E6/E21)*100 -> 3.4883721 | I6: =(H6/100)*G6 -> 0
B7: 3. Female Specific Physiology | C7: Knowledge | D7: 2 | E7: 3 | F7: =100/E7 -> 33.333333 | G7: =SUM('Mapping Template'!L28:L30) -> 0 | H7: =(E7/E21)*100 -> 3.4883721 | I7: =(H7/100)*G7 -> 0
C8: Skills | D8: 2 | E8: 5 | F8: =100/E8 -> 20 | G8: =SUM('Mapping Template'!L32:L36) -> 0 | H8: =(E8/E21)*100 -> 5.8139535 | I8: =(H8/100)*G8 -> 0
B9: 4. Life stages of Women and Girls | C9: Knowledge | D9: 3 | E9: 7 | F9: =100/E9 -> 14.285714 | G9: =SUM('Mapping Template'!L38:L44) -> 0 | H9: =(E9/E21)*100 -> 8.1395349 | I9: =(H9/100)*G9 -> 0
C10: Skills | D10: 1 | E10: 2 | F10: =100/E10 -> 50 | G10: =SUM('Mapping Template'!L46:L47) -> 0 | H10: =(E10/E21)*100 -> 2.3255814 | I10: =(H10/100)*G10 -> 0
B11: 5. External factors influencing participation in sport and physical activity | C11: Knowledge | D11: 1 | E11: 1 | F11: =100/E11 -> 100 | G11: =SUM('Mapping Template'!L49:L49) -> 0 | H11: =(E11/E21)*100 -> 1.1627907 | I11: =(H11/100)*G11 -> 0
C12: Skills | D12: 1 | E12: 1 | F12: =100/E12 -> 100 | G12: =SUM('Mapping Template'!L51:L51) -> 0 | H12: =(E12/E21)*100 -> 1.1627907 | I12: =(H12/100)*G12 -> 0
B13: 6. Creating a positive environment | C13: Knowledge | D13: 3 | E13: 7 | F13: =100/E13 -> 14.285714 | G13: =SUM('Mapping Template'!L53:L59) -> 0 | H13: =(E13/E21)*100 -> 8.1395349 | I13: =(H13/100)*G13 -> 0
C14: Skills | D14: 3 | E14: 6 | F14: =100/E14 -> 16.666667 | G14: =SUM('Mapping Template'!L61:L66) -> 0 | H14: =(E14/E21)*100 -> 6.9767442 | I14: =(H14/100)*G14 -> 0
B15: 7. Duty of care to Women and Girls | C15: Knowledge | D15: 5 | E15: 14 | F15: =100/E15 -> 7.1428571 | G15: =SUM('Mapping Template'!L68:L81) -> 0 | H15: =(E15/E21)*100 -> 16.27907 | I15: =(H15/100)*G15 -> 0
C16: Skills | D16: 5 | E16: 10 | F16: =100/E16 -> 10 | G16: =SUM('Mapping Template'!L83:L92) -> 0 | H16: =(E16/E21)*100 -> 11.627907 | I16: =(H16/100)*G16 -> 0
B17: 8. Working with a team of Women and Girls specialists | C17: Knowledge | D17: 2 | E17: 3 | F17: =100/E17 -> 33.333333 | G17: =SUM('Mapping Template'!L94:L96) -> 0 | H17: =(E17/E21)*100 -> 3.4883721 | I17: =(H17/100)*G17 -> 0
C18: Skills | D18: 2 | E18: 2 | F18: =100/E18 -> 50 | G18: =SUM('Mapping Template'!L98:L99) -> 0 | H18: =(E18/E21)*100 -> 2.3255814 | I18: =(H18/100)*G18 -> 0
B19: 9. Professional practice when working with Women and Girls | C19: Knowledge | D19: 3 | E19: 3 | F19: =100/E19 -> 33.333333 | G19: =SUM('Mapping Template'!L101:L103) -> 0 | H19: =(E19/E21)*100 -> 3.4883721 | I19: =(H19/100)*G19 -> 0
C20: Skills | D20: 3 | E20: 3 | F20: =100/E20 -> 33.333333 | G20: =SUM('Mapping Template'!L105:L107) -> 0 | H20: =(E20/E21)*100 -> 3.4883721 | I20: =(H20/100)*G20 -> 0
B21: Totals | D21: =SUM(D3:D20) -> 45 | E21: =SUM(E3:E20) -> 86 | H21: =SUM(H3:H20) -> 100 | I21: =SUM(I3:I20) -> 0

Sheet Feedback
A1: Standardised feedback comments | B1: Assessment methods
A2: Comprehensive evidence | B2: Assignment
A3: Sufficient evidence | B3: Case study
A4: Further evidence required | B4: Dissertation
B5: Exam
B6: Written test
B7: Listening test
B8: Oral test
B9: Performance/ practical
B10: Portfolio
B11: Professional discussion
B12: Project
B13: Simulation
B14: Online test
B15: Attendence only
B16: Multiple
B17: Other

Sheet Workings out
A1: Calculating the total percentage of knowledge/ skill covered in each section
B2: 20 | C2: 100 | D2: 10 | E2: 33.3 | F2: 33.3 | G2: 20 | H2: 14.3 | I2: 50 | J2: 100 | K2: 100 | L2: 14.3 | M2: 16.7 | N2: 7.1 | O2: 10 | P2: 33.3 | Q2: 50 | R2: 33.3 | S2: 33.3
B3: K1 | C3: S1 | D3: K2 | E3: S2 | F3: K3 | G3: S3 | H3: K4 | I3: S4 | J3: K5 | K3: S5 | L3: K6 | M3: S6 | N3: K7 | O3: S7 | P3: K8 | Q3: S8 | R3: K9 | S3: S9
A4: Sections | B4: =IF('Mapping Template'!J5=1,B$2,0) -> 0 | C4: =IF('Mapping Template'!J11=1,C$2,0) -> 0 | D4: =IF('Mapping Template'!J13=1,D$2,0) -> 0 | E4: =IF('Mapping Template'!J24=1,E$2,0) -> 0 | F4: =IF('Mapping Template'!J28=1,F$2,0) -> 0 | G4: =IF('Mapping Template'!J32=1,G$2,0) -> 0 | H4: =IF('Mapping Template'!J38=1,H$2,0) -> 0 | I4: =IF('Mapping Template'!J46=1,I$2,0) -> 0 | J4: =IF('Mapping Template'!J49=1,J$2,0) -> 0 | K4: =IF('Mapping Template'!J51=1,K$2,0) -> 0 | L4: =IF('Mapping Template'!J53=1,L$2,0) -> 0 | M4: =IF('Mapping Template'!J61=1,M$2,0) -> 0 | N4: =IF('Mapping Template'!J68=1,N$2,0) -> 0 | O4: =IF('Mapping Template'!$J83=1,O$2,0) -> 0 | P4: =IF('Mapping Template'!$J94=1,P$2,0) -> 0 | Q4: =IF('Mapping Template'!$J98=1,Q$2,0) -> 0 | R4: =IF('Mapping Template'!$J101=1,R$2,0) -> 0 | S4: =IF('Mapping Template'!$J105=1,S$2,0) -> 0
B5: =IF('Mapping Template'!J6=1,B$2,0) -> 0 | D5: =IF('Mapping Template'!J14=1,D$2,0) -> 0 | E5: =IF('Mapping Template'!J25=1,E$2,0) -> 0 | F5: =IF('Mapping Template'!J29=1,F$2,0) -> 0 | G5: =IF('Mapping Template'!J33=1,G$2,0) -> 0 | H5: =IF('Mapping Template'!J39=1,H$2,0) -> 0 | I5: =IF('Mapping Template'!J47=1,I$2,0) -> 0 | L5: =IF('Mapping Template'!J54=1,L$2,0) -> 0 | M5: =IF('Mapping Template'!J62=1,M$2,0) -> 0 | N5: =IF('Mapping Template'!J69=1,N$2,0) -> 0 | O5: =IF('Mapping Template'!$J84=1,O$2,0) -> 0 | P5: =IF('Mapping Template'!$J95=1,P$2,0) -> 0 | Q5: =IF('Mapping Template'!$J99=1,Q$2,0) -> 0 | R5: =IF('Mapping Template'!$J102=1,R$2,0) -> 0 | S5: =IF('Mapping Template'!$J106=1,S$2,0) -> 0
B6: =IF('Mapping Template'!J7=1,B$2,0) -> 0 | D6: =IF('Mapping Template'!J15=1,D$2,0) -> 0 | E6: =IF('Mapping Template'!J26=1,E$2,0) -> 0 | F6: =IF('Mapping Template'!J30=1,F$2,0) -> 0 | G6: =IF('Mapping Template'!J34=1,G$2,0) -> 0 | H6: =IF('Mapping Template'!J40=1,H$2,0) -> 0 | L6: =IF('Mapping Template'!J55=1,L$2,0) -> 0 | M6: =IF('Mapping Template'!J63=1,M$2,0) -> 0 | N6: =IF('Mapping Template'!J70=1,N$2,0) -> 0 | O6: =IF('Mapping Template'!$J85=1,O$2,0) -> 0 | P6: =IF('Mapping Template'!$J96=1,P$2,0) -> 0 | R6: =IF('Mapping Template'!$J103=1,R$2,0) -> 0 | S6: =IF('Mapping Template'!$J107=1,S$2,0) -> 0
B7: =IF('Mapping Template'!J8=1,B$2,0) -> 0 | D7: =IF('Mapping Template'!J16=1,D$2,0) -> 0 | G7: =IF('Mapping Template'!J35=1,G$2,0) -> 0 | H7: =IF('Mapping Template'!J41=1,H$2,0) -> 0 | L7: =IF('Mapping Template'!J56=1,L$2,0) -> 0 | M7: =IF('Mapping Template'!J64=1,M$2,0) -> 0 | N7: =IF('Mapping Template'!J71=1,N$2,0) -> 0 | O7: =IF('Mapping Template'!$J86=1,O$2,0) -> 0
B8: =IF('Mapping Template'!J9=1,B$2,0) -> 0 | D8: =IF('Mapping Template'!J17=1,D$2,0) -> 0 | G8: =IF('Mapping Template'!J36=1,G$2,0) -> 0 | H8: =IF('Mapping Template'!J42=1,H$2,0) -> 0 | L8: =IF('Mapping Template'!J57=1,L$2,0) -> 0 | M8: =IF('Mapping Template'!J65=1,M$2,0) -> 0 | N8: =IF('Mapping Template'!J72=1,N$2,0) -> 0 | O8: =IF('Mapping Template'!$J87=1,O$2,0) -> 0
D9: =IF('Mapping Template'!J18=1,D$2,0) -> 0 | H9: =IF('Mapping Template'!J43=1,H$2,0) -> 0 | L9: =IF('Mapping Template'!J58=1,L$2,0) -> 0 | M9: =IF('Mapping Template'!J66=1,M$2,0) -> 0 | N9: =IF('Mapping Template'!J73=1,N$2,0) -> 0 | O9: =IF('Mapping Template'!$J88=1,O$2,0) -> 0
D10: =IF('Mapping Template'!J19=1,D$2,0) -> 0 | H10: =IF('Mapping Template'!J44=1,H$2,0) -> 0 | L10: =IF('Mapping Template'!J59=1,L$2,0) -> 0 | N10: =IF('Mapping Template'!J74=1,N$2,0) -> 0 | O10: =IF('Mapping Template'!$J89=1,O$2,0) -> 0
D11: =IF('Mapping Template'!J20=1,D$2,0) -> 0 | N11: =IF('Mapping Template'!J75=1,N$2,0) -> 0 | O11: =IF('Mapping Template'!$J90=1,O$2,0) -> 0
D12: =IF('Mapping Template'!J21=1,D$2,0) -> 0 | N12: =IF('Mapping Template'!J76=1,N$2,0) -> 0 | O12: =IF('Mapping Template'!$J91=1,O$2,0) -> 0
D13: =IF('Mapping Template'!J22=1,D$2,0) -> 0 | N13: =IF('Mapping Template'!J77=1,N$2,0) -> 0 | O13: =IF('Mapping Template'!$J92=1,O$2,0) -> 0
N14: =IF('Mapping Template'!J78=1,N$2,0) -> 0
N15: =IF('Mapping Template'!J79=1,N$2,0) -> 0
N16: =IF('Mapping Template'!J80=1,N$2,0) -> 0
N17: =IF('Mapping Template'!J81=1,N$2,0) -> 0
