Workbook

Sheet Guidance
B1: #VALUE!
B2: Tutor Mapping Template
B3: Edition: V2.1
B4: Publication date: 6th January 2025
B6: Mapping Guidance - you are here!
B7: Mapping template to reference and evidence where the professional standard is being met by the course/ participant/ qualification
B8: N.B. Examples (e.g.) are given within the LDRs to provide an overview of the knowledge and skills most relevant to the role. It is not mandatory to assess learners against 100% of the examples provided, however, sufficient coverage to ensure occupational competence on achievement must be ensured. This will be reviewed as part of the CIMSPA endorsement process.
B9: For non-regulated qualifications (CPD), where an Education Partner does not meet the full CIMSPA professional standard, it is important to note, that the Education Partner must meet a full Knowledge or Skill LDR. For example, all three sections within K1.1 would need to evidenced for that LDR to partially map to the professional standard.
B10: For further information around product development guidance, please refer to the professional standard within the professional standard library; https://www.cimspa.co.uk/education-training/professional-standards/professional-standards-library/
B11: Alternatively, please view our CIMPSA Partner Endorsement Guide;https://cimspa.co.uk/education-training/endorsement/
B13: Revision History
B14: Version | C14: Name & Role | D14: Signature & Date | E14: Reason for Change
A15: c | B15: V2.1 | C15: Aidan Riley Education Officer | D15: AR 02/01/25 | E15: Update to general formatting & implementation of conditional formating to streamline moderator feedback.
B19: E endorsements@cimspa.co.uk T 03438 360200 W www.cimspa.co.uk
B20: Chartered Institute for the Management of Sport and Physical Activity,
B21: SportPark Loughborough University, 3 Oakwood Drive, Loughborough, Leicestershire LE11 3QF
B22: Incorporated by Royal Charter Charity Registration No. 1144545

Sheet Mapping Template
E1: Education Product Title: INSERT HERE
A2: Professional Standard: Tutor | E2: Partner Mapping Section | J2: Moderator Feedback Section | Q2: IV Feedback Section
A3: Topic | B3: Competency | D3: Learning Outcome(s) | E3: Evidence (sign post to SOW / course specification / supporting documents) | F3: Assessment Method | G3: Further Comments (expand on evidence within column E) | H3: Response to Moderator Feedback Section (second review evidence - if applicable) | J3: Score | K3: Mapping to point | L3: % mapped to section | M3: Moderator comments | N3: General Feedback (first review) | O3: General Feedback (second review - if applicable) | Q3: IV Comments
A4: 1. Maximising the learner experience | B4: Ref | C4: Knowledge and understanding (K&U): | D4: A Tutor must:
B5: K1.1 | C5: Learner needs | D5: · Know the local demographics of their organisation’s learners to support the understanding of the learner’s needs. | K5: {=IF((AND(J5:J9=1)), "Fully Mapped", "Not/ Partially Mapped")} -> Not/ Partially Mapped | L5: =SUM('Workings out'!B5:B25) -> 0
D6: · Know the context of the organisation that the learner is working in/for.
D7: · Know the learner expectations and aspirations within the teaching and learning environment.
D8: · Know how to build social support and inclusion within the teaching and learning environment.
D9: · Know how to obtain feedback to support learner retention.
B10: K1.2 | C10: Learner engagement | D10: · Know the different methods to engage with the learner. | K10: {=IF((AND(J10:J19=1)), "Fully Mapped", "Not/ Partially Mapped")} -> Not/ Partially Mapped
D11: · Know the different behaviour management strategies to support ongoing learner engagement.
D12: · Know the learning and teaching, learning and development theories to support personalised learning.
D13: · Know the different types of conflict and how to manage them.
D14: · Know the different methods to build rapport in order to maximise the learner experience.
D15: · Know how to promote the safe and enjoyable use of the teaching and learning environment.
D16: · Know the importance of being accessible and approachable to learners.
D17: · Know the typical learner journey in the teaching and learning environment.
D18: · Know how to present themselves in a professional and approachable manner in line with organisational standards.
D19: · Know the importance of learner retention and how to influence this.
B20: K1.3 | C20: Communication | D20: · Know different communication techniques and how to use, select and adapt the appropriate one: observation/ non-verbal techniques/ body language, open/ closed questioning, active listening | K20: {=IF((AND(J20:J22=1)), "Fully Mapped", "Not/ Partially Mapped")} -> Not/ Partially Mapped
D21: · Know how to adapt communication methods to meet the needs of the learner from differing backgrounds, cultures, sport/activity experience.
D22: · Know how to adapt communication methods and language to ensure it is inclusive.
B23: K1.4 | C23: Participant feedback | D23: · Know the different methods to obtain learner feedback and channels of recording and reporting in line with organisational procedures. | K23: {=IF((AND(J23:J25=1)), "Fully Mapped", "Not/ Partially Mapped")} -> Not/ Partially Mapped
D24: · Know the feedback cycle.
D25: · Know the impact of the tutor’s role on the learners experience.
B26: Ref | C26: Skills: | D26: A Tutor must be able to:
B27: S1.1 | C27: Principles and purpose | D27: · Know the teaching, learning and development principles and strategies used with individuals and groups. | K27: {=IF((AND(J27:J29=1)), "Fully Mapped", "Not/ Partially Mapped")} -> Not/ Partially Mapped | L27: =SUM('Workings out'!C5:C10) -> 0
D28: · Know the objectives and benefits of teaching, learning and development for learners and organisations.
D29: · Know the different environments for teaching, learning and development in relation to different learner and organisational needs.
B30: S1.2 | C30: Develop rapport with learners | D30: · Develop rapport with learners in a friendly and approachable manner; be person centred in an inclusive manner and respectful of the diverse range of people tutors will work with. | K30: {=IF((AND(J30:J30=1)), "Fully Mapped", "Not/ Partially Mapped")} -> Not/ Partially Mapped
B31: S1.3 | C31: Professional demeanour | D31: · Demonstrate a professional demeanour: e.g. personal attributes and positive first impressions. | K31: =IF((AND(J31=1)), "Fully Mapped", "Not/ Partially Mapped") -> Not/ Partially Mapped
B32: S1.4 | C32: Communication | D32: · Demonstrate communication methods appropriate to the learner. | K32: =IF((AND(J32=1)), "Fully Mapped", "Not/ Partially Mapped") -> Not/ Partially Mapped
A33: 2. Principles and practices for learning and development | B33: Ref | C33: K&U | D33: A Tutor must:
B34: K2.1 | C34: Principles and purpose | D34: · Know the teaching, learning and development principles and strategies used with individuals and groups. | K34: {=IF((AND(J34:J36=1)), "Fully Mapped", "Not/ Partially Mapped")} -> Not/ Partially Mapped | L34: =SUM('Workings out'!D5:D25) -> 0
D35: · Know the objectives and benefits of teaching, learning and development for learners and organisations.
D36: · Know the different environments for teaching, learning and development in relation to different learner and organisational needs.
B37: K2.2 | C37: Learning and development cycle | D37: · Know the teaching, learning and development cycle. | K37: {=IF((AND(J37:J38=1)), "Fully Mapped", "Not/ Partially Mapped")} -> Not/ Partially Mapped
D38: · Know the role and importance of each phase of the learning and development cycle and how they are used to enhance the learning experience.
B39: K2.3 | C39: Individuals | D39: · Know how individuals learn. | K39: {=IF((AND(J39:J41=1)), "Fully Mapped", "Not/ Partially Mapped")} -> Not/ Partially Mapped
D40: · Know the different theories of learning in relation to own practice and content.
D41: · Know the importance of encouraging the learners to self-reflect as part of the learning process.
B42: K2.4 | C42: Needs of the learners | D42: · Understand the needs of learners in relation to teaching, learning and development. | K42: {=IF((AND(J42:J46=1)), "Fully Mapped", "Not/ Partially Mapped")} -> Not/ Partially Mapped
D43: · Know how to evaluate the needs of different types of learners.
D44: · Know the advantages and disadvantages of adapting teaching, learning and development activities to meet needs and preferences of learners.
D45: · Know the importance of engaging learners in planning, managing and reviewing own learning.
D46: · Know how to manage behaviour and challenging situations.
B47: K2.5 | C47: Roles and responsibilities | D47: · Know the roles and responsibilities of the teaching, learning and development tutors. | K47: {=IF((AND(J47:J50=1)), "Fully Mapped", "Not/ Partially Mapped")} -> Not/ Partially Mapped
D48: · Know own roles and responsibilities in relation to teaching, learning and development.
D49: · Know the points of referral to meet the potential needs of learners.
D50: · Know the tutor’s role in quality improvement of teaching, learning and development.
B51: K2.6 | C51: Legislation | D51: · Know the legislative and organisational requirements in relation to teaching, learning and development. | K51: {=IF((AND(J51:J54=1)), "Fully Mapped", "Not/ Partially Mapped")} -> Not/ Partially Mapped
D52: · Know the learner rights in relation to equality, diversity and inclusion.
D53: · Know what the tutor’s responsibility is for the safety and security of learners from an organisational perspective.
D54: · Know the purpose and limits of confidentiality in relation to learners and the organisation.
B55: Ref | C55: Skills: | D55: A Tutor must be able to:
B56: S2.1 | C56: Strategies | D56: · Evaluate teaching, learning and development principles and strategies used with individual learners and learners in groups. | K56: {=IF((AND(J56:J59=1)), "Fully Mapped", "Not/ Partially Mapped")} -> Not/ Partially Mapped | L56: =SUM('Workings out'!E5:E14) -> 0
D57: · Evaluate the objectives and benefits of teaching, learning and development for learners and organisations.
D58: · Critically evaluate different environments for teaching, learning and development in relation to different learner and organisational needs.
D59: · Evaluate why teaching, learning and development programmes and activities must be managed to meet learner needs.
B60: S2.1 | C60: Development cycle | D60: · Evaluate the role and importance of each phase of the teaching, learning and development cycle. | K60: {=IF((AND(J60:J61=1)), "Fully Mapped", "Not/ Partially Mapped")} -> Not/ Partially Mapped
D61: · Analyse how different phases of the teaching, learning and development cycle are used to enhance the learning experience.
B62: S2.2 | C62: Theories | D62: · Evaluate different theories of learning in relation to own practice and context. | K62: =IF((AND(J62=1)), "Fully Mapped", "Not/ Partially Mapped") -> Not/ Partially Mapped
B63: S2.1 | C63: Learners | D63: · Evaluate the needs of different types of learners. | K63: {=IF((AND(J63:J65=1)), "Fully Mapped", "Not/ Partially Mapped")} -> Not/ Partially Mapped
D64: · Evaluate the advantages and disadvantages of adapting learning and development activities to meet the needs and preferences of learners.
D65: · Explain the importance of engaging learners in planning, managing and reviewing their own learning.
A66: 3. Teaching, learning and development methods | B66: Ref | C66: K&U | D66: A Tutor must:
B67: K3.1 | C67: Different types of teaching, learning and development methods | D67: · Know the advantages and disadvantages of a range of teaching, learning and development methods. | K67: {=IF((AND(J67:J71=1)), "Fully Mapped", "Not/ Partially Mapped")} -> Not/ Partially Mapped | L67: =SUM('Workings out'!F5:F11) -> 0
D68: · Know the individual learner needs and the teaching, learning and development methods that can be used to support them.
D69: · Know the importance of a person centre approach and ensuring inclusivity and adapting delivery.
D70: · Know the importance of effective questioning.
D71: · Know the benefits of encouraging social learning amongst other tutors.
B72: K3.6 | C72: Facilitate | D72: · Know how to facilitate effectively in the learning environment. | K72: {=IF((AND(J72:J73=1)), "Fully Mapped", "Not/ Partially Mapped")} -> Not/ Partially Mapped
D73: · Know the importance of promoting active thinking and reflection.
B74: Ref | C74: Skills: | D74: A Tutor must be able to:
B75: S3.3 | C75: Different types of teaching, learning and development methods | D75: · Use a variety of teaching and learner methods to engage the learner. | K75: {=IF((AND(J75:J76=1)), "Fully Mapped", "Not/ Partially Mapped")} -> Not/ Partially Mapped | L75: =SUM('Workings out'!G5:G6) -> 0
D76: · Create a positive atmosphere to promote productive learning.
A77: 4. Planning, deliver and review teaching, learning and development | B77: Ref | C77: K&U | D77: A Tutor must:
B78: K4.1 | C78: Plan for teaching, learning and development | D78: · Know the key factors to consider when planning teaching, learning and development activities. | K78: {=IF((AND(J78:J81=1)), "Fully Mapped", "Not/ Partially Mapped")} -> Not/ Partially Mapped | L78: =SUM('Workings out'!H5:H28) -> 0
D79: · Know the benefits of using a holistic approach to planning activities.
D80: · Know how to minimise risks to teaching, learning and development through the planning process.
D81: · Know how to build an inclusive teaching, learning and development environment including differentiation.
B82: K4.2 | C82: Involve the learners in the planning process | D82: · Know the importance of involving the learner and others in the planning of the teaching, learning and development process. | K82: {=IF((AND(J82:J87=1)), "Fully Mapped", "Not/ Partially Mapped")} -> Not/ Partially Mapped
D83: · Know the types of information that should be made available to learners and others involved in the teaching, learning and development process.
D84: · Know how peer teaching and self-reflection can be used effectively to promote learner involvement and personal responsibility in the teaching, learning and development environment.
D85: · Know how teaching, learning and development requirements can be adapted to meet the needs of individual learners.
D86: · Know the importance of involving the learner and to understand the learning styles of each learner.
D87: · Know the importance of observing and providing feedback.
B88: K4.3 | C88: Resources | D88: · Know the importance of planning and utilising appropriate resources. | K88: {=IF((AND(J88:J89=1)), "Fully Mapped", "Not/ Partially Mapped")} -> Not/ Partially Mapped
D89: · Know how to prepare resources and conditions for the teaching, learning and development of vocational skills, knowledge and understanding.
B90: K4.4 | C90: Barriers | D90: · Know the types of barriers that learners may face either trying to engage in learning and within the learning environment. | K90: {=IF((AND(J90:J91=1)), "Fully Mapped", "Not/ Partially Mapped")} -> Not/ Partially Mapped
D91: · Know how to address any perceived barriers that a learner may face within the teaching, learning and development environment.
B92: K4.5 | C92: Delivery | D92: · Know how to deliver safe and effective teaching, learning and development activities appropriate to the programme. | K92: {=IF((AND(J92:J93=1)), "Fully Mapped", "Not/ Partially Mapped")} -> Not/ Partially Mapped
D93: · Know the different types of delivery e.g. face to face, blended, eLearning.
B94: K4.6 | C94: Feedback | D94: · Know different ways to give feedback within a teaching, learning and development environment. | K94: {=IF((AND(J94:J96=1)), "Fully Mapped", "Not/ Partially Mapped")} -> Not/ Partially Mapped
D95: · Know how feedback and questioning contribute to the teaching, learning and development process.
D96: · Know the importance of taking account of the learner feedback and contributing to the feedback on the learner performance.
B97: K4.7 | C97: Review | D97: · Know how to appropriately review the teaching, learning and development activities conducted: resources, data collection, information before, during and post teaching, learning and development activities | K97: {=IF((AND(J97:J101=1)), "Fully Mapped", "Not/ Partially Mapped")} -> Not/ Partially Mapped
D98: · Know how to support the learner to develop actions based on the feedback from the teaching, learning and development activities.
D99: · Know the importance of formative assessment to help establish development areas.
D100: · Know how to support the learner to implement any actions from the teaching, learning and development activities.
...

Sheet Mapping results
B1: Mapping Breakdown shows a breakdown of the percentage that your course has mapped to each sections knowledge and skills criteria, and the overall percentage that your course has mapped to the professional standard
D2: Sections | E2: Specifications | F2: %worth of each section | G2: Total % covered of area | H2: Section % of total standard | I2: % covered of entire standard
B3: 1. Maximising the participant experience | C3: Knowledge | D3: 4 | E3: 21 | F3: =100/E3 -> 4.7619048 | G3: =SUM('Mapping Template'!L5:L25) -> 0 | H3: =(E3/E17)*100 -> 14.09396 | I3: =(H3/100)*G3 -> 0
C4: Skills | D4: 4 | E4: 6 | F4: =100/E4 -> 16.666667 | G4: =SUM('Mapping Template'!L27:L32) -> 0 | H4: {=(E4/_xlfn.ANCHORARRAY(E17))*100} -> 4.0268456 | I4: =(H4/100)*G4 -> 0
B5: 2. Welfare of participants and providing a safe and inclusive coaching environment | C5: Knowledge | D5: 6 | E5: 21 | F5: =100/E5 -> 4.7619048 | G5: =SUM('Mapping Template'!L34:L54) -> 0 | H5: =(E5/E17)*100 -> 14.09396 | I5: =(H5/100)*G5 -> 0
C6: Skills | D6: 4 | E6: 10 | F6: =100/E6 -> 10 | G6: =SUM('Mapping Template'!L56:L65) -> 0 | H6: =(E6/E17)*100 -> 6.7114094 | I6: =(H6/100)*G6 -> 0
B7: 3. The Coach and their role within the organisation | C7: Knowledge | D7: 2 | E7: 7 | F7: =100/E7 -> 14.285714 | G7: =SUM('Mapping Template'!L67:L73) -> 0 | H7: =(E7/E17)*100 -> 4.6979866 | I7: =(H7/100)*G7 -> 0
C8: Skills | D8: 1 | E8: 2 | F8: =100/E8 -> 50 | G8: =SUM('Mapping Template'!L75:L76) -> 0 | H8: =(E8/E17)*100 -> 1.3422819 | I8: =(H8/100)*G8 -> 0
B9: 4. Professional practice | C9: Knowledge | D9: 7 | E9: 24 | F9: =100/E9 -> 4.1666667 | G9: =SUM('Mapping Template'!L78:L101) -> 0 | H9: =(E9/E17)*100 -> 16.107383 | I9: =(H9/100)*G9 -> 0
C10: Skills | D10: 5 | E10: 22 | F10: =100/E10 -> 4.5454545 | G10: =SUM('Mapping Template'!L103:L124) -> 0 | H10: =(E10/E17)*100 -> 14.765101 | I10: =(H10/100)*G10 -> 0
B11: 5. Working with a coaching team | C11: Knowledge | D11: 2 | E11: 6 | F11: =100/E11 -> 16.666667 | G11: =SUM('Mapping Template'!L126:L131) -> 0 | H11: =(E11/E17)*100 -> 4.0268456 | I11: =(H11/100)*G11 -> 0
C12: Skills | D12: 2 | E12: 11 | F12: =100/E12 -> 9.0909091 | G12: =SUM('Mapping Template'!L133:L137) -> 0 | H12: =(E12/E17)*100 -> 7.3825503 | I12: =(H12/100)*G12 -> 0
B13: 6. Plan, prepare deliver, continually evaluate and review coaching sessions | C13: Knowledge | D13: 3 | E13: 5 | F13: =100/E13 -> 20 | G13: =SUM('Mapping Template'!L139:L143) -> 0 | H13: =(E13/E17)*100 -> 3.3557047 | I13: =(H13/100)*G13 -> 0
C14: Skills | D14: 1 | E14: 1 | F14: =100/E14 -> 100 | G14: =SUM('Mapping Template'!L145:L145) -> 0 | H14: =(E14/E17)*100 -> 0.67114094 | I14: =(H14/100)*G14 -> 0
B15: 7. Plan, prepare, deliver, continually evaluate and review coaching programmes | C15: Knowledge | D15: 6 | E15: 7 | F15: =100/E15 -> 14.285714 | G15: =SUM('Mapping Template'!L147:L153) -> 0 | H15: =(E15/E17)*100 -> 4.6979866 | I15: =(H15/100)*G15 -> 0
C16: Skills | D16: 4 | E16: 6 | F16: =100/E16 -> 16.666667 | G16: =SUM('Mapping Template'!L155:L160) -> 0 | H16: =(E16/E17)*100 -> 4.0268456 | I16: =(H16/100)*G16 -> 0
B17: Totals | D17: =SUM(D3:D16) -> 51 | E17: =SUM(E3:E16) -> 149 | H17: =SUM(H3:H16) -> 100 | I17: =SUM(I3:I16) -> 0

Sheet Feedback
A1: Standardised feedback comments | B1: Assessment methods
A2: Comprehensive evidence | B2: Assignment
A3: Sufficient evidence | B3: Case study
A4: Further evidence required | B4: Dissertation
B5: Exam
B6: Written test
B7: Listening test
B8: Oral test
B9: Performance/ practical
B10: Portfolio
B11: Professional discussion
B12: Project
B13: Simulation
B14: Online test
B15: Attendence only
B16: Multiple
B17: Other

Sheet Workings out
A1: Calculating the totally percentage of knowledge/ skill covered in each section
B2: K1 | C2: S1 | D2: K2 | E2: S2 | F2: K3 | G2: S3 | H2: K4 | I2: S4 | J2: K5 | K2: S5 | L2: K6 | M2: S6 | N2: K7 | O2: S7
A3: % value | B3: 4.7619048 | C3: 16.666667 | D3: 4.7619048 | E3: 10 | F3: 14.285714 | G3: 50 | H3: 4.1666667 | I3: 4.5454545 | J3: 16.666667 | K3: 20 | L3: 20 | M3: 100 | N3: 14.285714 | O3: 16.666667
A4: # spec | B4: 21 | C4: 6 | D4: 21 | E4: 10 | F4: 7 | G4: 2 | H4: 24 | I4: 22 | J4: 6 | K4: 5 | L4: 5 | M4: 1 | N4: 7 | O4: 6
A5: Sections | B5: =IF('Mapping Template'!$J5=1,B$3,0) -> 0 | C5: =IF('Mapping Template'!$J27=1,C$3,0) -> 0 | D5: =IF('Mapping Template'!$J34=1,D$3,0) -> 0 | E5: =IF('Mapping Template'!$J56=1,E$3,0) -> 0 | F5: =IF('Mapping Template'!$J67=1,F$3,0) -> 0 | G5: =IF('Mapping Template'!$J75=1,G$3,0) -> 0 | H5: =IF('Mapping Template'!$J78=1,H$3,0) -> 0 | I5: =IF('Mapping Template'!$J103=1,I$3,0) -> 0 | J5: =IF('Mapping Template'!$J126=1,J$3,0) -> 0 | K5: =IF('Mapping Template'!$J133=1,K$3,0) -> 0 | L5: =IF('Mapping Template'!$J139=1,L$3,0) -> 0 | M5: =IF('Mapping Template'!$J145=1,M$3,0) -> 0 | N5: =IF('Mapping Template'!$J147=1,N$3,0) -> 0 | O5: =IF('Mapping Template'!$J155=1,O$3,0) -> 0
B6: =IF('Mapping Template'!$J6=1,B$3,0) -> 0 | C6: =IF('Mapping Template'!$J28=1,C$3,0) -> 0 | D6: =IF('Mapping Template'!$J35=1,D$3,0) -> 0 | E6: =IF('Mapping Template'!$J57=1,E$3,0) -> 0 | F6: =IF('Mapping Template'!$J68=1,F$3,0) -> 0 | G6: =IF('Mapping Template'!$J76=1,G$3,0) -> 0 | H6: =IF('Mapping Template'!$J79=1,H$3,0) -> 0 | I6: =IF('Mapping Template'!$J104=1,I$3,0) -> 0 | J6: =IF('Mapping Template'!$J127=1,J$3,0) -> 0 | K6: =IF('Mapping Template'!$J134=1,K$3,0) -> 0 | L6: =IF('Mapping Template'!$J140=1,L$3,0) -> 0 | N6: =IF('Mapping Template'!$J148=1,N$3,0) -> 0 | O6: =IF('Mapping Template'!$J156=1,O$3,0) -> 0
B7: =IF('Mapping Template'!$J7=1,B$3,0) -> 0 | C7: =IF('Mapping Template'!$J29=1,C$3,0) -> 0 | D7: =IF('Mapping Template'!$J36=1,D$3,0) -> 0 | E7: =IF('Mapping Template'!$J58=1,E$3,0) -> 0 | F7: =IF('Mapping Template'!$J69=1,F$3,0) -> 0 | H7: =IF('Mapping Template'!$J80=1,H$3,0) -> 0 | I7: =IF('Mapping Template'!$J105=1,I$3,0) -> 0 | J7: =IF('Mapping Template'!$J128=1,J$3,0) -> 0 | K7: =IF('Mapping Template'!$J135=1,K$3,0) -> 0 | L7: =IF('Mapping Template'!$J141=1,L$3,0) -> 0 | N7: =IF('Mapping Template'!$J149=1,N$3,0) -> 0 | O7: =IF('Mapping Template'!$J157=1,O$3,0) -> 0
B8: =IF('Mapping Template'!$J8=1,B$3,0) -> 0 | C8: =IF('Mapping Template'!$J30=1,C$3,0) -> 0 | D8: =IF('Mapping Template'!$J37=1,D$3,0) -> 0 | E8: =IF('Mapping Template'!$J59=1,E$3,0) -> 0 | F8: =IF('Mapping Template'!$J70=1,F$3,0) -> 0 | H8: =IF('Mapping Template'!$J81=1,H$3,0) -> 0 | I8: =IF('Mapping Template'!$J106=1,I$3,0) -> 0 | J8: =IF('Mapping Template'!$J129=1,J$3,0) -> 0 | K8: =IF('Mapping Template'!$J136=1,K$3,0) -> 0 | L8: =IF('Mapping Template'!$J142=1,L$3,0) -> 0 | N8: =IF('Mapping Template'!$J150=1,N$3,0) -> 0 | O8: =IF('Mapping Template'!$J158=1,O$3,0) -> 0
B9: =IF('Mapping Template'!$J9=1,B$3,0) -> 0 | C9: =IF('Mapping Template'!$J31=1,C$3,0) -> 0 | D9: =IF('Mapping Template'!$J38=1,D$3,0) -> 0 | E9: =IF('Mapping Template'!$J60=1,E$3,0) -> 0 | F9: =IF('Mapping Template'!$J71=1,F$3,0) -> 0 | H9: =IF('Mapping Template'!$J82=1,H$3,0) -> 0 | I9: =IF('Mapping Template'!$J107=1,I$3,0) -> 0 | J9: =IF('Mapping Template'!$J130=1,J$3,0) -> 0 | K9: =IF('Mapping Template'!$J137=1,K$3,0) -> 0 | L9: =IF('Mapping Template'!$J143=1,L$3,0) -> 0 | N9: =IF('Mapping Template'!$J151=1,N$3,0) -> 0 | O9: =IF('Mapping Template'!$J159=1,O$3,0) -> 0
B10: =IF('Mapping Template'!$J10=1,B$3,0) -> 0 | C10: =IF('Mapping Template'!$J32=1,C$3,0) -> 0 | D10: =IF('Mapping Template'!$J39=1,D$3,0) -> 0 | E10: =IF('Mapping Template'!$J61=1,E$3,0) -> 0 | F10: =IF('Mapping Template'!$J72=1,F$3,0) -> 0 | H10: =IF('Mapping Template'!$J83=1,H$3,0) -> 0 | I10: =IF('Mapping Template'!$J108=1,I$3,0) -> 0 | J10: =IF('Mapping Template'!$J131=1,J$3,0) -> 0 | N10: =IF('Mapping Template'!$J152=1,N$3,0) -> 0 | O10: =IF('Mapping Template'!$J160=1,O$3,0) -> 0
B11: =IF('Mapping Template'!$J11=1,B$3,0) -> 0 | D11: =IF('Mapping Template'!$J40=1,D$3,0) -> 0 | E11: =IF('Mapping Template'!$J62=1,E$3,0) -> 0 | F11: =IF('Mapping Template'!$J73=1,F$3,0) -> 0 | H11: =IF('Mapping Template'!$J84=1,H$3,0) -> 0 | I11: =IF('Mapping Template'!$J109=1,I$3,0) -> 0 | N11: =IF('Mapping Template'!$J153=1,N$3,0) -> 0
B12: =IF('Mapping Template'!$J12=1,B$3,0) -> 0 | D12: =IF('Mapping Template'!$J41=1,D$3,0) -> 0 | E12: =IF('Mapping Template'!$J63=1,E$3,0) -> 0 | H12: =IF('Mapping Template'!$J85=1,H$3,0) -> 0 | I12: =IF('Mapping Template'!$J110=1,I$3,0) -> 0
B13: =IF('Mapping Template'!$J13=1,B$3,0) -> 0 | D13: =IF('Mapping Template'!$J42=1,D$3,0) -> 0 | E13: =IF('Mapping Template'!$J64=1,E$3,0) -> 0 | H13: =IF('Mapping Template'!$J86=1,H$3,0) -> 0 | I13: =IF('Mapping Template'!$J111=1,I$3,0) -> 0
B14: =IF('Mapping Template'!$J14=1,B$3,0) -> 0 | D14: =IF('Mapping Template'!$J43=1,D$3,0) -> 0 | E14: =IF('Mapping Template'!$J65=1,E$3,0) -> 0 | H14: =IF('Mapping Template'!$J87=1,H$3,0) -> 0 | I14: =IF('Mapping Template'!$J112=1,I$3,0) -> 0
B15: =IF('Mapping Template'!$J15=1,B$3,0) -> 0 | D15: =IF('Mapping Template'!$J44=1,D$3,0) -> 0 | H15: =IF('Mapping Template'!$J88=1,H$3,0) -> 0 | I15: =IF('Mapping Template'!$J113=1,I$3,0) -> 0
B16: =IF('Mapping Template'!$J16=1,B$3,0) -> 0 | D16: =IF('Mapping Template'!$J45=1,D$3,0) -> 0 | H16: =IF('Mapping Template'!$J89=1,H$3,0) -> 0 | I16: =IF('Mapping Template'!$J114=1,I$3,0) -> 0
B17: =IF('Mapping Template'!$J17=1,B$3,0) -> 0 | D17: =IF('Mapping Template'!$J46=1,D$3,0) -> 0 | H17: =IF('Mapping Template'!$J90=1,H$3,0) -> 0 | I17: =IF('Mapping Template'!$J115=1,I$3,0) -> 0
B18: =IF('Mapping Template'!$J18=1,B$3,0) -> 0 | D18: =IF('Mapping Template'!$J47=1,D$3,0) -> 0 | H18: =IF('Mapping Template'!$J91=1,H$3,0) -> 0 | I18: =IF('Mapping Template'!$J116=1,I$3,0) -> 0
B19: =IF('Mapping Template'!$J19=1,B$3,0) -> 0 | D19: =IF('Mapping Template'!$J48=1,D$3,0) -> 0 | H19: =IF('Mapping Template'!$J92=1,H$3,0) -> 0 | I19: =IF('Mapping Template'!$J117=1,I$3,0) -> 0
B20: =IF('Mapping Template'!$J20=1,B$3,0) -> 0 | D20: =IF('Mapping Template'!$J49=1,D$3,0) -> 0 | H20: =IF('Mapping Template'!$J93=1,H$3,0) -> 0 | I20: =IF('Mapping Template'!$J118=1,I$3,0) -> 0
B21: =IF('Mapping Template'!$J21=1,B$3,0) -> 0 | D21: =IF('Mapping Template'!$J50=1,D$3,0) -> 0 | H21: =IF('Mapping Template'!$J94=1,H$3,0) -> 0 | I21: =IF('Mapping Template'!$J119=1,I$3,0) -> 0
B22: =IF('Mapping Template'!$J22=1,B$3,0) -> 0 | D22: =IF('Mapping Template'!$J51=1,D$3,0) -> 0 | H22: =IF('Mapping Template'!$J95=1,H$3,0) -> 0 | I22: =IF('Mapping Template'!$J120=1,I$3,0) -> 0
B23: =IF('Mapping Template'!$J23=1,B$3,0) -> 0 | D23: =IF('Mapping Template'!$J52=1,D$3,0) -> 0 | H23: =IF('Mapping Template'!$J96=1,H$3,0) -> 0 | I23: =IF('Mapping Template'!$J121=1,I$3,0) -> 0
B24: =IF('Mapping Template'!$J24=1,B$3,0) -> 0 | D24: =IF('Mapping Template'!$J53=1,D$3,0) -> 0 | H24: =IF('Mapping Template'!$J97=1,H$3,0) -> 0 | I24: =IF('Mapping Template'!$J122=1,I$3,0) -> 0
B25: =IF('Mapping Template'!$J25=1,B$3,0) -> 0 | D25: =IF('Mapping Template'!$J54=1,D$3,0) -> 0 | H25: =IF('Mapping Template'!$J98=1,H$3,0) -> 0 | I25: =IF('Mapping Template'!$J123=1,I$3,0) -> 0
H26: =IF('Mapping Template'!$J99=1,H$3,0) -> 0 | I26: =IF('Mapping Template'!$J124=1,I$3,0) -> 0
H27: =IF('Mapping Template'!$J100=1,H$3,0) -> 0
H28: =IF('Mapping Template'!$J101=1,H$3,0) -> 0
