Workbook

Sheet Guidance
B1: #VALUE!
B2: Qigong for Health and Wellbeing Mapping Template
B3: Edition: V1.1
B4: Publication date: 30th January 2025
B6: Mapping Guidance - you are here!
B7: Mapping template to reference and evidence where the professional standard is being met by the course/ participant/ qualification
B8: N.B. Examples (e.g.) are given within the LDRs to provide an overview of the knowledge and skills most relevant to the role. It is not mandatory to assess learners against 100% of the examples provided, however, sufficient coverage to ensure occupational competence on achievement must be ensured. This will be reviewed as part of the CIMSPA endorsement process.
B9: For non-regulated qualifications (CPD), where an Education Partner does not meet the full CIMSPA professional standard, it is important to note, that the Education Partner must meet a full Knowledge or Skill LDR. For example, all three sections within K1.1 would need to evidenced for that LDR to partially map to the professional standard.
B10: For further information around product development guidance, please refer to the professional standard within the professional standard library; https://www.cimspa.co.uk/education-training/professional-standards/professional-standards-library/
B11: Alternatively, please view our CIMPSA Partner Endorsement Guide;https://cimspa.co.uk/education-training/endorsement/
B13: Revision History
B14: Version | C14: Name & Role | D14: Signature & Date | E14: Reason for Change
A15: c | B15: V1.1 | C15: Aidan Riley Education Officer | D15: AR 28/01/25 | E15: Update to general formatting & implementation of conditional formating to streamline moderator feedback.
B19: E endorsements@cimspa.co.uk T 03438 360200 W www.cimspa.co.uk
B20: Chartered Institute for the Management of Sport and Physical Activity,
B21: SportPark Loughborough University, 3 Oakwood Drive, Loughborough, Leicestershire LE11 3QF
B22: Incorporated by Royal Charter Charity Registration No. 1144545

Sheet Mapping Template
E1: Education Product Title: INSERT HERE
A2: Professional Standard: Qigong for Health and Wellbeing | E2: Partner Mapping Section | J2: Moderator Feedback Section | Q2: IV Feedback Section
A3: Topic | B3: Competency | D3: Learning Outcome(s) | E3: Evidence (sign post to SOW / course specification / supporting documents) | F3: Assessment Method | G3: Further Comments (expand on evidence within column E / F) | H3: Response to Moderator Feedback Section (second review evidence - if applicable) | J3: Score | K3: Mapping to Point | L3: % Mapped to Section | M3: Moderator comments | N3: General Feedback (first review) | O3: General Feedback (second review - if applicable) | Q3: IV Comments
A4: 1. Health and Wellbeing | B4: Ref | C4: Knowledge and Understanding (K&U): | D4: Those practicing Qigong for Health and Wellbeing must:
B5: K1.1 | C5: Health and wellbeing | D5: Understand the broad definitions for health and wellbeing and in relation to Qigong practice. | K5: {=IF((AND(J5:J6=1)), "Fully Mapped", "Not/ Partially Mapped")} -> Not/ Partially Mapped | L5: =SUM('Workings out'!B5:B11) -> 0
D6: Know when and how to signpost individuals on or refer to appropriate services, where it is deemed beyond scope of practice.
B7: K1.2 | C7: Benefits | D7: Know about the risks of inactivity and sedentary behaviour and how Qigong practice can improve individuals’ health and wellbeing.
D8: Know the acknowledged benefits (Physiological, Psychological and Sociological) of regular Qigong practice to health and wellbeing.
B9: K1.3 | C9: Behaviour change | D9: Understand types of real and perceived barriers that affect engagement and participation in practising Qigong in the health and wellbeing setting. | K9: {=IF((AND(J9:J11=1)), "Fully Mapped", "Not/ Partially Mapped")} -> Not/ Partially Mapped
D10: Identify the motivations for individuals participating in Qigong practice in the health and wellbeing setting.
D11: Know how to promote and support individuals’ behaviour change to engage in regular Qigong practice in the health and wellbeing setting.
A12: 2. Technical knowledge and skills of chosen Qigong system(s) | B12: Ref | C12: K&U | D12: Those practicing Qigong for Health and Wellbeing must:
B13: K2.1 | C13: Theoretical basis of chosen Qigong system(s) | D13: Know how to define the terms ‘qi’ (chi) and ‘Qigong’ (according to your chosen system). | K13: {=IF((AND(J13:J14=1)), "Fully Mapped", "Not/ Partially Mapped")} -> Not/ Partially Mapped | L13: =SUM('Workings out'!C5:C8) -> 0
D14: Know the conceptual principles of chosen Qigong system in terms of mind, anatomy / physiology of the physical and subtle bodies, and movement/vibration of those elements.
B15: K2.2 | C15: Qigong technique | D15: Know in detail, the key internal movements/vibrations (physical body, subtle body, and mind) that are used within the chosen system, the effect of this movement/vibration in terms of movement and transformation of qi throughout the subtle body, and the basis of how this benefits health, wellbeing, and spiritual development. | K15: {=IF((AND(J15:J16=1)), "Fully Mapped", "Not/ Partially Mapped")} -> Not/ Partially Mapped
D16: Know in detail, at least one complete form from chosen system (see glossary/ appendix).
B17: Ref | C17: Skills: | D17: Those practicing Qigong for Health and Wellbeing mustbe able to:
B18: S2.1 | C18: Qigong technique | D18: Model the conceptual principles of chosen Qigong system in all practice. | K18: {=IF((AND(J18:J20=1)), "Fully Mapped", "Not/ Partially Mapped")} -> Not/ Partially Mapped | L18: =SUM('Workings out'!D5:D7) -> 0
D19: Accurately demonstrate the key internal (physical, subtle, and mind) movements/vibrations that are used within the chosen Qigong system.
D20: Perform accurately at least one complete form, from chosen Qigong system.
A21: 3. Plan, prepare, deliver, and review Qigong exercise sessions | B21: Ref | C21: K&U | D21: Those practicing Qigong for Health and Wellbeing must:
B22: K3.1 | C22: Plan Qigong exercise sessions/ programmes | D22: Understand how to plan and tailor safe and inclusive Qigong exercise sessions/ programmes for a range of clients: ­ Explain the key principles of designing a programme of Qigong exercise sessions. ­ Differences between Qigong exercises for physical fitness, physical health benefits, wellbeing, and spiritual development. ­ Explain a range of safe and effective Qigong exercises. ­ Know how to select the most appropriate Qigong activities to meet the needs and goals of the participant(s). ­ How Qigong practice can support participants’ health and wellbeing during stressful life-events and other acute periods of intense stress. ­ Provision of alternative Qigong activities/exercises/participation options. ­ How to minimise any risks from the perspective of the chosen Qigong system. | K22: =IF((AND(J22=1)), "Fully Mapped", "Not/ Partially Mapped") -> Not/ Partially Mapped | L22: =SUM('Workings out'!E5:E10) -> 0
B23: K3.2 | C23: Deliver Qigong exercise sessions | D23: Understand how to deliver planned Qigong exercise sessions | K23: {=IF((AND(J23:J24=1)), "Fully Mapped", "Not/ Partially Mapped")} -> Not/ Partially Mapped
D24: Know how to provide safe and effective exercise demonstrations.
B25: K3.3 | C25: 3 Adapt training for varying individual needs | D25: How to adapt training to meet varying individual needs during a session. | K25: =IF((AND(J25=1)), "Fully Mapped", "Not/ Partially Mapped") -> Not/ Partially Mapped
B26: K3.4 | C26: Review Qigong exercise sessions | D26: How to review safe and inclusive Qigong exercise sessions with individuals, considering: ­ Reasons for temporary deferral of exercise. ­ Importance of verbal screening and how to conduct it. | K26: {=IF((AND(J26:J27=1)), "Fully Mapped", "Not/ Partially Mapped")} -> Not/ Partially Mapped
D27: Methods of evaluating how well Qigong exercise sessions are meeting individual needs.
B28: Ref | C28: Skills: | D28: Those practicing Qigong for Health and Wellbeing mustbe able to:
B29: S3.1 | C29: Plan Qigong exercise sessions/ programmes | D29: Apply knowledge to the planning of safe and effective exercise programmes for a range of individuals within scope of practice, using appropriate methods. | K29: {=IF((AND(J29:J30=1)), "Fully Mapped", "Not/ Partially Mapped")} -> Not/ Partially Mapped | L29: =SUM('Workings out'!F5:F12) -> 0
D30: Show appropriate session content for Qigong practice.
B31: S3.2 | C31: Deliver Qigong exercise sessions | D31: Deliver safe and effective Qigong exercise sessions. | K31: =IF((AND(J31=1)), "Fully Mapped", "Not/ Partially Mapped") -> Not/ Partially Mapped
B32: S3.3 | C32: Adapt exercise for varying individual needs | D32: Adapt exercise to meet varying individual needs during a session as appropriate. | K32: =IF((AND(J32=1)), "Fully Mapped", "Not/ Partially Mapped") -> Not/ Partially Mapped
B33: S3.4 | C33: Review Qigong exercise sessions | D33: Appraise own performance in relation to the session. | K33: {=IF((AND(J33:J36=1)), "Fully Mapped", "Not/ Partially Mapped")} -> Not/ Partially Mapped
D34: Appraise participants’ performance in relation to the session.
D35: Assess the appropriateness of the session content in relation to the participants and environment.
D36: Make changes/adaptations to future session planning based on the appraisal of own performance, participant performance and appropriateness of session content.

Sheet % breakdown
D1: Sections | E1: Specifications | F1: %worth of each section | G1: Total % covered of area | H1: Section % of total standard | I1: % covered of entire standard
B2: 1 | C2: Knowledge | D2: 3 | E2: 7 | F2: =100/E2 -> 14.285714 | G2: =SUM('Mapping Template'!L5:L11) -> 0 | H2: =(E2/E7)*100 -> 25 | I2: =(H2/100)*G2 -> 0
B3: 2 | C3: Knowledge | D3: 2 | E3: 4 | F3: =100/E3 -> 25 | G3: =SUM('Mapping Template'!L13:L16) -> 0 | H3: =(E3/E7)*100 -> 14.285714 | I3: =(H3/100)*G3 -> 0
C4: Skills | D4: 1 | E4: 3 | F4: =100/E4 -> 33.333333 | G4: =SUM('Mapping Template'!L18:L20) -> 0 | H4: =(E4/E7)*100 -> 10.714286 | I4: =(H4/100)*G4 -> 0
B5: 3 | C5: Knowledge | D5: 4 | E5: 6 | F5: =100/E5 -> 16.666667 | G5: =SUM('Mapping Template'!L22:L27) -> 0 | H5: =(E5/E7)*100 -> 21.428571 | I5: =(H5/100)*G5 -> 0
C6: Skills | D6: 4 | E6: 8 | F6: =100/E6 -> 12.5 | G6: =SUM('Mapping Template'!L29:L29) -> 0 | H6: =(E6/E7)*100 -> 28.571429 | I6: =(H6/100)*G6 -> 0
B7: Totals | D7: =SUM(D2:D6) -> 14 | E7: =SUM(E2:E6) -> 28 | H7: =SUM(H2:H6) -> 100 | I7: =SUM(I2:I6) -> 0

Sheet Feedback
A1: Standardised feedback comments | B1: Assessment methods
A2: Comprehensive evidence | B2: Multiple
A3: Sufficient evidence | B3: Case study
A4: Further evidence required | B4: Dissertation
B5: Exam
B6: Written test
B7: Listening test
B8: Oral test
B9: Performance/ practical
B10: Portfolio
B11: Professional discussion
B12: Project
B13: Simulation
B14: Online test
B15: Attendence only
B16: Assignment
B17: Other

Sheet Workings out
A1: Calculating the totally percentage of knowledge/ skill covered in each section
B2: K1 | C2: K2 | D2: S2 | E2: K3 | F2: S3
A3: % value | B3: 14.285714 | C3: 25 | D3: 33.333333 | E3: 16.666667 | F3: 12.5
A4: # spec | B4: 7 | C4: 4 | D4: 3 | E4: 6 | F4: 8
A5: Sections | B5: =IF('Mapping Template'!$J5=1,B$3,0) -> 0 | C5: =IF('Mapping Template'!$J13=1,C$3,0) -> 0 | D5: =IF('Mapping Template'!$J18=1,D$3,0) -> 0 | E5: =IF('Mapping Template'!$J22=1,E$3,0) -> 0 | F5: =IF('Mapping Template'!$J29=1,F$3,0) -> 0
B6: =IF('Mapping Template'!$J6=1,B$3,0) -> 0 | C6: =IF('Mapping Template'!$J14=1,C$3,0) -> 0 | D6: =IF('Mapping Template'!$J19=1,D$3,0) -> 0 | E6: =IF('Mapping Template'!$J23=1,E$3,0) -> 0 | F6: =IF('Mapping Template'!$J30=1,F$3,0) -> 0
B7: =IF('Mapping Template'!$J7=1,B$3,0) -> 0 | C7: =IF('Mapping Template'!$J15=1,C$3,0) -> 0 | D7: =IF('Mapping Template'!$J20=1,D$3,0) -> 0 | E7: =IF('Mapping Template'!$J24=1,E$3,0) -> 0 | F7: =IF('Mapping Template'!$J31=1,F$3,0) -> 0
B8: =IF('Mapping Template'!$J8=1,B$3,0) -> 0 | C8: =IF('Mapping Template'!$J16=1,C$3,0) -> 0 | E8: =IF('Mapping Template'!$J25=1,E$3,0) -> 0 | F8: =IF('Mapping Template'!$J32=1,F$3,0) -> 0
B9: =IF('Mapping Template'!$J9=1,B$3,0) -> 0 | E9: =IF('Mapping Template'!$J26=1,E$3,0) -> 0 | F9: =IF('Mapping Template'!$J33=1,F$3,0) -> 0
B10: =IF('Mapping Template'!$J10=1,B$3,0) -> 0 | E10: =IF('Mapping Template'!$J27=1,E$3,0) -> 0 | F10: =IF('Mapping Template'!$J34=1,F$3,0) -> 0
B11: =IF('Mapping Template'!$J11=1,B$3,0) -> 0 | F11: =IF('Mapping Template'!$J35=1,F$3,0) -> 0
F12: =IF('Mapping Template'!$J36=1,F$3,0) -> 0
