Workbook

Sheet Guidance
B1: #VALUE!
B2: Coach Mapping Template
B3: Edition: V3.3
B4: Publication date: 07/01/2026
B6: Mapping Guidance - you are here!
B7: Mapping template to reference and evidence where the professional standard is being met by the course/ participant/ qualification
B8: N.B. Examples (e.g.) are given within the LDRs to provide an overview of the knowledge and skills most relevant to the role. It is not mandatory to assess learners against 100% of the examples provided, however, sufficient coverage to ensure occupational competence on achievement must be ensured. This will be reviewed as part of the CIMSPA endorsement process.
B9: For non-regulated qualifications (CPD), where an Education Partner does not meet the full CIMSPA professional standard, it is important to note, that the Education Partner must meet a full Knowledge or Skill LDR. For example, all three sections within K1.1 would need to evidenced for that LDR to partially map to the professional standard.
B10: For further information around product development guidance, please refer to the professional standard within the professional standard library; https://www.cimspa.co.uk/education-training/professional-standards/professional-standards-library/
B11: Alternatively, please view our CIMPSA Partner Endorsement Guide; https://cimspa.co.uk/education-training/endorsement/
B13: Revision History
B14: Version | C14: Name & Role | D14: Signature & Date | E14: Reason for Change
A15: c | B15: V3.1 | C15: Aidan Riley Education Officer | D15: AR 30/07/24 | E15: Update to general formatting & implementation of conditional formating to streamline moderator feedback.
B16: V3.2 | C16: Aidan Riley Education Officer | D16: AR 27/08/25
B17: V3.3 | C17: Aidan Riley Education Officer & Sara Byrne Technical Education Manager | D17: AR 05/01/25 & 06/01/25 | E17: Update to professional standard V1.1. Updated Endorsement link. Amendments to refs, changed learning outcomes to comptency statements, competency statements to topics and changed bullets throughout the MT in line with updated PS. AR updated conditional formatting.
B20: E endorsements@cimspa.co.uk T 03438 360200 W www.cimspa.co.uk
B21: Chartered Institute for the Management of Sport and Physical Activity,
B22: SportPark Loughborough University, 3 Oakwood Drive, Loughborough, Leicestershire LE11 3QF
B23: Incorporated by Royal Charter Charity Registration No. 1144545

Sheet Mapping Template
E1: Education Product Title: INSERT HERE
A2: Professional Standard: Coach | E2: Partner Mapping Section | J2: Moderator Feedback Section | Q2: IV Feedback Section
A3: Key areas | B3: Topics | D3: Competencey statements | E3: Evidence (sign post to SOW / course specification / supporting documents) | F3: Assessment Method | G3: Further Comments (expand on evidence within column E) | H3: Response to Moderator Feedback Section (second review evidence - if applicable) | J3: Score | K3: Mapping to point | L3: % mapped to section | M3: Moderator comments | N3: General Feedback (first review) | O3: General Feedback (second review - if applicable) | Q3: IV Comments
B4: Ref | C4: Knowledge and understanding: | D4: A Coach must:
A5: 1. Professional practice | B5: K1.1 | C5: Duty of care to participants | D5: • describe the Coach’s role in the duty of care of the participant. | K5: =IF((AND(J5=1)), "Fully Mapped", "Not/ Partially Mapped") -> Not/ Partially Mapped | L5: =SUM('Workings out'!B3:B14) -> 0
B6: K1.2 | C6: Duty of care to themselves | D6: • explain the importance of a Coach emphasising their own safety, mental health and wellbeing. | K6: =IF((AND(J6=1)), "Fully Mapped", "Not/ Partially Mapped") -> Not/ Partially Mapped
B7: K1.3 .1 | C7: Mental health awareness | D7: • describe key concepts related to mental health, to include: — mental health — mental wellbeing — mental health problems | K7: {=IF((AND(J7:J9=1)), "Fully Mapped", "Not/ Partially Mapped")} -> Not/ Partially Mapped
B8: K1.3.2 | D8: • recognise professional boundaries and identify which specialists can provide additional health and wellbeing support.
B9: K1.3.3 | D9: • describe how to provide relevant support to an individual struggling with their mental health, to include: — the immediate support a Coach can offer — the process for signposting to professional support services.
B10: K1.4 | C10: Professional conduct | D10: • describe how to conduct themselves and portray a professional image within the scope of the role, for example: — attire — being respectful of participants and others — being a positive role model — motivating and inspiring — honest and trustworthy — committed — non-judgemental — working with others, for example: o coaches o parents o guardians o carers o other staff members. | K10: =IF((AND(J10=1)), "Fully Mapped", "Not/ Partially Mapped") -> Not/ Partially Mapped
B11: K1.5 | C11: Key legislation and policy | D11: • summarise how current legislation and policy informs the duties, obligations and responsibilities of a Coach, within their own context, for example: — legislation: o Children’s Act (1989 and 2004) o Children and Young People (Scotland) Act (2014) o Criminal records checks: - Disclosure and barring service - Protecting vulnerable groups - AccessNI o Equality Act (2010) o General Data Protection Regulations (2018) o Health and Safety at Work Act (1974) o Well-being of Future Generations (Wales) Act (2015) — policies: o Code of conduct for coaches o Normal operating procedures (NOP) or standard operating procedures (SOP) o Insurance requirements. | K11: =IF((AND(J11=1)), "Fully Mapped", "Not/ Partially Mapped") -> Not/ Partially Mapped
B12: K1.6 | C12: Developing self | D12: • describe the importance of committing to your own ongoing development (both formal and informal learning opportunities) to maintain currency of coaching practice, for example: — CIMSPA endorsed training — communities of practice — qualifications — webinars — workshops. | K12: =IF((AND(J12=1)), "Fully Mapped", "Not/ Partially Mapped") -> Not/ Partially Mapped
B13: K1.7 | C13: Ethics of coaching | D13: • consider how a coach’s principles, morals and values impact upon their coaching behaviours, within their current scope of practice, for example: — conscious or unconscious bias and its impact on practice — conflicts of interest, for example – son or daughter/significant other in coaching sessions — how intrinsic (for example enjoyment, accomplishments) and extrinsic (for example money, badges) motivation affect participants engagement, enjoyment and learning — how process (performance) or product (results) orientations impact participants enjoyment, engagement and learning — adopting a person-centred approach to coaching practice — promoting clean sport by educating participants about the dangers of performance enhancing substances | K13: =IF((AND(J13=1)), "Fully Mapped", "Not/ Partially Mapped") -> Not/ Partially Mapped
B14: K1.8.1 | C14: Coaching philosophy | D14: • describe what a coaching philosophy is. | K14: {=IF((AND(J14:J16=1)), "Fully Mapped", "Not/ Partially Mapped")} -> Not/ Partially Mapped
B15: K1.8.2 | D15: • explain the importance of a coach establishing their own coaching philosophy.
B16: K1.8.3 | D16: • explain how a coaching philosophy can be created, for example: — exploring how does a coach’s principles and values inform a coaching philosophy — exploring individual’s reasons for coaching — exploring what factors inform a coach’s coaching practice, for example: o qualifications o CPD o past experiences.
B17: Ref | C17: Skills: | D17: A Coach must:
B18: S1.1 | C18: Professional practice | D18: • demonstrate good application of professional practice within the role of a coach regarding conduct, ethics and key legislation. | K18: =IF((AND(J18=1)), "Fully Mapped", "Not/ Partially Mapped") -> Not/ Partially Mapped | L18: =SUM('Workings out'!C3) -> 0
A19: 2. Planning and preparation | B19: Ref | C19: Knowledge and understanding: | D19: A Coach must:
B20: K2.1 | C20: The participant(s) | D20: • identify aspects about the individual participant(s) that the coach should know prior to a coaching session to ensure that their sessions are person-centred, for example: — motivation of the participants — previous experience — personal background — medical history. | K20: =IF((AND(J20=1)), "Fully Mapped", "Not/ Partially Mapped") -> Not/ Partially Mapped | L20: =SUM('Workings out'!D3:D10) -> 0
B21: K2.2.1 | C21: Hazards and risk assessment | D21: • identify potential hazards which could relate to a coaching session. This could include: — the facility — activities — people (peers, parents, guardians, carers, spectators, other coaches and the coach). | K21: {=IF((AND(J21:J22=1)), "Fully Mapped", "Not/ Partially Mapped")} -> Not/ Partially Mapped
B22: K2.2.2 | D22: • describe how to undertake a risk assessment to minimise hazards.
B23: K2.3.1 | C23: Longer term planning | D23: • describe how a scheme of work is used in relation to longer term planning, to include: — overarching aims — individual session topics. | K23: {=IF((AND(J23:J24=1)), "Fully Mapped", "Not/ Partially Mapped")} -> Not/ Partially Mapped
B24: K2.3.2 | D24: • explain how an individual session complements a longer-term learning programme, for example: — a coaching curriculum — the physical education national curriculum — a multi-sports curriculum.
B25: K2.4.1 | C25: Planning coaching sessions | D25: • consider how to plan a series of safe, inclusive and enjoyable coaching sessions, to include: — appropriate aims and objectives — appropriate resources/equipment — appropriate activities to meet the aims and objectives of the coaching session which inspire participant(s) engagement — appropriate timings, sequencing, intensity and duration of activities for the participant(s) — appropriate range of intervention strategies to ensure participant(s) learning, considering progressions and regressions. | K25: {=IF((AND(J24:J25=1)), "Fully Mapped", "Not/ Partially Mapped")} -> Not/ Partially Mapped
B26: K2.4.2 | D26: • explain how a coaching plan is dynamic and subject to change once the session is in progress.
B27: K2.5 | C27: Preparing coaching sessions | D27: • describe how to prepare safe, inclusive and enjoyable coaching sessions based upon: — facility/area available — resources — weather. | K27: =IF((AND(J27=1)), "Fully Mapped", "Not/ Partially Mapped") -> Not/ Partially Mapped
B28: Ref | C28: Skills: | D28: A Coach must:
B29: S2.1 | C29: Hazards and risk assessment | D29: • demonstrate appropriate action to deal with hazards based on the level of risk (risk assessment). | K29: =IF((AND(J29=1)), "Fully Mapped", "Not/ Partially Mapped") -> Not/ Partially Mapped | L29: =SUM('Workings out'!E3:E5) -> 0
B30: S2.2 | C30: Longer term planning | D30: • create a basic scheme of work for a series of coaching sessions, to include: — overarching aims — individual session topics. | K30: =IF((AND(J30=1)), "Fully Mapped", "Not/ Partially Mapped") -> Not/ Partially Mapped
B31: S2.3 | C31: Planning coaching sessions | D31: • develop individual session plans for a series of safe, inclusive and enjoyable coaching sessions, to include: — appropriate aims and objectives — appropriate resources/equipment — appropriate activities to meet the aims and objectives of the coaching session which inspire participant(s) engagement — appropriate timings, sequencing, intensity and duration of activities for the participant(s) — an appropriate range of intervention strategies to support participant(s) learning, considering progressions and regressions. | K31: =IF((AND(J31=1)), "Fully Mapped", "Not/ Partially Mapped") -> Not/ Partially Mapped
A32: 3. Delivery | B32: Ref | C32: Knowledge and understanding: | D32: A Coach must:
B33: K3.1.1 | C33: Participant engagement | D33: • explain the importance of building a positive rapport with the participants to inspire engagement. | K33: {=IF((AND(J33:J35=1)), "Fully Mapped", "Not/ Partially Mapped")} -> Not/ Partially Mapped | L33: =SUM('Workings out'!F3:F19) -> 0
B34: K3.1.2 | D34: • explain the importance of being accessible and approachable to participants.
B35: K3.1.3 | D35: • describe how behaviour management strategies support ongoing participant engagement within the coaching session.
B36: K3.2.1 | C36: Communication | D36: • explain the importance of effective communication in the coaching session. | K36: {=IF((AND(J36:J37=1)), "Fully Mapped", "Not/ Partially Mapped")} -> Not/ Partially Mapped
B37: K3.2.2 | D37: • describe how to adapt communication methods to meet the needs of participants from differing backgrounds, cultures or sport/activity experience.
B38: K3.3.1 | C38: A safe coaching environment | D38: • describe what the key components of a safe coaching environment are. | K38: {=IF((AND(J38:J39=1)), "Fully Mapped", "Not/ Partially Mapped")} -> Not/ Partially Mapped
B39: K3.3.2 | D39: • describe how to safely prepare and subsequently dismantle and store equipment following the coaching sessions.
B40: K3.4 | C40: An inclusive coaching environment | D40: • describe what makes an inclusive coaching environment, to include: — being person-centred (providing a voice and choice to participants) — meeting the participants individual needs (ensuring the motivation for all participants is considered and that the challenge point for all is appropriate) — engaging for all (considering the holistic development of the participant). | K40: =IF((AND(J40=1)), "Fully Mapped", "Not/ Partially Mapped") -> Not/ Partially Mapped
B41: K3.5.1 | C41: An enjoyable coaching environment | D41: • describe what the key components are to ensuring that the coaching environment is enjoyable. | K41: {=IF((AND(J41:J42=1)), "Fully Mapped", "Not/ Partially Mapped")} -> Not/ Partially Mapped
B42: K3.5.2 | D42: • explain the benefits of providing an enjoyable coaching environment.
B43: K3.6.1 | C43: Starting and concluding sessions | D43: • describe the process of starting a session effectively (introductions, sharing aims/objectives/ participant readiness). | K43: {=IF((AND(J43:J46=1)), "Fully Mapped", "Not/ Partially Mapped")} -> Not/ Partially Mapped
B44: K3.6.2 | D44: • explain the value and purpose of a warm-up.
B45: K3.6.3 | D45: • explain the value and purpose of a cool-down.
B46: K3.6.4 | D46: • describe how to conclude a session effectively.
B47: K3.7.1 | C47: Intervention strategies and adaptations | D47: • describe suitable intervention strategies for use within a coaching session. | K47: {=IF((AND(J47:J49=1)), "Fully Mapped", "Not/ Partially Mapped")} -> Not/ Partially Mapped
B48: K3.7.2 | D48: • explain the importance of utilising a range of intervention strategies to aid participant learning.
B49: K3.7.3 | D49: • explain the importance of adapting your sessions to meet the individual needs of the participants.
B50: Ref | C50: Skills: | D50: A Coach must:
B51: S3.1 | C51: Participant engagement | D51: • demonstrate a positive rapport with participants that supports enjoyable coaching sessions, inspiring participants to return to further sport and/or physical activity sessions. | K51: =IF((AND(J51=1)), "Fully Mapped", "Not/ Partially Mapped") -> Not/ Partially Mapped | L51: =SUM('Workings out'!G3:G14) -> 0
B52: S3.2.1 | C52: Communication | D52: • demonstrate communication methods appropriate to the participant to support the participants learning and enjoyment of the coaching sessions. | K52: {=IF((AND(J52:J53=1)), "Fully Mapped", "Not/ Partially Mapped")} -> Not/ Partially Mapped
B53: S3.2.2 | D53: • demonstrate effective two-way communication, including active listening and encouraging participant input.
B54: S3.3.1 | C54: Safe, inclusive and enjoyable sessions | D54: • demonstrate the safety of participants and others throughout coaching sessions. | K54: {=IF((AND(J54:J55=1)), "Fully Mapped", "Not/ Partially Mapped")} -> Not/ Partially Mapped
B55: S3.3.2 | D55: • demonstrate an ability to deliver enjoyable and inclusive coaching sessions.
B56: S3.4 | C56: Professional demeanour | D56: • demonstrate a professional demeanour, to include: — attire — personal attributes — positive first impressions | K56: =IF((AND(J56=1)), "Fully Mapped", "Not/ Partially Mapped") -> Not/ Partially Mapped
B57: S3.5.1 | C57: Starting and concluding sessions | D57: • demonstrate safe assembly and/or setting out of equipment relevant to the coaching sessions. | K57: {=IF((AND(J57:J60=1)), "Fully Mapped", "Not/ Partially Mapped")} -> Not/ Partially Mapped
B58: S3.5.2 | D58: • demonstrate effective start to sessions, to include: — session briefing — warm up.
B59: S3.5.3 | D59: • demonstrate effective conclusions to sessions, to include: — cool down — session conclusion.
B60: S3.5.4 | D60: • demonstrate safe dismantle and storage of equipment after the coaching sessions.
B61: S3.6.1 | C61: Intervention strategies and adaptations | D61: • demonstrate an effective use of intervention strategies to aid participant learning. | K61: {=IF((AND(J61:J62=1)), "Fully Mapped", "Not/ Partially Mapped")} -> Not/ Partially Mapped
B62: S3.6.2 | D62: • demonstrate an ability to effectively adapt sessions, where required, to meet the needs of the participants.
A63: 4. Review | B63: Ref | C63: Knowledge and understanding: | D63: A Coach must:
B64: K4.1.1 | C64: Participant feedback | D64: • explain the importance of gaining participant(s) feedback to inform future sessions. | K64: {=IF((AND(J64:J65=1)), "Fully Mapped", "Not/ Partially Mapped")} -> Not/ Partially Mapped | L64: =SUM('Workings out'!H3:H8) -> 0
B65: K4.1.2 | D65: • describe methods to obtain participant(s) feedback.
B66: K4.2 | C66: Reflection of coaching sessions | D66: • describe how to reflect upon coaching sessions, to include: — reflecting on the effectiveness of coaching sessions whilst they are ongoing (during) to continually question: o if they are meeting the aims and objectives set o if the participants are engaged and learning o if they are meeting the participants individual needs — reflecting on own coaching practice following sessions to: o consider if the sessions met their aims and objectives o consider if the sessions met the participants’ individual needs — identifying how to improve the planning and delivery of future coaching sessions. | K66: =IF((AND(J66=1)), "Fully Mapped", "Not/ Partially Mapped") -> Not/ Partially Mapped
B67: Ref | C67: Skills: | D67: A Coach must:
B68: S4.1 | C68: Participant feedback | D68: • collect and collate participant(s) feedback to inform future sessions. | K68: =IF((AND(J68=1)), "Fully Mapped", "Not/ Partially Mapped") -> Not/ Partially Mapped | L68: =SUM('Workings out'!I3:I4) -> 0
B69: S4.2 | C69: Reflection of coaching session | D69: • reflect on coaching sessions, to include: — reflection whilst the coaching sessions are ongoing, evaluating its effectiveness: o is the session meeting its aims and objectives o are the participants engaged and learning o is the coach meeting participants’ individual needs — reflection on own coaching practice in relation to the coaching sessions meeting their aims and objectives — did the coach adopt appropriate coaching behaviours, intervention strategies and communication skills to enable the aims and objectives to be met — identifying how to improve the planning and delivery of future coaching sessions, for example how could future sessions be improved. | K69: =IF((AND(J69=1)), "Fully Mapped", "Not/ Partially Mapped") -> Not/ Partially Mapped

Sheet % breakdown
B1: Mapping Breakdown shows a breakdown of the percentage that your course has mapped to each sections knowledge and skills criteria, and the overall percentage that your course has mapped to the professional standard
D2: Sections | E2: Specifications | F2: %worth of each section | G2: Total % covered of area | H2: Section % of total standard | I2: % covered of entire standard
B3: 1. Professional practice | C3: Knowledge | D3: 7 | E3: 9 | F3: =100/E3 -> 11.111111 | G3: =SUM('Mapping Template'!L5:L16) -> 0 | H3: =(E3/E11)*100 -> 16.363636 | I3: =(H3/100)*G3 -> 0
C4: Skills | D4: 1 | E4: 1 | F4: =100/E4 -> 100 | G4: =SUM('Mapping Template'!L18) -> 0 | H4: {=(E4/_xlfn.ANCHORARRAY(E11))*100} -> 1.8181818 | I4: =(H4/100)*G4 -> 0
B5: 2. Planning and preparation | C5: Knowledge | D5: 5 | E5: 8 | F5: =100/E5 -> 12.5 | G5: =SUM('Mapping Template'!L20:L27) -> 0 | H5: =(E5/E11)*100 -> 14.545455 | I5: =(H5/100)*G5 -> 0
C6: Skills | D6: 3 | E6: 3 | F6: =100/E6 -> 33.333333 | G6: =SUM('Mapping Template'!L29:L31) -> 0 | H6: =(E6/E11)*100 -> 5.4545455 | I6: =(H6/100)*G6 -> 0
B7: 3. Delivery | C7: Knowledge | D7: 7 | E7: 17 | F7: =100/E7 -> 5.8823529 | G7: =SUM('Mapping Template'!L33:L49) -> 0 | H7: =(E7/E11)*100 -> 30.909091 | I7: =(H7/100)*G7 -> 0
C8: Skills | D8: 6 | E8: 12 | F8: =100/E8 -> 8.3333333 | G8: =SUM('Mapping Template'!L51:L62) -> 0 | H8: =(E8/E11)*100 -> 21.818182 | I8: =(H8/100)*G8 -> 0
B9: 4. Review | C9: Knowledge | D9: 2 | E9: 3 | F9: =100/E9 -> 33.333333 | G9: =SUM('Mapping Template'!L64:L66) -> 0 | H9: =(E9/E11)*100 -> 5.4545455 | I9: =(H9/100)*G9 -> 0
C10: Skills | D10: 2 | E10: 2 | F10: =100/E10 -> 50 | G10: =SUM('Mapping Template'!L68:L69) -> 0 | H10: =(E10/E11)*100 -> 3.6363636 | I10: =(H10/100)*G10 -> 0
B11: Totals | D11: =SUM(D3:D10) -> 33 | E11: =SUM(E3:E10) -> 55 | H11: =SUM(H3:H10) -> 100 | I11: =SUM(I3:I10) -> 0

Sheet Feedback
A1: Standardised feedback comments | B1: Assessment methods
A2: Comprehensive evidence | B2: Assignment
A3: Sufficient evidence | B3: Case study
A4: Further detail required | B4: Dissertation
B5: Exam
B6: Written test
B7: Listening test
B8: Oral test
B9: Performance/ practical
B10: Portfolio
B11: Professional discussion
B12: Project
B13: Simulation
B14: Online test
B15: Attendence only
B16: Multiple
B17: Other

Sheet Workings out
B1: 8.3333333 | C1: 100 | D1: 12.5 | E1: 33.3333 | F1: 5.8823529 | G1: 8.33333 | H1: 33.3333 | I1: 50
B2: K1 | C2: S1 | D2: K2 | E2: S2 | F2: K3 | G2: S3 | H2: K4 | I2: S4
B3: =IF('Mapping Template'!J5=1,8.3,0) -> 0 | C3: =IF('Mapping Template'!J18=1,100,0) -> 0 | D3: =IF('Mapping Template'!J20=1,12.5,0) -> 0 | E3: =IF('Mapping Template'!J29=1,33.3,0) -> 0 | F3: =IF('Mapping Template'!J33=1,5.88,0) -> 0 | G3: =IF('Mapping Template'!J51=1,8.3,0) -> 0 | H3: =IF('Mapping Template'!J64=1,33.3,0) -> 0 | I3: =IF('Mapping Template'!J68=1,50,0) -> 0
B4: =IF('Mapping Template'!J6=1,8.3,0) -> 0 | D4: =IF('Mapping Template'!J21=1,12.5,0) -> 0 | E4: =IF('Mapping Template'!J30=1,33.3,0) -> 0 | F4: =IF('Mapping Template'!J34=1,5.88,0) -> 0 | G4: =IF('Mapping Template'!J52=1,8.3,0) -> 0 | H4: =IF('Mapping Template'!J65=1,33.3,0) -> 0 | I4: =IF('Mapping Template'!J69=1,50,0) -> 0
B5: =IF('Mapping Template'!J7=1,8.3,0) -> 0 | D5: =IF('Mapping Template'!J22=1,12.5,0) -> 0 | E5: =IF('Mapping Template'!J31=1,33.3,0) -> 0 | F5: =IF('Mapping Template'!J35=1,5.88,0) -> 0 | G5: =IF('Mapping Template'!J53=1,8.3,0) -> 0 | H5: =IF('Mapping Template'!J66=1,33.3,0) -> 0
B6: =IF('Mapping Template'!J8=1,8.3,0) -> 0 | D6: =IF('Mapping Template'!J23=1,12.5,0) -> 0 | F6: =IF('Mapping Template'!J36=1,5.88,0) -> 0 | G6: =IF('Mapping Template'!J54=1,8.3,0) -> 0
B7: =IF('Mapping Template'!J9=1,8.3,0) -> 0 | D7: =IF('Mapping Template'!J24=1,12.5,0) -> 0 | F7: =IF('Mapping Template'!J37=1,5.88,0) -> 0 | G7: =IF('Mapping Template'!J55=1,8.3,0) -> 0
B8: =IF('Mapping Template'!J10=1,8.3,0) -> 0 | D8: =IF('Mapping Template'!J25=1,12.5,0) -> 0 | F8: =IF('Mapping Template'!J38=1,5.88,0) -> 0 | G8: =IF('Mapping Template'!J56=1,8.3,0) -> 0
B9: =IF('Mapping Template'!J11=1,8.3,0) -> 0 | D9: =IF('Mapping Template'!J26=1,12.5,0) -> 0 | F9: =IF('Mapping Template'!J39=1,5.88,0) -> 0 | G9: =IF('Mapping Template'!J57=1,8.3,0) -> 0
B10: =IF('Mapping Template'!J12=1,8.3,0) -> 0 | D10: =IF('Mapping Template'!J27=1,12.5,0) -> 0 | F10: =IF('Mapping Template'!J40=1,5.88,0) -> 0 | G10: =IF('Mapping Template'!J58=1,8.3,0) -> 0
B11: =IF('Mapping Template'!J13=1,8.3,0) -> 0 | F11: =IF('Mapping Template'!J41=1,5.88,0) -> 0 | G11: =IF('Mapping Template'!J59=1,8.3,0) -> 0
B12: =IF('Mapping Template'!J14=1,8.3,0) -> 0 | F12: =IF('Mapping Template'!J42=1,5.88,0) -> 0 | G12: =IF('Mapping Template'!J60=1,8.3,0) -> 0
B13: =IF('Mapping Template'!J15=1,8.3,0) -> 0 | F13: =IF('Mapping Template'!J43=1,5.88,0) -> 0 | G13: =IF('Mapping Template'!J61=1,8.3,0) -> 0
B14: =IF('Mapping Template'!J16=1,8.3,0) -> 0 | F14: =IF('Mapping Template'!J44=1,5.88,0) -> 0 | G14: =IF('Mapping Template'!J62=1,8.3,0) -> 0
F15: =IF('Mapping Template'!J45=1,5.88,0) -> 0
F16: =IF('Mapping Template'!J46=1,5.88,0) -> 0
F17: =IF('Mapping Template'!J47=1,5.88,0) -> 0
F18: =IF('Mapping Template'!J48=1,5.88,0) -> 0
F19: =IF('Mapping Template'!J49=1,5.88,0) -> 0
