Workbook

Sheet Guidance
B1: #VALUE!
B2: Swimming Teacher Mapping Template
B3: Edition: V3.4
B4: Publication date: 22nd December 2025
B6: Mapping Guidance - you are here!
B7: Mapping template to reference and evidence where the professional standard is being met by the course/ participant/ qualification
B8: N.B. Examples (e.g.) are given within the LDRs to provide an overview of the knowledge and skills most relevant to the role. It is not mandatory to assess learners against 100% of the examples provided, however, sufficient coverage to ensure occupational competence on achievement must be ensured. This will be reviewed as part of the CIMSPA endorsement process.
B9: For non-regulated qualifications (CPD), where an Education Partner does not meet the full CIMSPA professional standard, it is important to note, that the Education Partner must meet a full Knowledge or Skill LDR. For example, all three sections within K1.1 would need to evidenced for that LDR to partially map to the professional standard.
B10: For further information around product development guidance, please refer to the professional standard within the professional standard library; https://www.cimspa.co.uk/education-training/professional-standards/professional-standards-library/
B11: Alternatively, please view our CIMPSA Partnership Guide; https://www.cimspa.co.uk/education-training/endorsement/
B13: Revision History
B14: Version | C14: Name & Role | D14: Signature & Date | E14: Reason for Change
B15: V3.1 | C15: Aidan Riley Education Officer | D15: AR 30/07/24 | E15: Update to general formatting & implementation of conditional formating to streamline moderator feedback.
B16: V3.2 | C16: Aidan Riley Education Officer | D16: AR 01/10/25 | E16: Update to professional standard V1.1.
B17: V3.3 | C17: Sara Byrne Technical Education Manager | D17: SB 03/12/2025 | E17: Update to K1.2 to include Mental Health Awareness- feedback from Professional Development Boards. Updated Endorsement link.
B18: V3.4 | C18: Sara Byrne Technical Education Manager | D18: SB 22/12/2025 | E18: Amendments to refs, changed learning outcomes to comptency statements, competency statements to topics and changed bullets throughout the MT in line with updated PS. AR updated conditional formatting.
B20: E endorsements@cimspa.co.uk T 03438 360200 W www.cimspa.co.uk
B21: Chartered Institute for the Management of Sport and Physical Activity,
B22: SportPark Loughborough University, 3 Oakwood Drive, Loughborough, Leicestershire LE11 3QF
B23: Incorporated by Royal Charter Charity Registration No. 1144545

Sheet Mapping Template
E1: Education Product Title: INSERT HERE
A2: Professional Standard: Swimming Teacher | E2: Partner Mapping Section | J2: Moderator Feedback Section | Q2: IV Feedback Section
A3: Key areas | B3: Topics | D3: Competencey statements | E3: Evidence (sign post to SOW / course specification / supporting documents) | F3: Assessment Method | G3: Further Comments (expand on evidence within column E) | H3: Response to Moderator Feedback Section (second review evidence - if applicable) | J3: Score | K3: Mapping to point | L3: % mapped to section | M3: Moderator comments | N3: General Feedback (first review) | O3: General Feedback (second review - if applicable) | Q3: IV Comments
A4: 1. Professional practice | B4: Ref | C4: Knowledge and understanding: | D4: A Swimming Teacher must:
B5: K1.1.1 | C5: Professional conduct | D5: • identify the roles and responsibilities of a Swimming Teacher. | K5: {=IF((AND(J5:J8=1)), "Fully Mapped", "Not/ Partially Mapped")} -> Not/ Partially Mapped | L5: =SUM('Workings out'!B3:B17) -> 0
B6: K1.1.2 | D6: • identify the professional boundaries of a Swimming Teacher, including adherence to the code of conduct, maintaining appropriate personal behaviour, and working within the scope of the role.
B7: K1.1.3 | D7: • identify the roles and responsibilities of other staff within the swimming teaching environment. For example: — assistant/helper — swim coordinator/managers — lifeguards — first aiders — reception — management.
B8: K1.1.4 | D8: • explain how to work with other staff within the swimming teaching environment.
B9: K1.2.1 | C9: Mental health awareness | D9: • describe key concepts related to mental health, to include: — mental health — mental wellbeing — mental health problems. | K9: {=IF((AND(J9:J12=1)), "Fully Mapped", "Not/ Partially Mapped")} -> Not/ Partially Mapped
B10: K1.2.2 | D10: • recognise professional boundaries and identify which specialists can provide additional health and wellbeing support.
B11: K1.2.3 | D11: • describe how to provide relevant support to an individual struggling with their mental health, to include: — the immediate support a swimming teacher can offer — the process for signposting to professional support services.
B12: K1.2.4 | D12: • identify strategies for maintaining personal mental health and wellbeing.
B13: K1.3 | C13: Communication | D13: • describe different methods of communication and when they should be used in the swimming lesson environment. | K13: =IF((AND(J13=1)), "Fully Mapped", "Not/ Partially Mapped") -> Not/ Partially Mapped
B14: K1.4.1 | C14: Customer service | D14: • describe the swimming teacher’s role in providing high levels of customer care and engagement. | K14: {=IF((AND(J14:J17=1)), "Fully Mapped", "Not/ Partially Mapped")} -> Not/ Partially Mapped
B15: K1.4.2 | D15: • identify a range of swimming-related programmes and services. For example: — 1-1 lessons — intensive lessons — specialist lessons — advanced swimming lessons.
B16: K1.4.3 | D16: • describe the importance of participant retention and how swimming teachers can support this through positive engagement, including signposting or referring participants when necessary.
B17: K1.4.4 | D17: • describe the importance of reporting feedback from customers.
B18: K1.5.1 | C18: Developing self | D18: • describe the importance of ongoing learning and development for swimming teachers, using both formal and informal methods such as mentoring, observing others, training, research, and reading to stay current in professional practice. | K18: {=IF((AND(J18:J19=1)), "Fully Mapped", "Not/ Partially Mapped")} -> Not/ Partially Mapped
B19: K1.5.2 | D19: • identify learning and development opportunities for a swimming teacher. For example, continuous professional development through: — mentoring — observing — undertaking other education and training — personal research — reading.
B20: Ref | C20: Skills: | D20: A Swimming Teacher must:
B21: S1.1 | C21: Professional practice | D21: • demonstrate a professional manner as a swimming teacher, for example: — effective customer care and engagement — appropriate body language — appropriate attire — suitable use of language — time management. | K21: =IF((AND(J21=1)), "Fully Mapped", "Not/ Partially Mapped") -> Not/ Partially Mapped | L21: =SUM('Workings out'!C3:C5) -> 0
B22: S1.2.1 | C22: Teamwork | D22: • demonstrate teamwork skills when teaching with other swimming teachers and/or assistants/helpers. | K22: {=IF((AND(J22:J23=1)), "Fully Mapped", "Not/ Partially Mapped")} -> Not/ Partially Mapped
B23: S1.2.2 | D23: • demonstrate communication skills when teaching with other swimming teachers and/or assistants/ helpers.
A24: 2. Safe teaching practice, industry legislation and guidance | B24: Ref | C24: Knowledge and understanding: | D24: A Swimming Teacher must:
B25: K2.1.1 | C25: Safe working environment and practices | D25: • identify the policies and procedures relevant to a swimming teacher, to include: — normal operating plans (NOPs) — emergency action plans (EAPs) — health and safety — data protection — safeguarding — equality, diversity and inclusion. | K25: {=IF((AND(J25:J26=1)), "Fully Mapped", "Not/ Partially Mapped")} -> Not/ Partially Mapped | L25: =SUM('Workings out'!D3:D12) -> 0
B26: K2.1.2 | D26: • identify components of standard operating procedures including normal operating plans and emergency action plans, relevant to the role of a swimming teacher.
B27: K2.2.1 | C27: Safe teaching practice | D27: • identify safety aspects of teaching from the poolside and in the water. | K27: {=IF((AND(J27:J29=1)), "Fully Mapped", "Not/ Partially Mapped")} -> Not/ Partially Mapped
B28: K2.2.2 | D28: • identify operational procedures of swimming equipment, to include: — safe set up. — use and storage of equipment — adhering to manufacturers’ guidelines — safe manual handling techniques.
B29: K2.2.3 | D29: • explain advantages and disadvantages of different types of equipment used for swimming lessons.
B30: K2.3.1 | C30: Hazards | D30: • identify potential hazards relating to swimming lessons, to include: — environment — people — equipment. | K30: {=IF((AND(J30:J32=1)), "Fully Mapped", "Not/ Partially Mapped")} -> Not/ Partially Mapped
B31: K2.3.2 | D31: • describe how to mitigate against swimming lesson hazards, to include: — environment — people — equipment.
B32: K2.3.3 | D32: • describe the process of risk assessing swimming lessons.
B33: K2.4 | C33: Key legislation | D33: • identify how to comply with legal and regulatory requirements relevant to a swimming teacher, to include: - Equality act. - Health and safety at work act. - Safeguarding children and adults at risk. - Data protection. | K33: =IF((AND(J33=1)), "Fully Mapped", "Not/ Partially Mapped") -> Not/ Partially Mapped
B34: K2.5 | C34: Sector bodies and guidance | D34: • identify the sector bodies and guidance relevant to a swimming teacher, to include: — sector bodies: o Aquatics GB o home country sports councils o World Aquatics o CIMSPA — sector guidance: o Safeguarding children and adults at risk o Safe supervision o Health and safety o Governing bodies’ guidance. | K34: =IF((AND(J34=1)), "Fully Mapped", "Not/ Partially Mapped") -> Not/ Partially Mapped
B35: Ref | C35: Skills: | D35: A Swimming Teacher must:
B36: S2.1.1 | C36: Safe teaching practices | D36: • demonstrate safe teaching practice from the poolside and in the water, including using manual support. | K36: {=IF((AND(J36:J37=1)), "Fully Mapped", "Not/ Partially Mapped")} -> Not/ Partially Mapped | L36: =SUM('Workings out'!E3:E6) -> 0
B37: S2.1.2 | D37: • demonstrate the safe use of swimming equipment, to include: — safe set up — use and storage of equipment — adhering to manufacturers’ guidelines — safe manual handling techniques.
B38: S2.2 | C38: Hazards and risk assessment | D38: • demonstrate appropriate action to deal with identified hazards based on the level of risk (risk assessment). | K38: =IF((AND(J38=1)), "Fully Mapped", "Not/ Partially Mapped") -> Not/ Partially Mapped
B39: S2.3 | C39: Legal and regulatory requirements | D39: • demonstrate adhering to relevant legal and regulatory policies and procedures. | K39: =IF((AND(J39=1)), "Fully Mapped", "Not/ Partially Mapped") -> Not/ Partially Mapped
A40: 3. Technical knowledge and skills | B40: Ref | C40: Knowledge and understanding: | D40: A Swimming Teacher must:
B41: K3.1.1 | C41: Technical aquatics knowledge | D41: • state progressive practices for the four swimming strokes across all three ability groups (see appendix). | K41: {=IF((AND(J41:J44=1)), "Fully Mapped", "Not/ Partially Mapped")} -> Not/ Partially Mapped | L41: =SUM('Workings out'!F3:F7) -> 0
B42: K3.1.2 | D42: • state progressive practices for all aquatic skills across all three ability groups (see appendix).
B43: K3.1.3 | D43: • identify faults and corrective practices for the four swimming strokes across all three ability groups (see appendix).
B44: K3.1.4 | D44: • identify faults and corrective practices for all aquatic skills across all three ability groups (see appendix).
B45: K3.2 | C45: Participant pathway | D45: • describe participant pathways, to include: — learn to swim frameworks — additional aquatic pathways — school swimming — physical literacy. | K45: =IF((AND(J45=1)), "Fully Mapped", "Not/ Partially Mapped") -> Not/ Partially Mapped
B46: Ref | C46: Skills: | D46: A Swimming Teacher must:
B47: S3.1.1 | C47: Technical Aquatic Skills | D47: • demonstrate teaching progressive practices for the four strokes across all three ability groups (see appendix), to include: — body position — leg action — arm action — breathing — timing practices. | K47: {=IF((AND(J47:J48=1)), "Fully Mapped", "Not/ Partially Mapped")} -> Not/ Partially Mapped | L47: =SUM('Workings out'!G3:G8) -> 0
B48: S3.1.2 | D48: • demonstrate teaching progressive practices for all aquatic skills across all three ability groups (see appendix), to include: — entries and exits — movement and water confidence — submersion and breathing — streamlining — rotation and orientation — floatation — water safety skills.
B49: S3.2.1 | C49: Corrective practice/ faults | D49: • demonstrate suitable corrective practices for the four swimming strokes across all three ability groups (see appendix). | K49: {=IF((AND(J49:J52=1)), "Fully Mapped", "Not/ Partially Mapped")} -> Not/ Partially Mapped
B50: S3.2.2 | D50: • demonstrate analysis of strokes and determine the relevant fault/s across all four strokes (see appendix).
B51: S3.2.3 | D51: • demonstrate analysis of aquatic skills and determine the relevant fault/s for each aquatic skill (see appendix).
B52: S3.2.4 | D52: • demonstrate suitable corrective practices for all aquatic skills across all three ability groups (see appendix).
A53: 4. Plan, deliver and review swimming lessons | B53: Ref | C53: Knowledge and understanding: | D53: A Swimming Teacher must:
B54: K4.1.1 | C54: Planning swimming lessons | D54: • describe the importance of planning swimming lessons. | K54: {=IF((AND(J54:J60=1)), "Fully Mapped", "Not/ Partially Mapped")} -> Not/ Partially Mapped | L54: =SUM('Workings out'!H3:H18) -> 0
B55: K4.1.2 | D55: • identify components of lessons plans, to include: — warm-up — main theme — contrasting activity.
B56: K4.1.3 | D56: • describe the importance of planning for progression over time, suitable to participant’s needs and the swimming lesson environment.
B57: K4.1.4 | D57: • know how to plan for individual lessons which are safe, inclusive, fun, progressive and appropriate to the participant’s needs including warm-up, main theme and contrasting activity across all three ability groups (see appendix).
B58: K4.1.5 | D58: • know how to plan a scheme of work which is safe, fun, progressive, inclusive and appropriate to the participant’s needs (see glossary).
B59: K4.1.6 | D59: • identify different participant needs when planning swimming lessons, for example: — educational or cultural needs — disability — fear of water.
B60: K4.1.7 | D60: • explain factors that can impact participant’s progression and regression including scientific principles, stages of development and learning.
B61: K4.2.1 | C61: Preparing to deliver swimming lessons | D61: • identify how to prepare for the delivery of swimming lessons, for example: — collection and organisation of equipment — teaching area — collecting and returning participants. | K61: {=IF((AND(J61:J66=1)), "Fully Mapped", "Not/ Partially Mapped")} -> Not/ Partially Mapped
B62: K4.2.2 | D62: • know how to deliver swimming lessons which are safe, fun, progressive and inclusive appropriate to the participants needs across all three ability groups (see appendix).
B63: K4.2.3 | D63: • identify different teaching methods and when to implement them. For example: — shallow versus deep — 1-1 versus group.
B64: K4.2.4 | D64: • explain how to assess and progress participants.
B65: K4.2.5 | D65: • identify ways to adapt relevant to participant’s needs including adapting the lesson and progressive practices, for example: — change of equipment — change in activity — change in communication method.
B66: K4.2.6 | D66: • explain ways to manage lessons, to include: — behavioural strategies — organisational methods — participant rapport — engagement and safety.
B67: K4.3 | C67: Evaluate swimming lessons | D67: • describe methods for evaluating swimming lessons and teaching performance. | K67: =IF((AND(J67=1)), "Fully Mapped", "Not/ Partially Mapped") -> Not/ Partially Mapped
B68: K4.4.1 | C68: Record keeping | D68: • identify the legislation regarding record keeping and how to keep records securely. | K68: {=IF((AND(J68:J69=1)), "Fully Mapped", "Not/ Partially Mapped")} -> Not/ Partially Mapped
B69: K4.4.2 | D69: • identify what records need to be kept.
B70: Ref | C70: Skills: | D70: A Swimming Teacher must:
B71: S4.1.1 | C71: Plan swimming lessons | D71: • plan a scheme of work which is safe, fun, progressive and inclusive and appropriate to the participants needs (see glossary). | K71: {=IF((AND(J71:J72=1)), "Fully Mapped", "Not/ Partially Mapped")} -> Not/ Partially Mapped | L71: =SUM('Workings out'!I3:I15) -> 0
B72: S4.1.2 | D72: • plan and prepare individual lessons which are safe, fun, progressive and inclusive swimming lessons appropriate to the participants needs, across all three ability groups (see appendix).
B73: S4.2.1 | C73: Prepare and deliver swimming lessons | D73: • prepare for the delivery of swimming lessons. | K73: {=IF((AND(J73:J81=1)), "Fully Mapped", "Not/ Partially Mapped")} -> Not/ Partially Mapped
B74: S4.2.2 | D74: • demonstrate the ability to deliver swimming lessons which are safe, fun, progressive, inclusive and appropriate to the participants needs, across all three ability groups (see appendix).
B75: S4.2.3 | D75: • apply adaptations across all three ability groups, aquatics skills and strokes appropriate to the participants needs, for example: — change of equipment — change in activity — change in communication method.
B76: S4.2.4 | D76: • demonstrate problem solving skills and use of own initiative.
B77: S4.2.5 | D77: • demonstrate effective time management when delivering swimming lessons, including maximising active movement time.
B78: S4.2.6 | D78: • demonstrate effective verbal and non-verbal communication skills whilst delivering swimming lessons, for example: — verbal instructions — hand signals — gestures — positive body language — tone of voice — animation.
B79: S4.2.7 | D79: • demonstrate effective feedback skills whilst delivering lessons.
B80: S4.2.8 | D80: • perform accurate demonstrations for all aquatic skills and strokes, from recommended teaching positions, when delivering swimming lessons.
B81: S4.2.9 | D81: • demonstrate effective lesson management including behavioural strategies, organisation methods, participant rapport and engagement and safety.
B82: S4.3.1 | C82: Evaluation and personal development | D82: • evaluate teaching performance following the delivery of lessons. | K82: {=IF((AND(J82:J83=1)), "Fully Mapped", "Not/ Partially Mapped")} -> Not/ Partially Mapped
B83: S4.3.2 | D83: • develop a personal action plan.

Sheet % breakdown
B1: Mapping Breakdown shows a breakdown of the percentage that your course has mapped to each sections knowledge and skills criteria, and the overall percentage that your course has mapped to the professional standard
D2: Sections | E2: Specifications | F2: %worth of each section | G2: Total % covered of area | H2: Section % of total standard | I2: % covered of entire standard
B3: 1. Professional Practice | C3: Knowledge | D3: 5 | E3: 16 | F3: =100/E3 -> 6.25 | G3: =SUM('Mapping Template'!L5:L19) -> 0 | H3: =(E3/E11)*100 -> 21.917808 | I3: =(H3/100)*G3 -> 0
C4: Skills | D4: 2 | E4: 3 | F4: =100/E4 -> 33.333333 | G4: =SUM('Mapping Template'!L21:L23) -> 0 | H4: {=(E4/_xlfn.ANCHORARRAY(E11))*100} -> 4.109589 | I4: =(H4/100)*G4 -> 0
B5: 2. Safe Teaching Practice, Industry Legislation and Guidance | C5: Knowledge | D5: 5 | E5: 10 | F5: =100/E5 -> 10 | G5: =SUM('Mapping Template'!L25:L34) -> 0 | H5: =(E5/E11)*100 -> 13.69863 | I5: =(H5/100)*G5 -> 0
C6: Skills | D6: 3 | E6: 4 | F6: =100/E6 -> 25 | G6: =SUM('Mapping Template'!L36:L39) -> 0 | H6: =(E6/E11)*100 -> 5.4794521 | I6: =(H6/100)*G6 -> 0
B7: 3. Technical Knowledge and Skills | C7: Knowledge | D7: 2 | E7: 5 | F7: =100/E7 -> 20 | G7: =SUM('Mapping Template'!L41:L45) -> 0 | H7: =(E7/E11)*100 -> 6.8493151 | I7: =(H7/100)*G7 -> 0
C8: Skills | D8: 2 | E8: 6 | F8: =100/E8 -> 16.666667 | G8: =SUM('Mapping Template'!L47:L52) -> 0 | H8: =(E8/E11)*100 -> 8.2191781 | I8: =(H8/100)*G8 -> 0
B9: 4. Plan, Deliver and Review Swimming Lessons | C9: Knowledge | D9: 4 | E9: 16 | F9: =100/E9 -> 6.25 | G9: =SUM('Mapping Template'!L54:L69) -> 0 | H9: =(E9/E11)*100 -> 21.917808 | I9: =(H9/100)*G9 -> 0
C10: Skills | D10: 3 | E10: 13 | F10: =100/E10 -> 7.6923077 | G10: =SUM('Mapping Template'!L71:L83) -> 0 | H10: =(E10/E11)*100 -> 17.808219 | I10: =(H10/100)*G10 -> 0
B11: Totals | D11: =SUM(D3:D10) -> 26 | E11: =SUM(E3:E10) -> 73 | H11: =SUM(H3:H10) -> 100 | I11: =SUM(I3:I10) -> 0

Sheet Feedback
A1: Standardised feedback comments | B1: Assessment methods
A2: Comprehensive evidence | B2: Assignment
A3: Sufficient evidence | B3: Case study
A4: Further detail required | B4: Dissertation
B5: Exam
B6: Written test
B7: Listening test
B8: Oral test
B9: Performance/ practical
B10: Portfolio
B11: Professional discussion
B12: Project
B13: Simulation
B14: Online test
B15: Attendence only
B16: Multiple
B17: Other

Sheet Workings out
B1: 6.6666667 | C1: 33.3 | D1: 10 | E1: 25 | F1: 20 | G1: 16.666667 | H1: 6.25 | I1: 7.6923077
B2: K1 | C2: S1 | D2: K2 | E2: S2 | F2: K3 | G2: S3 | H2: K4 | I2: S4
B3: =IF('Mapping Template'!J5=1,B$1,0) -> 0 | C3: =IF('Mapping Template'!J21=1,C$1,0) -> 0 | D3: =IF('Mapping Template'!J25=1,D$1,0) -> 0 | E3: =IF('Mapping Template'!J36=1,E$1,0) -> 0 | F3: =IF('Mapping Template'!J41=1,F$1,0) -> 0 | G3: =IF('Mapping Template'!J47=1,G$1,0) -> 0 | H3: =IF('Mapping Template'!J54=1,H$1,0) -> 0 | I3: =IF('Mapping Template'!J71=1,I$1,0) -> 0
B4: =IF('Mapping Template'!J6=1,B$1,0) -> 0 | C4: =IF('Mapping Template'!J22=1,C$1,0) -> 0 | D4: =IF('Mapping Template'!J26=1,D$1,0) -> 0 | E4: =IF('Mapping Template'!J37=1,E$1,0) -> 0 | F4: =IF('Mapping Template'!J42=1,F$1,0) -> 0 | G4: =IF('Mapping Template'!J48=1,G$1,0) -> 0 | H4: =IF('Mapping Template'!J55=1,H$1,0) -> 0 | I4: =IF('Mapping Template'!J72=1,I$1,0) -> 0
B5: =IF('Mapping Template'!J7=1,B$1,0) -> 0 | C5: =IF('Mapping Template'!J23=1,C$1,0) -> 0 | D5: =IF('Mapping Template'!J27=1,D$1,0) -> 0 | E5: =IF('Mapping Template'!J38=1,E$1,0) -> 0 | F5: =IF('Mapping Template'!J43=1,F$1,0) -> 0 | G5: =IF('Mapping Template'!J49=1,G$1,0) -> 0 | H5: =IF('Mapping Template'!J56=1,H$1,0) -> 0 | I5: =IF('Mapping Template'!J73=1,I$1,0) -> 0
B6: =IF('Mapping Template'!J8=1,B$1,0) -> 0 | D6: =IF('Mapping Template'!J28=1,D$1,0) -> 0 | E6: =IF('Mapping Template'!J39=1,E$1,0) -> 0 | F6: =IF('Mapping Template'!J44=1,F$1,0) -> 0 | G6: =IF('Mapping Template'!J50=1,G$1,0) -> 0 | H6: =IF('Mapping Template'!J57=1,H$1,0) -> 0 | I6: =IF('Mapping Template'!J74=1,I$1,0) -> 0
B7: =IF('Mapping Template'!J9=1,B$1,0) -> 0 | D7: =IF('Mapping Template'!J29=1,D$1,0) -> 0 | F7: =IF('Mapping Template'!J45=1,F$1,0) -> 0 | G7: =IF('Mapping Template'!J51=1,G$1,0) -> 0 | H7: =IF('Mapping Template'!J58=1,H$1,0) -> 0 | I7: =IF('Mapping Template'!J75=1,I$1,0) -> 0
B8: =IF('Mapping Template'!J10=1,B$1,0) -> 0 | D8: =IF('Mapping Template'!J30=1,D$1,0) -> 0 | G8: =IF('Mapping Template'!J52=1,G$1,0) -> 0 | H8: =IF('Mapping Template'!J59=1,H$1,0) -> 0 | I8: =IF('Mapping Template'!J76=1,I$1,0) -> 0
B9: =IF('Mapping Template'!J11=1,B$1,0) -> 0 | D9: =IF('Mapping Template'!J31=1,D$1,0) -> 0 | H9: =IF('Mapping Template'!J60=1,H$1,0) -> 0 | I9: =IF('Mapping Template'!J77=1,I$1,0) -> 0
B10: =IF('Mapping Template'!J12=1,B$1,0) -> 0 | D10: =IF('Mapping Template'!J32=1,D$1,0) -> 0 | H10: =IF('Mapping Template'!J61=1,H$1,0) -> 0 | I10: =IF('Mapping Template'!J78=1,I$1,0) -> 0
B11: =IF('Mapping Template'!J13=1,B$1,0) -> 0 | D11: =IF('Mapping Template'!J33=1,D$1,0) -> 0 | H11: =IF('Mapping Template'!J62=1,H$1,0) -> 0 | I11: =IF('Mapping Template'!J79=1,I$1,0) -> 0
B12: =IF('Mapping Template'!J14=1,B$1,0) -> 0 | D12: =IF('Mapping Template'!J34=1,D$1,0) -> 0 | H12: =IF('Mapping Template'!J63=1,H$1,0) -> 0 | I12: =IF('Mapping Template'!J80=1,I$1,0) -> 0
B13: =IF('Mapping Template'!J15=1,B$1,0) -> 0 | H13: =IF('Mapping Template'!J64=1,H$1,0) -> 0 | I13: =IF('Mapping Template'!J81=1,I$1,0) -> 0
B14: =IF('Mapping Template'!J16=1,B$1,0) -> 0 | H14: =IF('Mapping Template'!J65=1,H$1,0) -> 0 | I14: =IF('Mapping Template'!J82=1,I$1,0) -> 0
B15: =IF('Mapping Template'!J17=1,B$1,0) -> 0 | H15: =IF('Mapping Template'!J66=1,H$1,0) -> 0 | I15: =IF('Mapping Template'!J83=1,I$1,0) -> 0
B16: =IF('Mapping Template'!J18=1,B$1,0) -> 0 | H16: =IF('Mapping Template'!J67=1,H$1,0) -> 0
B17: =IF('Mapping Template'!J19=1,B$1,0) -> 0 | H17: =IF('Mapping Template'!J68=1,H$1,0) -> 0
H18: =IF('Mapping Template'!J69=1,H$1,0) -> 0
