Workbook

Sheet Guidance
B1: #VALUE!
B2: Physical Literacy Mapping Template
B3: Edition: V1.0
B4: Publication date: 07/01/2026
B6: Mapping Guidance - you are here!
B7: Mapping template to reference and evidence where the professional standard is being met by the course/ participant/ qualification
B8: N.B. Examples (e.g.) are given within the LDRs to provide an overview of the knowledge and skills most relevant to the role. It is not mandatory to assess learners against 100% of the examples provided, however, sufficient coverage to ensure occupational competence on achievement must be ensured. This will be reviewed as part of the CIMSPA endorsement process.
B9: For non-regulated qualifications (CPD), where an Education Partner does not meet the full CIMSPA professional standard, it is important to note, that the Education Partner must meet a full Knowledge or Skill LDR. For example, all three sections within K1.1 would need to evidenced for that LDR to partially map to the professional standard.
B10: For further information around product development guidance, please refer to the professional standard within the professional standard library; https://www.cimspa.co.uk/education-training/professional-standards/professional-standards-library/
B11: Alternatively, please view our CIMPSA Partner Endorsement Guide; https://cimspa.co.uk/education-training/endorsement/
B13: Revision History
B14: Version | C14: Name & Role | D14: Signature & Date | E14: Reason for Change
A15: c | B15: V1.0 | C15: Aidan Riley Education Officer | D15: AR 06/01/2026 | E15: Created Mapping Template
B20: E endorsements@cimspa.co.uk T 03438 360200 W www.cimspa.co.uk
B21: Chartered Institute for the Management of Sport and Physical Activity,
B22: SportPark Loughborough University, 3 Oakwood Drive, Loughborough, Leicestershire LE11 3QF
B23: Incorporated by Royal Charter Charity Registration No. 1144545

Sheet Mapping Template
E1: Education Product Title: INSERT HERE
A2: Professional Standard: Physical Literacy | E2: Partner Mapping Section | J2: Moderator Feedback Section | Q2: IV Feedback Section
A3: Key areas | B3: Topics | D3: Competencey statements | E3: Evidence (sign post to SOW / course specification / supporting documents) | F3: Assessment Method | G3: Further Comments (expand on evidence within column E) | H3: Response to Moderator Feedback Section (second review evidence - if applicable) | J3: Score | K3: Mapping to point | L3: % mapped to section | M3: Moderator comments | N3: General Feedback (first review) | O3: General Feedback (second review - if applicable) | Q3: IV Comments
A4: 1. Technical knowledge for Physical Literacy-informed sessions | B4: Ref | C4: Knowledge and understanding: | D4: Those delivering Physical Literacy-informed sessions must:
B5: K1.1.1 | C5: Definition of Physical Literacy | D5: • explain the background and underlying philosophy (monism, existentialism and phenomenology) of Physical Literacy. This should include: — the emphasis on holistic development through the cognitive, physical, social and affective domains of learning — the importance of positive and meaningful physical activity experiences in shaping values, habits, attitudes and beliefs about physical activity — the individual and unique nature of a Physical Literacy journey in shaping preferences, values and attitudes towards physical activity. | K5: {=IF((AND(J5:J7=1)), "Fully Mapped", "Not/ Partially Mapped")} -> Not/ Partially Mapped | L5: =SUM('Workings out'!B2:B9) -> 0
B6: K1.1.2 | D6: • analyse the variations and interpretations of Physical Literacy, including its foundations, and challenge misconceptions such as Physical Literacy as synonymous with fundamental movement skills.
B7: K1.1.3 | D7: • explore appropriate definitions and apply in relation to the learner’s context.
B8: K1.2.1 | C8: Key principles of Physical Literacy | D8: • explain the key principles associated with Physical Literacy, including those within the THRIVE acronym: — Tailored – programmes and/or sessions are bespoke and planned with the participants in mind, including their developmental needs and preferences — Holistic – programmes and/or sessions support the development of the cognitive, social, physical and affective aspects of learning — Reflective – programmes and/or sessions are reflected upon to consider how they support the ongoing development of Physical Literacy — Inclusive – programmes and/or sessions are designed to support inclusivity, making reasonable adjustments and adaptations where appropriate to ensure all participants feel a sense of belonging and fulfil their potential — Varied – programmes and/or sessions are informed by a variety of pedagogical approaches to maintain interest and support motivation but also to guard against early specialisation or overuse/overtraining — Empowering – programmes and/or sessions should be designed to continue to inspire the promote a positive relationship with movement and physical activity. | K8: {=IF((AND(J8:J9=1)), "Fully Mapped", "Not/ Partially Mapped")} -> Not/ Partially Mapped
B9: K1.2.2 | D9: • explain the importance of a person-centred approach, to include: — participant voice and co-design – programmes and/or sessions should utilise participant voice in evaluation and design — motivational and supportive environments – programmes and/or sessions should encourage participants to feel safe, encouraged, empowered to learn, grow and contribute positively — how making progress on their own Physical Literacy journey should be encouraged instead of comparison with others.
B10: K1.3 | C10: Benefits of Physical Literacy | D10: • explain the benefits associated with Physical Literacy-informed practice, such as: — the benefits of a holistic approach: o The importance of lifelong engagement in physical activity and a healthy and physically active lifestyle (using a variety of examples supporting the development of the cognitive domain) o Increased confidence and self-esteem (using a variety of examples supporting the development of the affective domain) o Development of physical competency (using a variety of examples supporting the development of the physical domain) o Social benefits (using a variety of examples supporting the development of the social domain) — the benefits of understanding previous lived experiences and meeting participants where they are — the importance of facilitating positive and meaningful physical activity experiences in shaping values, attitudes and beliefs about physical activity — the benefits of a person centred and inclusive environment that takes into consideration individual differences and preferences. | K10: =IF((AND(J10=1)), "Fully Mapped", "Not/ Partially Mapped") -> Not/ Partially Mapped
B11: K1.4.1 | C11: Application of Physical Literacy principles | D11: • describe how the deliberate address of Physical Literacy principles can be applied to a range of different stakeholders, such as: — parents and carers — volunteers — coaches — educators — participants — physical activity professionals — allied health professionals — the wider community – for example, youth organisations. | K11: {=IF((AND(J11:J12=1)), "Fully Mapped", "Not/ Partially Mapped")} -> Not/ Partially Mapped
B12: K1.4.2 | D12: • describe how the implementation of a Physical Literacy-informed approach may vary across different contexts such as: — informal sport and physical activity settings — formal sport and physical activity settings — leisure and recreation — fitness and health.
A13: 2. Plan, deliver and reflect on Physical Literacy-informed sessions | B13: Ref | C13: Knowledge and understanding: | D13: Those delivering Physical Literacy-informed sessions must:
B14: K2.1.1 | C14: The participant(s) | D14: • identify aspects about individual participant(s) that are important to consider prior to any holistic, inclusive, safe and enjoyable Physical Literacy-informed session, for example: — motivations — previous experience and ability — personal background — medical history. | K14: {=IF((AND(J14:J15=1)), "Fully Mapped", "Not/ Partially Mapped")} -> Not/ Partially Mapped | L14: =SUM('Workings out'!C2:C6) -> 0
B15: K2.1.2 | D15: • consider how to build and sustain a positive relationship and motivational climate with participants.
B16: K2.2 | C16: Planning Physical Literacy-informed sessions | D16: • describe how to plan holistic, inclusive, safe and enjoyable Physical Literacy-informed sessions, to include: — holistic aims and learning objectives – including how the cognitive, social, physical and affective aspects of learning, combined with the participants’ previous experiences, are all considered to influence the development of Physical Literacy — how inclusive activities should be planned to ensure that all participants are suitably challenged with clear adaptations taking into consideration individual preferences and differences — considering how to ensure activities are safe – for example making sure activities are developmentally appropriate or providing psychological safety through low stakes environments or the careful and considered use of competition — suitable and progressive activities which will promote positive engagement and a meaningful relationship with movement and sport and physical activity. | K16: =IF((AND(J16=1)), "Fully Mapped", "Not/ Partially Mapped") -> Not/ Partially Mapped
B17: K2.3 | C17: Delivering Physical Literacy-informed sessions | D17: • describe how to deliver holistic, inclusive, safe and enjoyable Physical Literacy-informed sessions, to include: — careful consideration of session structure – what informed the rationale of the design of the learning episodes/cycles and activities, for example: o exploring linear and non-linear approaches (direct instruction or guided discovery), models- based practice or a constraints-led approach o how to facilitate smooth transitions, take into consideration prior learning, scan and support participants and or ensure activities are suitably adapted and progressed — how to design and deliver activities that support holistic learning development — how to deliver planned activities to promote a positive and meaningful relationship with movement and physical activity for life — understanding the social and cultural factors that influence engagement in physical activity and planning appropriate activities that are relevant and meaningful to participants — the importance of adapting Physical Literacy-informed sessions where required to meet the needs of the individual participants. | K17: =IF((AND(J17=1)), "Fully Mapped", "Not/ Partially Mapped") -> Not/ Partially Mapped
B18: K2.4 | C18: Reflection of Physical Literacy-informed session | D18: • describe how to reflect upon holistic, inclusive, safe and enjoyable Physical Literacy-informed sessions, to include: — reflecting on the effectiveness of the sessions during and after, systematically asking whether cognitive, social, physical and affective domains of learning are or have been developed — identifying how to improve the planning and delivery of future Physical Literacy-informed sessions — considering whether all participants were included within the session ensuring they were appropriately challenged, supported and made progress that was of value to them as individuals — evaluation of whether the session facilitated a motivational climate and facilitated positive and meaningful engagement. | K18: =IF((AND(J18=1)), "Fully Mapped", "Not/ Partially Mapped") -> Not/ Partially Mapped
B19: Ref | C19: Skills: | D19: Those delivering Physical Literacy-informed sessions must:
B20: S2.1 | C20: Planning Physical Literacy-informed Sessions | D20: • demonstrate an ability to plan Physical Literacy-informed sessions, to include: — relevant aims and learning objectives focussed on cognitive, social, physical and affective aspects of participants’ learning — suitable and developmentally appropriate activities which will promote a positive and meaningful relationship with movement and physical activity for life — a consideration for inclusivity including providing adaptations and progressive practices to facilitate progress and appropriate challenge. | K20: =IF((AND(J20=1)), "Fully Mapped", "Not/ Partially Mapped") -> Not/ Partially Mapped | L20: =SUM('Workings out'!D2:D9) -> 0
B21: S2.2.1 | C21: Delivering Physical Literacy-informed sessions | D21: • deliver holistic, inclusive, safe and enjoyable sessions which incorporate the key principles of Physical Literacy. | K21: {=IF((AND(J21:J22=1)), "Fully Mapped", "Not/ Partially Mapped")} -> Not/ Partially Mapped
B22: S2.2.2 | D22: • demonstrate clear and observable efforts to support holistic development, inclusivity and participant engagement.
B23: S2.3.1 | C23: Reflection of Physical Literacy-informed sessions | D23: • reflect upon the Physical Literacy-informed sessions by systematically evaluating the progress of participants towards the cognitive, social, physical and affective aspects of learning. | K23: {=IF((AND(J23:J27=1)), "Fully Mapped", "Not/ Partially Mapped")} -> Not/ Partially Mapped
B24: S2.3.2 | D24: • reflect upon the inclusivity of the session, progress of participants and levels of engagement.
B25: S2.3.3 | D25: • identify strengths and areas for development for the Physical Literacy-informed sessions to improve the planning and delivery of future sessions.
B26: S2.3.4 | D26: • reflect upon ongoing professional development needs and further opportunity to support development.
B27: S2.3.5 | D27: • be able to make appropriate, sensitive and informed judgements / recommendations that support the assessment of or the charting of Physical Literacy progress.

Sheet % breakdown
B1: Mapping Breakdown shows a breakdown of the percentage that your course has mapped to each sections knowledge and skills criteria, and the overall percentage that your course has mapped to the professional standard
D2: Sections | E2: Specifications | F2: %worth of each section | G2: Total % covered of area | H2: Section % of total standard | I2: % covered of entire standard
B3: 1. Technical knowledge for Physical Literacy-informed sessions | C3: Knowledge | D3: 7 | E3: 8 | F3: 12.5 | G3: =SUM('Mapping Template'!L5:L12) -> 0 | H3: =(E3/E6)*100 -> 38.095238 | I3: =(H3/100)*G3 -> 0
B4: 2. Plan, deliver and reflect on Physical Literacy-informed sessions | C4: Knowledge | D4: 5 | E4: 5 | F4: 20 | G4: =SUM('Mapping Template'!L14:L18) -> 0 | H4: =(E4/E6)*100 -> 23.809524 | I4: =(H4/100)*G4 -> 0
C5: Skills | D5: 3 | E5: 8 | F5: 12.5 | G5: =SUM('Mapping Template'!L20:L27) -> 0 | H5: =(E5/E6)*100 -> 38.095238 | I5: =(H5/100)*G5 -> 0
B6: Totals | D6: =SUM(D3:D5) -> 15 | E6: =SUM(E3:E5) -> 21 | H6: =SUM(H3:H5) -> 100 | I6: =SUM(I3:I5) -> 0

Sheet Feedback
A1: Standardised feedback comments | B1: Assessment methods
A2: Comprehensive evidence | B2: Assignment
A3: Sufficient evidence | B3: Case study
A4: Further detail required | B4: Dissertation
B5: Exam
B6: Written test
B7: Listening test
B8: Oral test
B9: Performance/ practical
B10: Portfolio
B11: Professional discussion
B12: Project
B13: Simulation
B14: Online test
B15: Attendence only
B16: Multiple
B17: Other

Sheet Workings out
B1: K1 | C1: K2 | D1: S2
B2: =IF('Mapping Template'!J5=1,12.5,0) -> 0 | C2: =IF('Mapping Template'!J14=1,20,0) -> 0 | D2: =IF('Mapping Template'!J20=1,12.5,0) -> 0
B3: =IF('Mapping Template'!J6=1,12.5,0) -> 0 | C3: =IF('Mapping Template'!J15=1,20,0) -> 0 | D3: =IF('Mapping Template'!J21=1,12.5,0) -> 0
B4: =IF('Mapping Template'!J7=1,12.5,0) -> 0 | C4: =IF('Mapping Template'!J16=1,20,0) -> 0 | D4: =IF('Mapping Template'!J22=1,12.5,0) -> 0
B5: =IF('Mapping Template'!J8=1,12.5,0) -> 0 | C5: =IF('Mapping Template'!J17=1,20,0) -> 0 | D5: =IF('Mapping Template'!J23=1,12.5,0) -> 0
B6: =IF('Mapping Template'!J9=1,12.5,0) -> 0 | C6: =IF('Mapping Template'!J18=1,20,0) -> 0 | D6: =IF('Mapping Template'!J24=1,12.5,0) -> 0
B7: =IF('Mapping Template'!J10=1,12.5,0) -> 0 | D7: =IF('Mapping Template'!J25=1,12.5,0) -> 0
B8: =IF('Mapping Template'!J11=1,12.5,0) -> 0 | D8: =IF('Mapping Template'!J26=1,12.5,0) -> 0
B9: =IF('Mapping Template'!J12=1,12.5,0) -> 0 | D9: =IF('Mapping Template'!J27=1,12.5,0) -> 0
