Workbook

Sheet Guidance
B1: #VALUE!
B2: Working with Antenatal and Postnatal Clients Mapping Template
B3: Edition: V1.1
B4: Publication date: 24th January 2025
B6: Mapping Guidance - you are here!
B7: Mapping template to reference and evidence where the professional standard is being met by the course/ participant/ qualification
B8: N.B. Examples (e.g.) are given within the LDRs to provide an overview of the knowledge and skills most relevant to the role. It is not mandatory to assess learners against 100% of the examples provided, however, sufficient coverage to ensure occupational competence on achievement must be ensured. This will be reviewed as part of the CIMSPA endorsement process.
B9: For non-regulated qualifications (CPD), where an Education Partner does not meet the full CIMSPA professional standard, it is important to note, that the Education Partner must meet a full Knowledge or Skill LDR. For example, all three sections within K1.1 would need to evidenced for that LDR to partially map to the professional standard.
B10: For further information around product development guidance, please refer to the professional standard within the professional standard library; https://www.cimspa.co.uk/education-training/professional-standards/professional-standards-library/
B11: Alternatively, please view our CIMPSA Partner Endorsement Guide;https://cimspa.co.uk/education-training/endorsement/
B13: Revision History
B14: Version | C14: Name & Role | D14: Signature & Date | E14: Reason for Change
B15: V1.1 | C15: Aidan Riley Education Officer | D15: AR 22/01/25 | E15: Update to general formatting & implementation of conditional formating to streamline moderator feedback.
B19: E endorsements@cimspa.co.uk T 03438 360200 W www.cimspa.co.uk
B20: Chartered Institute for the Management of Sport and Physical Activity,
B21: SportPark Loughborough University, 3 Oakwood Drive, Loughborough, Leicestershire LE11 3QF
B22: Incorporated by Royal Charter Charity Registration No. 1144545

Sheet Mapping Template
E1: Education Product Title: INSERT HERE
A2: Professional Standard: Working with Antenatal and Postnatal Clients | E2: Partner Mapping Section | J2: Moderator Feedback Section | Q2: IV Feedback Section
A3: Topic | B3: Competency | D3: Learning Outcome(s) | E3: Evidence (sign post to SOW / course specification / supporting documents) | F3: Assessment Method | G3: Further Comments (expand on evidence within column E) | H3: Response to Moderator Feedback Section (second review evidence - if applicable) | J3: Score | K3: Mapping to Point | L3: % Mapped to Section | M3: Moderator comments | N3: General Feedback (first review) | O3: General Feedback (second review - if applicable) | Q3: IV Comments
A4: 1. Health and well-being for antenatal and postnatal clients | B4: Ref | C4: Knowledge and Understanding (K&U): | D4: Those working with antenatal and postnatal clients must:
B5: K1.1 | C5: Antenatal and postnatal | D5: · Define the terms perinatal, antenatal and postnatal. | K5: {=IF((AND(J5:J11=1)), "Fully Mapped", "Not/ Partially Mapped")} -> Not/ Partially Mapped | L5: =SUM('Workings out'!B5:B21) -> 0
D6: · Know the terms Breech, Preterm birth and Vaginal Birth After Caesarean (VBAC).
D7: · Be familiar with the maternal care pathway in the United Kingdom.
D8: · Know the different types of births to include: ­ – Spontaneous vaginal birth. ­ – Assisted vaginal birth (ventouse/forceps). ­ – Caesarean section.
D9: · Know the impact of birth experience (including birth trauma, pelvic floor, and abdominal wall dysfunctions) on postnatal recovery.
D10: · Know the effects of lactation and considerations when planning a programme/session for a client that is breastfeeding.
D11: · Know how to respond to an individual who has experienced fertility problems and baby loss (miscarriage, stillbirth, infant death) whilst also acknowledging that individuals may not wish to disclose this information.
B12: K1.2 | C12: Health and well-being | D12: · Know the potential warning signs when it may be necessary for a client to withdraw from a physical activity programme/session. | K12: {=IF((AND(J12:J16=1)), "Fully Mapped", "Not/ Partially Mapped")} -> Not/ Partially Mapped
D13: · Know how to respond if a client shows signs or symptoms that their mental health has been impacted and where to signpost them.
D14: · Know the importance of nutrition, hydration and dramatic or sudden weight change.
D15: · Have an awareness of which foods, drinks and supplements help to support a healthy pregnancy and birth.
D16: · Have an awareness of the calorie requirements during the three trimesters of pregnancy and the postnatal period, with reference to the different requirements of breastfeeding and non-breastfeeding mothers.
B17: K1.3 | C17: Advice and guidance | D17: · Know the importance of regularly reviewing and staying up to date with current evidence and guidance. | K17: {=IF((AND(J17:J19=1)), "Fully Mapped", "Not/ Partially Mapped")} -> Not/ Partially Mapped
D18: · Know the appropriate professional and/or support service to signpost or refer to when contraindications are identified, or concerns relate to issues beyond the occupational scope of practice.
D19: · Know the appropriate and up-to-date screening tools to employ, for example: – Get Active Questionnaire for Pregnancy - UK version (Available in Appendix).
B20: K1.4 | C20: Anatomical, physiological and biomechanical changes | D20: · Know the fundamental anatomical, physiological, and biomechanical changes associated with pregnancy and the postnatal period to include: -­– Cardiovascular system ­– Respiratory system ­– Musculoskeletal system ­– Metabolic system ­– Endocrine system | K20: {=IF((AND(J20:J21=1)), "Fully Mapped", "Not/ Partially Mapped")} -> Not/ Partially Mapped
D21: · Know the anatomical, physiological, and biomechanical changes that persist after childbirth.
B22: Ref | C22: K&U | D22: Those working with antenatal and postnatal clients must:
A23: 2. Benefits, barriers and enablers | B23: K2.1 | C23: Benefits | D23: · Know the benefits of regular engagement with physical activity during pregnancy and the postnatal period in accordance with national (Chief Medical Officers, 2019) and international (World Health Organisation, 2020) guidelines. | K23: {=IF((AND(J23:J25=1)), "Fully Mapped", "Not/ Partially Mapped")} -> Not/ Partially Mapped | L23: =SUM('Workings out'!C5:C18) -> 0
D24: · The evidence-based benefits of physical activity for pregnant women to include: ­– Reduction in hypertensive disorders ­– Improved cardiorespiratory fitness ­– Helps to control gestational weight gain ­– Reduction in risk of gestational diabetes ­– Improves mood ­– Improves sleep
D25: · The evidence-based benefits of physical activity for women after childbirth (birth to 12 months) to include: ­– Helps to control weight and return to pre-pregnancy weight ­– Improves cardiovascular fitness ­– Improves tummy muscle tone and strength ­– Reduces worry and depression ­– Improves mood ­– Improves sleep
B26: K2.2 | C26: Barriers and Myths | D26: · Know types of real and perceived barriers to physical activity that antenatal and postnatal clients may experience, including but not limited to: ­ ­– Safety concerns ­­– Health conditions ­­– Musculoskeletal pain ­­– Body confidence ­­– Accessibility (cost/time/location). | K26: {=IF((AND(J26:J27=1)), "Fully Mapped", "Not/ Partially Mapped")} -> Not/ Partially Mapped
D27: · Know the myths that are associated with participating in physical activity during and after pregnancy. For example: – Do not lift over your head – Eat for two – Put your feet up
B28: K2.3 | C28: Common problems | D28: · Know common antenatal problems relevant to physical activity participation and how to respond to them. To include: ­ – Posture and balance issues ­– Musculoskeletal pain ­– Fatigue and interrupted sleep patterns ­– Concentration and memory ­– Morning sickness, constipation, bloating, etc. ­– Health conditions including gestational diabetes, High blood pressure problems e.g., preeclampsia. ­– Pelvic floor ­– Pregnancy related pelvic girdle pain and pelvic floor - stress incontinence. ­– Abdominal wall e.g., separated abdominal muscles (diastasis recti) | K28: {=IF((AND(J28:J28=1)), "Fully Mapped", "Not/ Partially Mapped")} -> Not/ Partially Mapped
B29: K2.4 | C29: Motivation and enabling factors | D29: · Know how to encourage individuals, within scope of practice, to be physically active during pregnancy and after childbirth. | K29: {=IF((AND(J29:J30=1)), "Fully Mapped", "Not/ Partially Mapped")} -> Not/ Partially Mapped
D30: · Know about appropriate and up-to -date initiatives and campaigns to promote physical activity and engage antenatal and postnatal clients. Examples include but are not limited to: – This Mum Moves (in Appendix) – The Active Pregnancy Foundation – Find Your Active (in Appendix) – Couch to Fitness – Prenatal Programme (in Appendix) – Couch to Fitness – Postnatal Programme (in Appendix)
B31: K2.5 | C31: Contraindications and warning signs | D31: · Know which contraindications are relative and absolute during pregnancy in accordance with recent evidence including: | K31: {=IF((AND(J31:J36=1)), "Fully Mapped", "Not/ Partially Mapped")} -> Not/ Partially Mapped
D32: · Relative contraindications (Meah, Davies & Davenport, 2020): ­– Mild respiratory disorders ­– Mild congenital or acquired heart disease ­– Well-controlled type 1 diabetes ­– Mild pre-eclampsia ­– Preterm premature rupture of membranes (PPROMs). ­– Placenta previa after 28 weeks. ­– Untreated thyroid disease. ­– Symptomatic, severe eating disorder. ­– Multiple nutrient deficiencies and/or chronic undernutrition. ­– Moderate–heavy smoking (>20 cigarettes per day) in the presence of comorbidities.
D33: · Absolute contraindications (Meah, Davies & Davenport, 2020): ­– Severe respiratory diseases (e.g., chronic obstructive pulmonary disease, restrictive lung disease and cystic fibrosis). ­– Severe acquired or congenital heart disease with exercise intolerance. ­– Uncontrolled or severe arrhythmia. ­– Placental abruption. ­– Vasa previa. ­– Uncontrolled type 1 diabetes. ­– Intrauterine growth restriction (IUGR). ­– Active preterm labour. ­– Severe pre-eclampsia. ­– Cervical insufficiency.
D34: · Know the signs and symptoms of pelvic floor and abdominal wall dysfunction and understand that if any of these factors are present, high intensity activity should not resume and referral to a pelvic health physiotherapist is warranted. These include (Goom, Donnelly & Brockwell, 2019): – Urinary and/or faecal incontinence ­– Urinary and/or faecal urgency that is difficult to defer ­– Heaviness/pressure/bulge/dragging in the pelvic area ­– Pain with intercourse ­– Obstructive defecation ­– Pendular abdomen, separated abdominal muscles and/or decreased abdominal strength and function ­– Musculoskeletal lumbopelvic pain
D35: · Know the warning signs when to stop and activity, what to do, and where to refer a client to. – Warning signs to stop an activity include (ACOG, 2020): – Vaginal bleeding – Abdominal pain – Regular and painful contractions – Amniotic fluid leakage – Dyspnea before exertion – Persistent excessive shortness of breath that does not resolve with rest – Persistent dizziness or faintness that does not resolve on rest – Headache – Chest pain – Muscle weakness affecting balance – Calf pain or swelling – Severe pelvic girdle pain that do not improve within a week or two, or interfere with normal day-to-day living
D36: · Know the importance of keeping up to date with research and best-practice guidelines.
A37: 3. Plan, prepare, continuously evaluate and review sessions | B37: Ref | C37: K&U | D37: Those working with antenatal and postnatal clients must:
B38: K3.1 | C38: Pre-activity screening | D38: · Understand the importance of pre-activity screening. | K38: {=IF((AND(J38:J42=1)), "Fully Mapped", "Not/ Partially Mapped")} -> Not/ Partially Mapped | L38: =SUM('Workings out'!D5:D33) -> 0
D39: · Know when it might not be appropriate to take on a client and when to refer a client to a healthcare professional or more suitably qualified exercise professional (e.g., clinical exercise specialist).
D40: · Know the key areas to ask when pre-screening an antenatal client (refer to screening tools in appendix) to include but not limited to: – ­Activity levels: type, amount and intensity of activities engaged in (pre-pregnancy and currently). – ­Estimated date of birth – ­Multiple pregnancy. ­– Previous pregnancy history including miscarriage, early delivery or other complications. – ­Medication. – ­Contraindicators ­– Medical contacts (Emergency contact or midwife contact)
D41: · Know the key areas to ask when pre-screening a postnatal client to include: – ­Activity levels: type, amount and intensity of activities engaged in (during pregnancy and currently) ­– Whether they have had a 6–8-week postnatal check with a healthcare professional – ­Guidance or information advised from a specialist ­– Type of birth ­– Birth trauma and complications – ­Postnatal bleeding (lochia) – ­Signs and symptoms of abdominal wall and/or pelvic floor dysfunction – ­Lactation ­– Pelvic girdle and back pain ­– General well-being (including psychological)
D42: · Understand the importance of a disclaimer where activities are delivered online (live or recorded) and when screening is not always possible face-to-face.
B43: K3.2 | C43: Activities | D43: · Know the importance of tailoring activities to the needs of antenatal and postnatal clients. | K43: {=IF((AND(J43:J46=1)), "Fully Mapped", "Not/ Partially Mapped")} -> Not/ Partially Mapped
D44: · Know how to plan safe and effective modifications/adaptations and alternative activities for antenatal and postnatal clients within scope of occupational practice.
D45: · Know the types of activities that should be avoided and the reasons for this based on current evidence and guidelines. Activities could include but are not limited to: ­ – Contact sports (e.g., ice hockey, martial arts, rugby) ­ – Activities with a high risk of falling (e.g., downhill snow skiing, water skiing, surfing, off-road cycling, gymnastics, horse riding) ­ – Scuba diving ­ – Sky diving ­ – "Hot yoga” or “Hot Pilates,”
D46: · Know the importance of correct technique and regression of the activities.
B47: K3.3 | C47: Goal setting | D47: · Know how goals for antenatal and postnatal clients may differ from those of the general population. | K47: {=IF((AND(J47:J49=1)), "Fully Mapped", "Not/ Partially Mapped")} -> Not/ Partially Mapped
D48: · Know the importance of reviewing your analysis of the client’s needs and motivation to inform goals and session outcomes.
D49: · Know the importance of a flexible approach whilst goal setting and supporting antenatal and postnatal clients’ goals to be active.
B50: K3.4 | C50: Recommended guidelines | D50: · Know the recommended national (CMO) and international (WHO) physical activity guidelines for antenatal and postnatal clients. | K50: {=IF((AND(J50:J52=1)), "Fully Mapped", "Not/ Partially Mapped")} -> Not/ Partially Mapped
D51: · Know the importance of the 6–8-week postnatal check by a healthcare professional as an opportunity to discuss physical and mental wellbeing.
D52: · Understand why the guidelines are in place and the importance of keeping up to date with evidence-based research and guidelines.
B53: K3.5 | C53: Assessing risks | D53: · Know how to assess and manage the risks to antenatal and postnatal clients prior, during and post physical activity. | K53: {=IF((AND(J53:J55=1)), "Fully Mapped", "Not/ Partially Mapped")} -> Not/ Partially Mapped
D54: · Know the importance of dynamic risk assessment of activities including when babies are present in the facility/environment.
D55: · Know the key warning signs and symptoms of when to advise the client to withdraw from physical activity.
B56: K3.6 | C56: Considerations for planning | D56: · Know the different considerations that need to be accounted for when planning physical activity sessions for antenatal and postnatal clients to include: – Avoiding hot and humid conditions where appropriate – Regular hydration – Balanced nutrition – Appropriate clothing and footwear – Lactation – Type of births and stage of recovery – Adaptation of exercises (modification) – Using the correct technique | K56: =IF((AND(J56=1)), "Fully Mapped", "Not/ Partially Mapped") -> Not/ Partially Mapped
B57: K3.7 | C57: Implications of planning | D57: · Know the key implications of the effects of pregnancy on programming to include: – Consideration of altered biomechanics including a shift in gravity and postural imbalance – Current physical activity levels – Implications of performing exercises in the supine position after the first trimester (advise on time spent in this position and potential risk for long durations). – The need to re-educate the pelvic floor and abdominal muscles after childbirth. – Awareness of pelvic floor and abdominal wall dysfunctions and referral to an appropriately qualified professional as indicated. | K57: {=IF((AND(J57:J58=1)), "Fully Mapped", "Not/ Partially Mapped")} -> Not/ Partially Mapped
D58: · Know the importance of safe functional transitions between activities both within a physical activity setting and everyday activities: e.g., getting in and out the car.
B59: K3.8 | C59: Planning and preparation | D59: · Know how to plan safe physical activity programmes/ sessions for antenatal and postnatal clients. | K59: {=IF((AND(J59:J63=1)), "Fully Mapped", "Not/ Partially Mapped")} -> Not/ Partially Mapped
D60: · Know how to plan engaging physical activity programmes/ sessions for antenatal and postnatal clients.
D61: · Know the importance of the relationship between programme design and activity delivery in engaging antenatal and postnatal clients.
D62: · Know the importance of adapting physical activity sessions/programmes within a 1-1 and group setting to meet the need of the individual client.
D63: · Know how to deliver inclusive, safe and engaging physical activity sessions for antenatal and postnatal clients.
B64: K3.9 | C64: Feedback/reflective practice | D64: · Know the opportunities to collate and use feedback from the clients regarding the activities delivered. | K64: {=IF((AND(J64:J66=1)), "Fully Mapped", "Not/ Partially Mapped")} -> Not/ Partially Mapped
D65: · Know how to use feedback from clients to improve engagement and adherence.
D66: · Know how to reflect on own practice to inform future sessions.
B67: Ref | C67: Skills: | D67: Those working with antenatal and postnatal clients must be able to:
B68: S3.1 | C68: Session and activities | D68: · Show clear insight and an evidence-based rationale for the session and activities used in the plan. | K68: {=IF((AND(J68:J68=1)), "Fully Mapped", "Not/ Partially Mapped")} -> Not/ Partially Mapped | L68: =SUM('Workings out'!E5:E8) -> 0
B69: S3.2 | C69: Plan and evaluate | D69: · Develop a plan for a physical activity session that is safe and engaging, for antenatal and postnatal client(s). | K69: {=IF((AND(J69:J71=1)), "Fully Mapped", "Not/ Partially Mapped")} -> Not/ Partially Mapped
D70: · Demonstrate the ability to adapt a physical activity plan that is specific to a client.
D71: · Evaluate inclusive, safe, and fun physical activity sessions that promotes the individual returning to physical activity after childbirth.
A72: 4. Professional responsibilities | B72: Ref | C72: K&U | D72: Those working with antenatal and postnatal clients must:
B73: K4.1 | C73: Best practice | D73: · Know in which special circumstances, in line with occupational scope and where appropriate, it would be best practice to obtain written consent from a client’s healthcare provider(s). | K73: {=IF((AND(J73:J75=1)), "Fully Mapped", "Not/ Partially Mapped")} -> Not/ Partially Mapped | L73: =SUM('Workings out'!F5:F16) -> 0
D74: · Know when it is necessary to signpost or refer to a healthcare professional/service or more suitably qualified exercise professionals (e.g., clinical exercise specialist).
D75: · Know the benefits of working with other services to support the client.
B76: K4.2 | C76: Exchange of information | D76: · Know the circumstances in which information may need to be exchanged with a healthcare or qualified exercise professional and how to obtain consent from antenatal and postnatal clients. | K76: {=IF((AND(J76:J78=1)), "Fully Mapped", "Not/ Partially Mapped")} -> Not/ Partially Mapped
D77: · Know the importance of client confidentiality and GDPR.
D78: · Know the importance of dealing with sensitive information that may be emotive for the client.
B79: K4.3 | C79: First aid | D79: · Know the importance of having an up to date first aid qualification when working with antenatal and postnatal clients. | K79: {=IF((AND(J79:J79=1)), "Fully Mapped", "Not/ Partially Mapped")} -> Not/ Partially Mapped
B80: K4.4 | C80: CPD | D80: · Know the importance of engaging in regular CPD activities relevant to the scope of practice. | K80: {=IF((AND(J80:J81=1)), "Fully Mapped", "Not/ Partially Mapped")} -> Not/ Partially Mapped
D81: · Know where to source specific information to enhance practice or engage in further education/development.
B82: K4.5 | C82: Insurance | D82: · Know the importance of checking insurance arrangements where babies are present in the facility/environment where physical activity sessions are delivered. | K82: {=IF((AND(J82:J84=1)), "Fully Mapped", "Not/ Partially Mapped")} -> Not/ Partially Mapped
D83: · Know to inform insurance companies of the specialist qualification and to include cover of this population under existing policy.
D84: · Know the importance of working within the remit of the specific role being undertaken appropriate to the occupation scope of practice.

Sheet Workings out
A1: Calculating the totally percentage of knowledge/ skill covered in each section
B2: K1 | C2: K2 | D2: K3 | E2: S3 | F2: K4
A3: % value | B3: 5.8823529 | C3: 7.1428571 | D3: 3.4482759 | E3: 25 | F3: 8.3333333
A4: # spec | B4: 17 | C4: 14 | D4: 29 | E4: 4 | F4: 12
A5: Sections | B5: =IF('Mapping Template'!$J5=1,B$3,0) -> 0 | C5: =IF('Mapping Template'!$J23=1,C$3,0) -> 0 | D5: =IF('Mapping Template'!$J38=1,D$3,0) -> 0 | E5: =IF('Mapping Template'!$J68=1,E$3,0) -> 0 | F5: =IF('Mapping Template'!$J73=1,F$3,0) -> 0
B6: =IF('Mapping Template'!$J6=1,B$3,0) -> 0 | C6: =IF('Mapping Template'!$J24=1,C$3,0) -> 0 | D6: =IF('Mapping Template'!$J39=1,D$3,0) -> 0 | E6: =IF('Mapping Template'!$J69=1,E$3,0) -> 0 | F6: =IF('Mapping Template'!$J74=1,F$3,0) -> 0
B7: =IF('Mapping Template'!$J7=1,B$3,0) -> 0 | C7: =IF('Mapping Template'!$J25=1,C$3,0) -> 0 | D7: =IF('Mapping Template'!$J40=1,D$3,0) -> 0 | E7: =IF('Mapping Template'!$J70=1,E$3,0) -> 0 | F7: =IF('Mapping Template'!$J75=1,F$3,0) -> 0
B8: =IF('Mapping Template'!$J8=1,B$3,0) -> 0 | C8: =IF('Mapping Template'!$J26=1,C$3,0) -> 0 | D8: =IF('Mapping Template'!$J41=1,D$3,0) -> 0 | E8: =IF('Mapping Template'!$J71=1,E$3,0) -> 0 | F8: =IF('Mapping Template'!$J76=1,F$3,0) -> 0
B9: =IF('Mapping Template'!$J9=1,B$3,0) -> 0 | C9: =IF('Mapping Template'!$J27=1,C$3,0) -> 0 | D9: =IF('Mapping Template'!$J42=1,D$3,0) -> 0 | F9: =IF('Mapping Template'!$J77=1,F$3,0) -> 0
B10: =IF('Mapping Template'!$J10=1,B$3,0) -> 0 | C10: =IF('Mapping Template'!$J28=1,C$3,0) -> 0 | D10: =IF('Mapping Template'!$J43=1,D$3,0) -> 0 | F10: =IF('Mapping Template'!$J78=1,F$3,0) -> 0
B11: =IF('Mapping Template'!$J11=1,B$3,0) -> 0 | C11: =IF('Mapping Template'!$J29=1,C$3,0) -> 0 | D11: =IF('Mapping Template'!$J44=1,D$3,0) -> 0 | F11: =IF('Mapping Template'!$J79=1,F$3,0) -> 0
B12: =IF('Mapping Template'!$J12=1,B$3,0) -> 0 | C12: =IF('Mapping Template'!$J30=1,C$3,0) -> 0 | D12: =IF('Mapping Template'!$J45=1,D$3,0) -> 0 | F12: =IF('Mapping Template'!$J80=1,F$3,0) -> 0
B13: =IF('Mapping Template'!$J13=1,B$3,0) -> 0 | C13: =IF('Mapping Template'!$J31=1,C$3,0) -> 0 | D13: =IF('Mapping Template'!$J46=1,D$3,0) -> 0 | F13: =IF('Mapping Template'!$J81=1,F$3,0) -> 0
B14: =IF('Mapping Template'!$J14=1,B$3,0) -> 0 | C14: =IF('Mapping Template'!$J32=1,C$3,0) -> 0 | D14: =IF('Mapping Template'!$J47=1,D$3,0) -> 0 | F14: =IF('Mapping Template'!$J82=1,F$3,0) -> 0
B15: =IF('Mapping Template'!$J15=1,B$3,0) -> 0 | C15: =IF('Mapping Template'!$J33=1,C$3,0) -> 0 | D15: =IF('Mapping Template'!$J48=1,D$3,0) -> 0 | F15: =IF('Mapping Template'!$J83=1,F$3,0) -> 0
B16: =IF('Mapping Template'!$J16=1,B$3,0) -> 0 | C16: =IF('Mapping Template'!$J34=1,C$3,0) -> 0 | D16: =IF('Mapping Template'!$J49=1,D$3,0) -> 0 | F16: =IF('Mapping Template'!$J84=1,F$3,0) -> 0
B17: =IF('Mapping Template'!$J17=1,B$3,0) -> 0 | C17: =IF('Mapping Template'!$J35=1,C$3,0) -> 0 | D17: =IF('Mapping Template'!$J50=1,D$3,0) -> 0
B18: =IF('Mapping Template'!$J18=1,B$3,0) -> 0 | C18: =IF('Mapping Template'!$J36=1,C$3,0) -> 0 | D18: =IF('Mapping Template'!$J51=1,D$3,0) -> 0
B19: =IF('Mapping Template'!$J19=1,B$3,0) -> 0 | D19: =IF('Mapping Template'!$J52=1,D$3,0) -> 0
B20: =IF('Mapping Template'!$J20=1,B$3,0) -> 0 | D20: =IF('Mapping Template'!$J53=1,D$3,0) -> 0
B21: =IF('Mapping Template'!$J21=1,B$3,0) -> 0 | D21: =IF('Mapping Template'!$J54=1,D$3,0) -> 0
D22: =IF('Mapping Template'!$J55=1,D$3,0) -> 0
D23: =IF('Mapping Template'!$J56=1,D$3,0) -> 0
D24: =IF('Mapping Template'!$J57=1,D$3,0) -> 0
D25: =IF('Mapping Template'!$J58=1,D$3,0) -> 0
D26: =IF('Mapping Template'!$J59=1,D$3,0) -> 0
D27: =IF('Mapping Template'!$J60=1,D$3,0) -> 0
D28: =IF('Mapping Template'!$J61=1,D$3,0) -> 0
D29: =IF('Mapping Template'!$J62=1,D$3,0) -> 0
D30: =IF('Mapping Template'!$J63=1,D$3,0) -> 0
D31: =IF('Mapping Template'!$J64=1,D$3,0) -> 0
D32: =IF('Mapping Template'!$J65=1,D$3,0) -> 0
D33: =IF('Mapping Template'!$J66=1,D$3,0) -> 0

Sheet Mapping Breakdown
B1: 4. Mapping Breakdown shows a breakdown of the percentage that your course has mapped to each sections knowledge and skills criteria, and the overall percentage that your course has mapped to the professional standard
D2: Sections | E2: Specifications | F2: %worth of each section | G2: Total % covered of area | H2: Section % of total standard | I2: % covered of entire standard
B3: 1 | C3: Knowledge | D3: 4 | E3: 17 | F3: =100/E3 -> 5.8823529 | G3: =SUM('Mapping Template'!L5:L21) -> 0 | H3: =(E3/E8)*100 -> 22.368421 | I3: =(H3/100)*G3 -> 0
B4: 2 | C4: Knowledge | D4: 5 | E4: 14 | F4: =100/E4 -> 7.1428571 | G4: =SUM('Mapping Template'!L23:L36) -> 0 | H4: =(E4/E8)*100 -> 18.421053 | I4: =(H4/100)*G4 -> 0
B5: 3 | C5: Knowledge | D5: 9 | E5: 29 | F5: =100/E5 -> 3.4482759 | G5: =SUM('Mapping Template'!L38:L66) -> 0 | H5: =(E5/E8)*100 -> 38.157895 | I5: =(H5/100)*G5 -> 0
C6: Skills | D6: 2 | E6: 4 | F6: =100/E6 -> 25 | G6: =SUM('Mapping Template'!L68:L71) -> 0 | H6: =(E6/E8)*100 -> 5.2631579 | I6: =(H6/100)*G6 -> 0
B7: 4 | C7: Knowledge | D7: 5 | E7: 12 | F7: =100/E7 -> 8.3333333 | G7: =SUM('Mapping Template'!L73:L84) -> 0 | H7: =(E7/E8)*100 -> 15.789474 | I7: =(H7/100)*G7 -> 0
B8: Totals | D8: =SUM(D3:D7) -> 25 | E8: =SUM(E3:E7) -> 76 | H8: =SUM(H3:H7) -> 100 | I8: =SUM(I3:I7) -> 0

Sheet Feedback
A1: Standardised feedback comments | B1: Assessment methods
A2: Comprehensive evidence | B2: Multiple
A3: Sufficient evidence | B3: Case study
A4: Further evidence required | B4: Dissertation
B5: Exam
B6: Written test
B7: Listening test
B8: Oral test
B9: Performance/ practical
B10: Portfolio
B11: Professional discussion
B12: Project
B13: Simulation
B14: Online test
B15: Attendence only
B16: Assignment
B17: Other
