Workbook

Sheet Guidance
B1: #VALUE!
B2: Working with Children Mapping Template
B3: Edition: V2.1
B4: Publication date: 15th January 2025
B6: Mapping Guidance - you are here!
B7: Mapping template to reference and evidence where the professional standard is being met by the course/ participant/ qualification
B8: N.B. Examples (e.g.) are given within the LDRs to provide an overview of the knowledge and skills most relevant to the role. It is not mandatory to assess learners against 100% of the examples provided, however, sufficient coverage to ensure occupational competence on achievement must be ensured. This will be reviewed as part of the CIMSPA endorsement process.
B9: For non-regulated qualifications (CPD), where an Education Partner does not meet the full CIMSPA professional standard, it is important to note, that the Education Partner must meet a full Knowledge or Skill LDR. For example, all three sections within K1.1 would need to evidenced for that LDR to partially map to the professional standard.
B10: For further information around product development guidance, please refer to the professional standard within the professional standard library; https://www.cimspa.co.uk/education-training/professional-standards/professional-standards-library/
B11: Alternatively, please view our CIMPSA Partner Endorsement Guide;https://cimspa.co.uk/education-training/endorsement/
B13: Revision History
B14: Version | C14: Name & Role | D14: Signature & Date | E14: Reason for Change
A15: c | B15: V2.1 | C15: Aidan Riley Education Officer | D15: AR 14/01/25 | E15: Update to general formatting & implementation of conditional formating to streamline moderator feedback.
B19: E endorsements@cimspa.co.uk T 03438 360200 W www.cimspa.co.uk
B20: Chartered Institute for the Management of Sport and Physical Activity,
B21: SportPark Loughborough University, 3 Oakwood Drive, Loughborough, Leicestershire LE11 3QF
B22: Incorporated by Royal Charter Charity Registration No. 1144545

Sheet Mapping Template
E1: Education Product Title: INSERT HERE
A2: Professional Standard: Working with Children | E2: Partner Mapping Section | J2: Moderator Feedback Section | Q2: IV Feedback Section
A3: Topic | B3: Competency | D3: Learning Outcome(s) | E3: Evidence (sign post to SOW / course specification / supporting documents) | F3: Assessment Method | G3: Further Comments (expand on evidence within column E) | H3: Response to Moderator Feedback Section (second review evidence - if applicable) | J3: Score | K3: Mapping to Point | L3: % Mapped to Section | M3: Moderator comments | N3: General Feedback (first review) | O3: General Feedback (second review - if applicable) | Q3: IV Comments
A4: 1. The rights of a child and their access to sport and physical activity | B4: Ref | C4: Knowledge and Understanding (K&U): | D4: Those working with children must:
B5: K1.1.1 & K1.1.2 | C5: United Nations Convention on the Rights of the Child (UNCRC) | D5: · Identify the components of the UNCRC, including the right to: ­ Education. ­ Play. ­ Health. ­ Respect for privacy and family life. | K5: {=IF((AND(J5:J6=1)), "Fully Mapped", "Not/ Partially Mapped")} -> Not/ Partially Mapped | L5: =SUM('Workings out'!B5:B7) -> 0
D6: · Describe the application of the UNCRC in sport and physical activity.
B7: K1.2 | C7: UNESCO International Charter of Physical Activity and Sport | D7: · Describe the UNESCO guidelines on access to sport and physical activity. | K7: =IF((AND(J7=1)), "Fully Mapped", "Not/ Partially Mapped") -> Not/ Partially Mapped
B8: Ref | C8: Skills: | D8: Those working with children must be able to:
B9: S1.1 | C9: Support the rights of the child | D9: · Develop and deliver activities in accordance with the UNCRC. | K9: =IF((AND(J9=1)), "Fully Mapped", "Not/ Partially Mapped") -> Not/ Partially Mapped | L9: =SUM('Workings out'!C5:C6) -> 0
B10: S1.2 | C10: Support accessibility of sport and physical activity | D10: · Develop and deliver activities in accordance with the UNESCO guidelines on access to sport and physical activity. | K10: =IF((AND(J10=1)), "Fully Mapped", "Not/ Partially Mapped") -> Not/ Partially Mapped
A11: 2. Safe and inclusive practice when working with children | B11: Ref | C11: K&U | D11: Those working with children must:
B12: K2.1.1 & K2.1.2 | C12: Safe environments | D12: · Identify what is a safe environment for a child. | K12: {=IF((AND(J12:J13=1)), "Fully Mapped", "Not/ Partially Mapped")} -> Not/ Partially Mapped | L12: =SUM('Workings out'!D5:D10) -> 0
D13: · Detail the process for challenging when environments are deemed unsafe.
B14: K2.2.1 & K2.2.2 | C14: Safe practice | D14: · Describe the professional boundaries required when working with children. | K14: {=IF((AND(J14:J15=1)), "Fully Mapped", "Not/ Partially Mapped")} -> Not/ Partially Mapped
D15: · Detail the process for challenging when practice and / or activities are deemed unsafe.
B16: K2.3.1 & K2.3.2 | C16: Inclusive practice | D16: · Describe the importance of providing inclusive practice. | K16: {=IF((AND(J16:J17=1)), "Fully Mapped", "Not/ Partially Mapped")} -> Not/ Partially Mapped
D17: · Identify the elements of an inclusive environment.
B18: Ref | C18: Skills: | D18: Those working with children must be able to:
B19: S2.1.1, S2.1.2 & S2.1.3 | C19: Safe and inclusive delivery | D19: · Provide an inclusive and safe sport and physical activity environment for children. | K19: {=IF((AND(J19:J21=1)), "Fully Mapped", "Not/ Partially Mapped")} -> Not/ Partially Mapped | L19: =SUM('Workings out'!E5:E7) -> 0
D20: · Demonstrate delivery of inclusive activities for children.
D21: · Adhere to appropriate procedures, and professional standards.
A22: 3. The development stages of children | B22: Ref | C22: K&U | D22: Those working with children must:
B23: K3.1.1, K3.1.2, K3.1.3 & K3.1.4 | C23: Child development models | D23: · Describe whole child development through different domains: e.g. physical, social, emotional, cognitive. | K23: {=IF((AND(J23:J26=1)), "Fully Mapped", "Not/ Partially Mapped")} -> Not/ Partially Mapped | L23: =SUM('Workings out'!F5:F12) -> 0
D24: · Identify the relationship between the different domains.
D25: · Identify a range of child development models: e.g. Youth Physical Development Model.
D26: · Explain the application of a child development model in sport and physical activity.
B27: K3.2 | C27: Children’s physical development | D27: · Explain the stages of children’s physical development and factors which might influence it or be influenced by it. | K27: =IF((AND(J27=1)), "Fully Mapped", "Not/ Partially Mapped") -> Not/ Partially Mapped
B28: K3.3 | C28: Children’s social development | D28: · Explain the stages of children’s social development and factors which might influence it or be influenced by it. | K28: =IF((AND(J28=1)), "Fully Mapped", "Not/ Partially Mapped") -> Not/ Partially Mapped
B29: K3.4 | C29: Children’s emotional development | D29: · Explain the stages of children’s emotional development and factors which might influence it or be influenced by it. | K29: =IF((AND(J29=1)), "Fully Mapped", "Not/ Partially Mapped") -> Not/ Partially Mapped
B30: K3.5 | C30: Children’s cognitive development | D30: · Explain the stages of children’s cognitive development and factors which might influence it be influenced by it. | K30: =IF((AND(J30=1)), "Fully Mapped", "Not/ Partially Mapped") -> Not/ Partially Mapped
B31: Ref | C31: Skills: | D31: Those working with children must be able to:
B32: S3.1.1, S3.1.2, S3.1.3 & S3.1.4 | C32: Delivering sport and physical activity considering the whole child | D32: · Plan progressive activities developing across all relevant domains: | K32: {=IF((AND(J32:J39=1)), "Fully Mapped", "Not/ Partially Mapped")} -> Not/ Partially Mapped | L32: =SUM('Workings out'!G5:G12) -> 0
D33: ­ Physical: e.g. fundamental movement skills, bodyweight management training, relative age effect, transitions.
D34: ­ Social: e.g. social skills, confidence, competence, autonomy, decision making, leadership, relatedness and connection, transitions.
D35: ­ Emotional: e.g. emotional self-awareness, recognising other’s emotions, emotional regulation.
D36: ­ Cognitive: e.g. Piaget’s cognitive theories: ○ Sensorimotor theory. ○ Pre-operational theory. ○ Concrete operational theory. ○ Formal operational theory.
D37: · Deliver progressive activities developing children across all relevant domains: e.g. physical, social, emotional, cognitive.
D38: · Demonstrate adaptation of activities based on the development needs of the child.
D39: · Evaluate activities developing children across all relevant domains: e.g. physical, social, emotional, cognitive.
A40: 4. External factors influencing participation in sport and physical activity | B40: Ref | C40: K&U | D40: Those working with children must:
...

Sheet Mapping results
B1: Mapping Breakdown shows a breakdown of the percentage that your course has mapped to each sections knowledge and skills criteria, and the overall percentage that your course has mapped to the professional standard
D2: Sections | E2: Specifications | F2: %worth of each section | G2: Total % covered of area | H2: Section % of total standard | I2: % covered of entire standard
B3: 1 | C3: Knowledge | D3: 2 | E3: 3 | F3: =100/E3 -> 33.333333 | G3: =SUM('Mapping Template'!L5:L7) -> 0 | H3: =(E3/E21)*100 -> 4.5454545 | I3: =(H3/100)*G3 -> 0
C4: Skills | D4: 2 | E4: 2 | F4: =100/E4 -> 50 | G4: =SUM('Mapping Template'!L9:L10) -> 0 | H4: {=(E4/_xlfn.ANCHORARRAY(E21))*100} -> 3.030303 | I4: =(H4/100)*G4 -> 0
B5: 2 | C5: Knowledge | D5: 3 | E5: 6 | F5: =100/E5 -> 16.666667 | G5: =SUM('Mapping Template'!L12:L17) -> 0 | H5: =(E5/E21)*100 -> 9.0909091 | I5: =(H5/100)*G5 -> 0
C6: Skills | D6: 1 | E6: 3 | F6: =100/E6 -> 33.333333 | G6: =SUM('Mapping Template'!L19:L21) -> 0 | H6: =(E6/E21)*100 -> 4.5454545 | I6: =(H6/100)*G6 -> 0
B7: 3 | C7: Knowledge | D7: 5 | E7: 8 | F7: =100/E7 -> 12.5 | G7: =SUM('Mapping Template'!L23:L30) -> 0 | H7: =(E7/E21)*100 -> 12.121212 | I7: =(H7/100)*G7 -> 0
C8: Skills | D8: 1 | E8: 8 | F8: =100/E8 -> 12.5 | G8: =SUM('Mapping Template'!L32:L39) -> 0 | H8: =(E8/E21)*100 -> 12.121212 | I8: =(H8/100)*G8 -> 0
B9: 4 | C9: Knowledge | D9: 3 | E9: 3 | F9: =100/E9 -> 33.333333 | G9: =SUM('Mapping Template'!L41:L43) -> 0 | H9: =(E9/E21)*100 -> 4.5454545 | I9: =(H9/100)*G9 -> 0
C10: Skills | D10: 2 | E10: 1 | F10: =100/E10 -> 100 | G10: =SUM('Mapping Template'!L45:L46) -> 0 | H10: =(E10/E21)*100 -> 1.5151515 | I10: =(H10/100)*G10 -> 0
B11: 5 | C11: Knowledge | D11: 3 | E11: 4 | F11: =100/E11 -> 25 | G11: =SUM('Mapping Template'!L48:L51) -> 0 | H11: =(E11/E21)*100 -> 6.0606061 | I11: =(H11/100)*G11 -> 0
C12: Skills | D12: 3 | E12: 5 | F12: =100/E12 -> 20 | G12: =SUM('Mapping Template'!L53:L57) -> 0 | H12: =(E12/E21)*100 -> 7.5757576 | I12: =(H12/100)*G12 -> 0
B13: 6 | C13: Knowledge | D13: 3 | E13: 3 | F13: =100/E13 -> 33.333333 | G13: =SUM('Mapping Template'!L59:L61) -> 0 | H13: =(E13/E21)*100 -> 4.5454545 | I13: =(H13/100)*G13 -> 0
C14: Skills | D14: 4 | E14: 4 | F14: =100/E14 -> 25 | G14: =SUM('Mapping Template'!L63:L66) -> 0 | H14: =(E14/E21)*100 -> 6.0606061 | I14: =(H14/100)*G14 -> 0
B15: 7 | C15: Knowledge | D15: 3 | E15: 3 | F15: =100/E15 -> 33.333333 | G15: =SUM('Mapping Template'!L68:L70) -> 0 | H15: =(E15/E21)*100 -> 4.5454545 | I15: =(H15/100)*G15 -> 0
C16: Skills | D16: 2 | E16: 3 | F16: =100/E16 -> 33.333333 | G16: =SUM('Mapping Template'!L72:L74) -> 0 | H16: =(E16/E21)*100 -> 4.5454545 | I16: =(H16/100)*G16 -> 0
B17: 8 | C17: Knowledge | D17: 1 | E17: 4 | F17: =100/E17 -> 25 | G17: =SUM('Mapping Template'!L76:L79) -> 0 | H17: =(E17/E21)*100 -> 6.0606061 | I17: =(H17/100)*G17 -> 0
C18: Skills | D18: 2 | E18: 2 | F18: =100/E18 -> 50 | G18: =SUM('Mapping Template'!L81:L82) -> 0 | H18: =(E18/E21)*100 -> 3.030303 | I18: =(H18/100)*G18 -> 0
B19: 9 | C19: Knowledge | D19: 2 | E19: 2 | F19: =100/E19 -> 50 | G19: =SUM('Mapping Template'!L84:L85) -> 0 | H19: =(E19/E21)*100 -> 3.030303 | I19: =(H19/100)*G19 -> 0
C20: Skills | D20: 2 | E20: 2 | F20: =100/E20 -> 50 | G20: =SUM('Mapping Template'!L87:L88) -> 0 | H20: =(E20/E21)*100 -> 3.030303 | I20: =(H20/100)*G20 -> 0
B21: Totals | D21: =SUM(D3:D20) -> 44 | E21: =SUM(E3:E20) -> 66 | H21: =SUM(H3:H20) -> 100 | I21: =SUM(I3:I20) -> 0

Sheet Feedback
A1: Standardised feedback comments | B1: Assessment methods
A2: Comprehensive evidence | B2: Multiple
A3: Sufficient evidence | B3: Case study
A4: Further evidence required | B4: Dissertation
B5: Exam
B6: Written test
B7: Listening test
B8: Oral test
B9: Performance/ practical
B10: Portfolio
B11: Professional discussion
B12: Project
B13: Simulation
B14: Online test
B15: Attendence only
B16: Assignment
B17: Other

Sheet Workings out
A1: Calculating the totally percentage of knowledge/ skill covered in each section
B2: K1 | C2: S1 | D2: K2 | E2: S2 | F2: K3 | G2: S3 | H2: K4 | I2: S4 | J2: K5 | K2: S5 | L2: K6 | M2: S6 | N2: K7 | O2: S7 | P2: K8 | Q2: S8 | R2: K9 | S2: S9
A3: % value | B3: 33.333333 | C3: 50 | D3: 16.666667 | E3: 33.333333 | F3: 12.5 | G3: 12.5 | H3: 33.333333 | I3: 50 | J3: 25 | K3: 20 | L3: 33.333333 | M3: 25 | N3: 33.333333 | O3: 33.333333 | P3: 25 | Q3: 50 | R3: 50 | S3: 50
A4: # spec | B4: 3 | C4: 2 | D4: 6 | E4: 3 | F4: 8 | G4: 8 | H4: 3 | I4: 2 | J4: 4 | K4: 5 | L4: 3 | M4: 4 | N4: 3 | O4: 3 | P4: 4 | Q4: 2 | R4: 2 | S4: 2
A5: Sections | B5: =IF('Mapping Template'!$J5=1,B$3,0) -> 0 | C5: =IF('Mapping Template'!$J9=1,C$3,0) -> 0 | D5: =IF('Mapping Template'!$J12=1,D$3,0) -> 0 | E5: =IF('Mapping Template'!$J19=1,E$3,0) -> 0 | F5: =IF('Mapping Template'!$J23=1,F$3,0) -> 0 | G5: =IF('Mapping Template'!$J32=1,G$3,0) -> 0 | H5: =IF('Mapping Template'!$J41=1,H$3,0) -> 0 | I5: =IF('Mapping Template'!$J45=1,I$3,0) -> 0 | J5: =IF('Mapping Template'!$J48=1,J$3,0) -> 0 | K5: =IF('Mapping Template'!$J53=1,K$3,0) -> 0 | L5: =IF('Mapping Template'!$J59=1,L$3,0) -> 0 | M5: =IF('Mapping Template'!$J63=1,M$3,0) -> 0 | N5: =IF('Mapping Template'!$J68=1,N$3,0) -> 0 | O5: =IF('Mapping Template'!$J72=1,O$3,0) -> 0 | P5: =IF('Mapping Template'!$J76=1,P$3,0) -> 0 | Q5: =IF('Mapping Template'!$J81=1,Q$3,0) -> 0 | R5: =IF('Mapping Template'!$J84=1,R$3,0) -> 0 | S5: =IF('Mapping Template'!$J87=1,S$3,0) -> 0
B6: =IF('Mapping Template'!$J6=1,B$3,0) -> 0 | C6: =IF('Mapping Template'!$J10=1,C$3,0) -> 0 | D6: =IF('Mapping Template'!$J13=1,D$3,0) -> 0 | E6: =IF('Mapping Template'!$J20=1,E$3,0) -> 0 | F6: =IF('Mapping Template'!$J24=1,F$3,0) -> 0 | G6: =IF('Mapping Template'!$J33=1,G$3,0) -> 0 | H6: =IF('Mapping Template'!$J42=1,H$3,0) -> 0 | I6: =IF('Mapping Template'!$J46=1,I$3,0) -> 0 | J6: =IF('Mapping Template'!$J49=1,J$3,0) -> 0 | K6: =IF('Mapping Template'!$J54=1,K$3,0) -> 0 | L6: =IF('Mapping Template'!$J60=1,L$3,0) -> 0 | M6: =IF('Mapping Template'!$J64=1,M$3,0) -> 0 | N6: =IF('Mapping Template'!$J69=1,N$3,0) -> 0 | O6: =IF('Mapping Template'!$J73=1,O$3,0) -> 0 | P6: =IF('Mapping Template'!$J77=1,P$3,0) -> 0 | Q6: =IF('Mapping Template'!$J82=1,Q$3,0) -> 0 | R6: =IF('Mapping Template'!$J85=1,R$3,0) -> 0 | S6: =IF('Mapping Template'!$J88=1,S$3,0) -> 0
B7: =IF('Mapping Template'!$J7=1,B$3,0) -> 0 | D7: =IF('Mapping Template'!$J14=1,D$3,0) -> 0 | E7: =IF('Mapping Template'!$J21=1,E$3,0) -> 0 | F7: =IF('Mapping Template'!$J25=1,F$3,0) -> 0 | G7: =IF('Mapping Template'!$J34=1,G$3,0) -> 0 | H7: =IF('Mapping Template'!$J43=1,H$3,0) -> 0 | J7: =IF('Mapping Template'!$J50=1,J$3,0) -> 0 | K7: =IF('Mapping Template'!$J55=1,K$3,0) -> 0 | L7: =IF('Mapping Template'!$J61=1,L$3,0) -> 0 | M7: =IF('Mapping Template'!$J65=1,M$3,0) -> 0 | N7: =IF('Mapping Template'!$J70=1,N$3,0) -> 0 | O7: =IF('Mapping Template'!$J74=1,O$3,0) -> 0 | P7: =IF('Mapping Template'!$J78=1,P$3,0) -> 0
D8: =IF('Mapping Template'!$J15=1,D$3,0) -> 0 | F8: =IF('Mapping Template'!$J26=1,F$3,0) -> 0 | G8: =IF('Mapping Template'!$J35=1,G$3,0) -> 0 | J8: =IF('Mapping Template'!$J51=1,J$3,0) -> 0 | K8: =IF('Mapping Template'!$J56=1,K$3,0) -> 0 | M8: =IF('Mapping Template'!$J66=1,M$3,0) -> 0 | P8: =IF('Mapping Template'!$J79=1,P$3,0) -> 0
D9: =IF('Mapping Template'!$J16=1,D$3,0) -> 0 | F9: =IF('Mapping Template'!$J27=1,F$3,0) -> 0 | G9: =IF('Mapping Template'!$J36=1,G$3,0) -> 0 | K9: =IF('Mapping Template'!$J57=1,K$3,0) -> 0
D10: =IF('Mapping Template'!$J17=1,D$3,0) -> 0 | F10: =IF('Mapping Template'!$J28=1,F$3,0) -> 0 | G10: =IF('Mapping Template'!$J37=1,G$3,0) -> 0
F11: =IF('Mapping Template'!$J29=1,F$3,0) -> 0 | G11: =IF('Mapping Template'!$J38=1,G$3,0) -> 0
F12: =IF('Mapping Template'!$J30=1,F$3,0) -> 0 | G12: =IF('Mapping Template'!$J39=1,G$3,0) -> 0
