Workbook

Sheet Guidance
B1: #VALUE!
B2: Health Navigator Mapping Template
B3: Edition: V2.1
B4: Publication date: 20th December 2024
B6: Mapping Guidance - you are here!
B7: Mapping template to reference and evidence where the professional standard is being met by the course/ participant/ qualification
B8: N.B. Examples (e.g.) are given within the LDRs to provide an overview of the knowledge and skills most relevant to the role. It is not mandatory to assess learners against 100% of the examples provided, however, sufficient coverage to ensure occupational competence on achievement must be ensured. This will be reviewed as part of the CIMSPA endorsement process.
B9: For non-regulated qualifications (CPD), where an Education Partner does not meet the full CIMSPA professional standard, it is important to note, that the Education Partner must meet a full Knowledge or Skill LDR. For example, all three sections within K1.1 would need to be evidenced for that LDR to partially map to the professional standard.
B10: For further information around product development guidance, please refer to the professional standard within the professional standard library; https://www.cimspa.co.uk/education-training/professional-standards/professional-standards-library/
B11: Alternatively, please view our CIMPSA Partner Endorsement Guide;https://cimspa.co.uk/education-training/endorsement/
B13: Revision History
B14: Version | C14: Name & Role | D14: Signature & Date | E14: Reason for Change
B15: V2.1 | C15: Aidan Riley Education Officer | D15: AR 18/12/24 | E15: Update to general formatting & implementation of conditional formatting to streamline moderator feedback.
B19: E endorsements@cimspa.co.uk T 03438 360200 W www.cimspa.co.uk
B20: Chartered Institute for the Management of Sport and Physical Activity,
B21: SportPark Loughborough University, 3 Oakwood Drive, Loughborough, Leicestershire LE11 3QF
B22: Incorporated by Royal Charter Charity Registration No. 1144545

Sheet Mapping Template
E1: Education Product Title: INSERT HERE
A2: Professional Standard: Health Navigator Instructor | E2: Partner Mapping Section | J2: Moderator Feedback Section | Q2: IV Feedback Section
A3: Topic | B3: Competency | D3: Learning Outcome(s) | E3: Evidence (sign post to SOW / course specification / supporting documents) | F3: Assessment Method | G3: Further Comments (expand on evidence within column E) | H3: Response to Moderator Feedback Section (second review evidence - if applicable) | J3: Score | K3: Mapping to Point | L3: % Mapped to Section | M3: Moderator comments | N3: General Feedback (first review) | O3: General Feedback (second review - if applicable) | Q3: IV Comments
A4: 1. Care, communication and relationships | B4: Ref | C4: Knowledge and Understanding (K&U): | D4: A Health Navigator must:
B5: K1.1 | C5: Person-centred care | D5: · Understand the concept of inclusive person-centred care[1] to reflect the following aspects, whilst affording respect, dignity and compassion: | K5: =IF((AND(J5=1,J6=1,J8=1,J9=1,J10=1)), "Fully Mapped", "Not/ Partially Mapped") -> Not/ Partially Mapped | L5: =SUM('Workings out'!B5:B20) -> 0
D6: ­ Respecting equality, diversity and client autonomy.
D7: ­ Supporting people to build on their own capabilities.
D8: ­ Focusing on what matters to the individual and their family.
D9: ­ As required, offering coordinated support across multiple episodes, agencies and time.
D10: · Know the professional role of the practitioner in offering advice, information and interventions tailored to the needs and aspirations of the individual.
B11: K1.2 | C11: Effective communication | D11: · Understand the role of effective communication in the promotion of lifestyle messages. | K11: {=IF((AND(J11:J15=1)), "Fully Mapped", "Not/ Partially Mapped")} -> Not/ Partially Mapped
D12: · Know which communication skills best help to support lifestyle change conversations and messages.
D13: · Understand the need to communicate clearly, sensitively and effectively with clients/participants, in verbal and written form, and in a solution focused manner.
D14: · Understand the importance of communicating effectively with a wide range of people from different cultural and demographic backgrounds.
D15: · Know the barriers to communication such as language difficulties, level of knowledge, cultural, religious and personal beliefs and/or values and identify potential solutions.
B16: K1.3 | C16: Professional relationships | D16: · Understand the need to work with other organisations and professionals who have common goals and objectives. | K16: {=IF((AND(J16:J20=1)), "Fully Mapped", "Not/ Partially Mapped")} -> Not/ Partially Mapped
D17: · Know how to effectively build local networks, professional relationships and regularly communicate with stakeholders.
D18: · Know how to deliver support that cuts across boundaries and reaches out to wider agencies within leisure, health, social and voluntary sectors.
D19: · Understand the importance of developing and sustaining professional relationships to benefit clients and their family.
D20: · Know the importance of communicating effectively with a wide range of professionals from different cultural and organisational backgrounds, including health, social and the voluntary sector.
B21: Ref | C21: Skills: | D21: A Health Navigator must be able to:
B22: S1.1 | C22: Person-centred interventions | D22: · Work to collaboratively and accurately determine the needs of a client. | K22: {=IF((AND(J22:J28=1)), "Fully Mapped", "Not/ Partially Mapped")} -> Not/ Partially Mapped | L22: =SUM('Workings out'!C5:C22) -> 0
D23: · Help people to identify and use their preferences, strengths and resources to achieve their own wellbeing goals.
D24: · Adopt a person-centred empathetic approach that takes account of the wider determinants of health and their impact on an individual’s ability to change their behaviour.
D25: · Help people to identify barriers to achievement of goals and assist them to find solutions.
D26: · Contribute to developing plans to meet people’s goals in partnership with the person and their significant others.
D27: · Signpost or refer clients with more complex lifestyle needs to the appropriate teams or services.
D28: · Provide information, support and care, defined by a person’s needs and not simply standardised to stereotypical personal characteristics, condition or diagnosis.
B29: S1.2 | C29: Effective communication | D29: · Display the ability to deliver brief interventions and simple statements of fact about health and healthy lifestyles, effectively signpost and check understanding. | K29: {=IF((AND(J29:J32=1)), "Fully Mapped", "Not/ Partially Mapped")} -> Not/ Partially Mapped
D30: · Demonstrate the use of effective communication skills such as non- verbal communication, active listening, the use of open questions, displaying empathy and the ability to reflect and use summary.
D31: · Deliver conversations that engage with and support people.
D32: · Where appropriate seek to manage higher complexity and risk.
B33: S1.3 | C33: Professional relationships | D33: · Identify the organisations and professionals most relevant to your work, make contact and communicate in ways that are appropriate. | K33: {=IF((AND(J33:J39=1)), "Fully Mapped", "Not/ Partially Mapped")} -> Not/ Partially Mapped
D34: · Emphasise aspects of your work which are most relevant to partner organisation priorities.
D35: · Check and improve the information you hold about partner organisations, their work and the target population(s).
D36: · Keep partner organisations and professionals informed of progress and developments in appropriate formats.
D37: · As necessary seek to solve problems jointly with partners, providing support from your own area of expertise.
D38: · Work with other organisations and professionals to evaluate the impact of working together.
D39: · Develop trust and maintain confidentiality.
A40: 2. Supporting behaviour change | B40: Ref | C40: K&U | D40: A Health Navigator must:
B41: K2.1 | C41: Underpinning knowledge | D41: · Understand the barriers and motivators of those seeking to become more active or make a lifestyle change. | K41: {=IF((AND(J41:J45=1)), "Fully Mapped", "Not/ Partially Mapped")} -> Not/ Partially Mapped | L41: =SUM('Workings out'!D5:D14) -> 0
D42: · Understand the most effective techniques that can be used to support someone change their behaviour both on a one-to-one basis or as part of a group.
D43: · Know relevant behaviour change theories and approaches such as, for example: ­ Health belief model. ­ Self-determination theory. ­ Motivational interviewing. ­ COM-B. ­ Transtheoretical model.
D44: · Understand the use and importance of areas and terms such as: ­ Decisional balance. ­ Sustaining adherence. ­ Relapse prevention. ­ Monitoring progress. ­ SMART goal setting for physical activity. ­ Action planning. ­ Building self-efficacy. ­ Importance and confidence. ­ Monitoring progress. ­ Re-aligning goals. ­ Incentives and rewards.
D45: · Understand how to apply motivational support (including the use of peer support) in a physical activity or related environment.
B46: K2.2 | C46: Intervention style | D46: · Understand the varying purposes, types, duration and content of effective communication conversations ranging from very brief advice through brief intervention to extended brief intervention. | K46: {=IF((AND(J46:J47=1)), "Fully Mapped", "Not/ Partially Mapped")} -> Not/ Partially Mapped
D47: · Understand the evidence for providing 1:1, group and peer behaviour change support and how these can be combined to develop an intervention protocol to meet the needs of those seeking to make lifestyle change around physical activity: e.g. face-to-face versus remote (digital, print and telephone).
B48: K2.3 | C48: Maintaining client contact | D48: · Understand the importance of continuity of contact with the client in terms of motivation and adherence. | K48: {=IF((AND(J48:J50=1)), "Fully Mapped", "Not/ Partially Mapped")} -> Not/ Partially Mapped
D49: · Understand how using a Customer Relationship Management (CRM) system, or similar local arrangements or tools, can support the practitioner and participant to make and manage behaviour change.
D50: · Know how to tailor follow-up motivational support according to tracking information collected and individual needs.
B51: Ref | C51: Skills: | D51: A Health Navigator must be able to:
B52: S2.1 | C52: Theory of behaviour change/underpinning theoretical knowledge | D52: · Identify and apply relevant behaviour change techniques in a person-centred consultation. | K52: {=IF((AND(J52:J54=1)), "Fully Mapped", "Not/ Partially Mapped")} -> Not/ Partially Mapped | L52: =SUM('Workings out'!E5:E11) -> 0
D53: · Use and apply relevant behaviour change theory to design an intervention or action plan (which may include signposting) to meet the personal needs of the client.
D54: · Offer continued support and plan a review to help an individual to stay motivated, manage difficulties or minimise relapse.
B55: S2.2 | C55: Style of intervention | D55: · Where necessary and appropriate conduct assessments in a timely, empathetic and non-judgemental style. | K55: {=IF((AND(J55:J57=1)), "Fully Mapped", "Not/ Partially Mapped")} -> Not/ Partially Mapped
D56: · Competently use person-centred behaviour change techniques incorporating a variety of skills, techniques and types such as motivational interviewing.
D57: · Deliver face-to-face, group, individual and remote behaviour change support using an empathetic and motivational approach.
B58: S2.3 | C58: Maintaining client contact | D58: · Use local tools and tracking arrangements, including a CRM system if available, to keep client records up to date and to manage types and frequency of behaviour change support. | K58: =IF((AND(J58=1)), "Fully Mapped", "Not/ Partially Mapped") -> Not/ Partially Mapped
A59: 3. Health, activity and lifestyle | B59: Ref | C59: K&U | D59: A Health Navigator must:
B60: K3.1 | C60: Health context and inequalities | D60: · Understand the broad definitions for health and health and wellbeing | K60: {=IF((AND(J60:J64=1)), "Fully Mapped", "Not/ Partially Mapped")} -> Not/ Partially Mapped | L60: =SUM('Workings out'!F5:F16) -> 0
D61: · Understand and provide an overview of national policy and guidance for public health and health inequalities including physical activity: e.g. Department of Health and Social Care (DHSC), Public Heath England (PHE), Sport England (SE), NHS England (NHSE), The National Institute for Health Care Excellence (NICE) and the methodologies used to determine levels of activity: e.g. Active Lives, Health Survey for England and the target groups identified.
D62: · Know about the concept of health inequality, the broad principles of national, regional and local variations in health outcomes and the credible sources for this information e.g. PHE Health Profiles, Public Health Outcomes Framework (PHOF) and Joint Strategic Needs Assessment.
D63: · Understand the individual modifiable and non-modifiable risk factors for health and the wider determinants of health (using Dahlgren and Whitehead model) including the impact of social context and relationships and how they can have positive or negative effects on health outcomes.
D64: · Know about levels of physical activity/inactivity and sedentary behaviour through the lens of health inequalities i.e. less active groups including: ­ Older adults. ­ Women. ­ Disabled people. ­ Ethnic minorities. ­ Cultural groups. ­ Lower socio-economic groups.
B65: K3.2 | C65: Definitions, benefits and risks of physical activity/inactivity | D65: · Understand and be able to explain the meaning of and the differences between the following terms: ­ Physical activity/inactivity. ­ Sedentary. ­ Sport. ­ Exercise and fitness, including individual components such as: ○ Muscular strength ○ Muscular endurance. ○ Cardiovascular/aerobic. ○ Flexibility and motor fitness e.g. balance, coordination. | K65: {=IF((AND(J65:J68=1)), "Fully Mapped", "Not/ Partially Mapped")} -> Not/ Partially Mapped
D66: · Understand the broad spectrum of physical activity including activities of daily living, active travel, structured and unstructured/informal sport and exercise.
D67: · Know about the short, medium and long-term benefits of physical activity including physical, psychological and social aspects.
D68: · Know about the benefits and risks of inactivity and sedentary behaviour across a broad range of long term physical and mental health conditions and be familiar with associated health terminology: e.g. cardiovascular disease, diabetes, hypertension, dementia.
B69: K3.3 | C69: Key health and lifestyle messages and guidance | D69: · Understand the Department of Health and Social Care(DHSC) national recommendations for physical activity in adults, older adults and pregnant women. | K69: {=IF((AND(J69:J71=1)), "Fully Mapped", "Not/ Partially Mapped")} -> Not/ Partially Mapped
D70: · Understand the key messages and guidance for the following lifestyle areas: ­ Physical activity. ­ Stopping smoking. ­ Healthy eating. ­ Safe alcohol limits. ­ Weight management. ­ Mental health including the New Economics Foundation’s (NEF) 5 Ways to Wellbeing.
D71: · Know about the most up-to-date, credible national and local sources of evidence-based information and support for lifestyle and behaviour changes including campaigns: e.g. Active 10, C4 Life and One You.
B72: Ref | C72: Skills: | D72: A Health Navigator must be able to:
B73: S3.1 | C73: Targeted and tailored interventions | D73: · Use the understanding of health inequalities to elicit a conversation that identifies the priority issues relevant to the individual and co-devise an action plan that takes these into account. | K73: {=IF((AND(J73:J74=1)), "Fully Mapped", "Not/ Partially Mapped")} -> Not/ Partially Mapped | L73: =SUM('Workings out'!G5:G10) -> 0
D74: · Use information sources including those of key stakeholders, to understand the health needs of a local population and the priority areas and target groups for health and physical activity interventions within a specific locality.
B75: S3.2 | C75: Tailored benefits and risks of increasing physical activity | D75: · Elicit and provide information and advice on physical activity including benefits and risks that are pertinent to an individual. | K75: {=IF((AND(J75:J76=1)), "Fully Mapped", "Not/ Partially Mapped")} -> Not/ Partially Mapped
D76: · Elicit and determine the type(s) of physical activity most appropriate for the individual to ensure that client preference is accommodated and that chances of adherence are maximised.
B77: S3.3 | C77: Tailored health and lifestyle messages and guidance | D77: · Elicit and where appropriate provide current, relevant information pertinent to the individual, their stage of change, health status and priorities. | K77: {=IF((AND(J77:J78=1)), "Fully Mapped", "Not/ Partially Mapped")} -> Not/ Partially Mapped
D78: · Support people to locate and access credible sources of information on healthy lifestyle topics at appropriate time points and in formats: e.g. apps, online, flyers, booklets appropriate to the individual.
A79: 4. Partners, pathways and signposting | B79: Ref | C79: K&U | D79: A Health Navigator must:
B80: K4.1 | C80: Engagement with partners and people | D80: · Understand the principles of asset-based community development and the importance of resources/assets including organisations and people within communities. | K80: {=IF((AND(J80:J83=1)), "Fully Mapped", "Not/ Partially Mapped")} -> Not/ Partially Mapped | L80: =SUM('Workings out'!H5:H12) -> 0
D81: · Know about the credible local agencies/organisations and relevant professionals from health, social and community/voluntary sectors who can support people to become more physically active and/or healthy – what they do and how to make and maintain regular contact including identifying key staff.
D82: · Know the main methods of engaging with individuals and groups within the community in order to promote health including physical activity, provide key messages and signpost to opportunities: e.g. at events, social media, face-to-face and group talks.
D83: · Understand the importance of respecting others, their contribution to the community and fulfil commitments in a timely manner, in order to build successful relationships with both organisations and people.
B84: K4.2 | C84: Local pathways | D84: · Understand the difference between a referral, self-referral, a recommendation and signposting, and the role of the health navigator in relation to each. | K84: {=IF((AND(J84:J86=1)), "Fully Mapped", "Not/ Partially Mapped")} -> Not/ Partially Mapped
D85: · Understand the concept of integrated care pathways, the relevant national and local models that exist e.g. Social Prescribing, Making Every Contact Count and the potential routes into and out of the brief intervention provided.
D86: · Know about other similar roles such as link workers, health champions, health coaches, health trainers or community activators, the similarities and differences between them and which are relevant in a specific locality.
B87: K4.3 | C87: Signposting, resources and records | D87: · Know where to find information on credible local health and physical activity providers and related stakeholders, the methods to and the importance of continually updating knowledge and information that is recorded and stored. | K87: =IF((AND(J87=1)), "Fully Mapped", "Not/ Partially Mapped") -> Not/ Partially Mapped
B88: Ref | C88: Skills: | D88: A Health Navigator must be able to:
B89: S4.1 | C89: Engagement with partners and people | D89: · Identify and make contact with relevant organisations and people in order to build and maintain strong relationships in the community. | K89: {=IF((AND(J89:J91=1)), "Fully Mapped", "Not/ Partially Mapped")} -> Not/ Partially Mapped | L89: =SUM('Workings out'!I5:I13) -> 0
D90: · Identify key people who can provide access and information on health and physical activity opportunities.
D91: · Engage with individuals and groups through a variety of routes in order to promote health and physical activity, key messages and signpost to relevant services.
B92: S4.2 | C92: Local pathways | D92: · Follow agreed local pathways and protocols. | K92: {=IF((AND(J92:J95=1)), "Fully Mapped", "Not/ Partially Mapped")} -> Not/ Partially Mapped
D93: · Undertake an appropriate assessment (see behaviour change section) and use appropriate screening tools.
D94: · Discuss, agree and gain consent with a client for an action plan based on their wants and needs and which includes signposting and facilitating access to appropriate health and physical activity services including those offering the following services: ­ Stopping smoking. ­ Increasing physical activity. ­ Healthy eating. ­ Weight management. ­ Improving mental health. ­ Alcohol and substance misuse. ­ Sexual health advice.
D95: · Know when and how to signpost on, or refer back to, health services where it is deemed beyond competence or professional boundary.
B96: S4.3 | C96: Signposting, resources and records | D96: · Agree with the methods of key contacts from local agencies to maintain up to date and accurate information on services. | K96: {=IF((AND(J96:J97=1)), "Fully Mapped", "Not/ Partially Mapped")} -> Not/ Partially Mapped
D97: · Support the client to determine and access the relevant resources.
A98: 5. Professional Skills | B98: Ref | C98: K&U | D98: A Health Navigator must:
B99: K5.1 | C99: Scope of practice and professional boundaries | D99: · Understand the scope of the role and professional boundaries that apply including the roles and responsibilities of referring professionals, exercise and community delivery partners and other related health practitioners. | K99: {=IF((AND(J99:J101=1)), "Fully Mapped", "Not/ Partially Mapped")} -> Not/ Partially Mapped | L99: =SUM('Workings out'!J5:J16) -> 0
D100: · Know how, when and from whom, to seek advice for potential queries/concerns relating to clients.
...

Sheet Mapping results
B1: Mapping Breakdown shows a breakdown of the percentage that your course has mapped to each sections knowledge and skills criteria, and the overall percentage that your course has mapped to the professional standard
D2: Sections | E2: Specifications | F2: %worth of each section | G2: Total % covered of area | H2: Section % of total standard | I2: % covered of entire standard
B3: 1 | C3: Knowledge | D3: 3 | E3: 16 | F3: =100/E3 -> 6.25 | G3: =SUM('Mapping Template'!L5:L20) -> 0 | H3: =(E3/E13)*100 -> 14.545455 | I3: =(H3/100)*G3 -> 0
C4: Skills | D4: 3 | E4: 18 | F4: =100/E4 -> 5.5555556 | G4: =SUM('Mapping Template'!L22:L39) -> 0 | H4: {=(E4/_xlfn.ANCHORARRAY(E13))*100} -> 16.363636 | I4: =(H4/100)*G4 -> 0
B5: 2 | C5: Knowledge | D5: 3 | E5: 10 | F5: =100/E5 -> 10 | G5: =SUM('Mapping Template'!L41:L50) -> 0 | H5: =(E5/E13)*100 -> 9.0909091 | I5: =(H5/100)*G5 -> 0
C6: Skills | D6: 3 | E6: 7 | F6: =100/E6 -> 14.285714 | G6: =SUM('Mapping Template'!L52:L58) -> 0 | H6: =(E6/E13)*100 -> 6.3636364 | I6: =(H6/100)*G6 -> 0
B7: 3 | C7: Knowledge | D7: 3 | E7: 12 | F7: =100/E7 -> 8.3333333 | G7: =SUM('Mapping Template'!L60:L71) -> 0 | H7: =(E7/E13)*100 -> 10.909091 | I7: =(H7/100)*G7 -> 0
C8: Skills | D8: 3 | E8: 6 | F8: =100/E8 -> 16.666667 | G8: =SUM('Mapping Template'!L73:L78) -> 0 | H8: =(E8/E13)*100 -> 5.4545455 | I8: =(H8/100)*G8 -> 0
B9: 4 | C9: Knowledge | D9: 3 | E9: 8 | F9: =100/E9 -> 12.5 | G9: =SUM('Mapping Template'!L80:L87) -> 0 | H9: =(E9/E13)*100 -> 7.2727273 | I9: =(H9/100)*G9 -> 0
C10: Skills | D10: 3 | E10: 9 | F10: =100/E10 -> 11.111111 | G10: =SUM('Mapping Template'!L89:L97) -> 0 | H10: =(E10/E13)*100 -> 8.1818182 | I10: =(H10/100)*G10 -> 0
B11: 5 | C11: Knowledge | D11: 4 | E11: 12 | F11: =100/E11 -> 8.3333333 | G11: =SUM('Mapping Template'!L99:L110) -> 0 | H11: =(E11/E13)*100 -> 10.909091 | I11: =(H11/100)*G11 -> 0
C12: Skills | D12: 4 | E12: 12 | F12: =100/E12 -> 8.3333333 | G12: =SUM('Mapping Template'!L112:L123) -> 0 | H12: =(E12/E13)*100 -> 10.909091 | I12: =(H12/100)*G12 -> 0
B13: Totals | D13: =SUM(D3:D12) -> 32 | E13: =SUM(E3:E12) -> 110 | H13: =SUM(H3:H12) -> 100 | I13: =SUM(I3:I12) -> 0

Sheet Feedback
A1: Standardised feedback comments | B1: Assessment methods
A2: Comprehensive evidence | B2: Assignment
A3: Sufficient evidence | B3: Case study
A4: Further evidence required | B4: Dissertation
B5: Exam
B6: Written test
B7: Listening test
B8: Oral test
B9: Performance/ practical
B10: Portfolio
B11: Professional discussion
B12: Project
B13: Simulation
B14: Online test
B15: Attendence only
B16: Multiple
B17: Other

Sheet Workings out
A1: Calculating the totally percentage of knowledge/ skill covered in each section
B2: K1 | C2: S1 | D2: K2 | E2: S2 | F2: K3 | G2: S3 | H2: K4 | I2: S4 | J2: K5 | K2: S5
A3: % value | B3: 6.25 | C3: 5.5555556 | D3: 10 | E3: 14.285714 | F3: 8.3333333 | G3: 16.666667 | H3: 12.5 | I3: 11.111111 | J3: 8.3333333 | K3: 8.3333333
A4: # spec | B4: 16 | C4: 18 | D4: 10 | E4: 7 | F4: 12 | G4: 6 | H4: 8 | I4: 9 | J4: 12 | K4: 12
A5: Sections | B5: =IF('Mapping Template'!$J5=1,B$3,0) -> 0 | C5: =IF('Mapping Template'!$J22=1,C$3,0) -> 0 | D5: =IF('Mapping Template'!$J41=1,D$3,0) -> 0 | E5: =IF('Mapping Template'!$J52=1,E$3,0) -> 0 | F5: =IF('Mapping Template'!$J60=1,F$3,0) -> 0 | G5: =IF('Mapping Template'!$J73=1,G$3,0) -> 0 | H5: =IF('Mapping Template'!$J80=1,H$3,0) -> 0 | I5: =IF('Mapping Template'!$J89=1,I$3,0) -> 0 | J5: =IF('Mapping Template'!$J99=1,J$3,0) -> 0 | K5: =IF('Mapping Template'!$J112=1,K$3,0) -> 0
B6: =IF('Mapping Template'!$J6=1,B$3,0) -> 0 | C6: =IF('Mapping Template'!$J23=1,C$3,0) -> 0 | D6: =IF('Mapping Template'!$J42=1,D$3,0) -> 0 | E6: =IF('Mapping Template'!$J53=1,E$3,0) -> 0 | F6: =IF('Mapping Template'!$J61=1,F$3,0) -> 0 | G6: =IF('Mapping Template'!$J74=1,G$3,0) -> 0 | H6: =IF('Mapping Template'!$J81=1,H$3,0) -> 0 | I6: =IF('Mapping Template'!$J90=1,I$3,0) -> 0 | J6: =IF('Mapping Template'!$J100=1,J$3,0) -> 0 | K6: =IF('Mapping Template'!$J113=1,K$3,0) -> 0
B7: =IF('Mapping Template'!$J7=1,B$3,0) -> 0 | C7: =IF('Mapping Template'!$J24=1,C$3,0) -> 0 | D7: =IF('Mapping Template'!$J43=1,D$3,0) -> 0 | E7: =IF('Mapping Template'!$J54=1,E$3,0) -> 0 | F7: =IF('Mapping Template'!$J62=1,F$3,0) -> 0 | G7: =IF('Mapping Template'!$J75=1,G$3,0) -> 0 | H7: =IF('Mapping Template'!$J82=1,H$3,0) -> 0 | I7: =IF('Mapping Template'!$J91=1,I$3,0) -> 0 | J7: =IF('Mapping Template'!$J101=1,J$3,0) -> 0 | K7: =IF('Mapping Template'!$J114=1,K$3,0) -> 0
B8: =IF('Mapping Template'!$J8=1,B$3,0) -> 0 | C8: =IF('Mapping Template'!$J25=1,C$3,0) -> 0 | D8: =IF('Mapping Template'!$J44=1,D$3,0) -> 0 | E8: =IF('Mapping Template'!$J55=1,E$3,0) -> 0 | F8: =IF('Mapping Template'!$J63=1,F$3,0) -> 0 | G8: =IF('Mapping Template'!$J76=1,G$3,0) -> 0 | H8: =IF('Mapping Template'!$J83=1,H$3,0) -> 0 | I8: =IF('Mapping Template'!$J92=1,I$3,0) -> 0 | J8: =IF('Mapping Template'!$J102=1,J$3,0) -> 0 | K8: =IF('Mapping Template'!$J115=1,K$3,0) -> 0
B9: =IF('Mapping Template'!$J9=1,B$3,0) -> 0 | C9: =IF('Mapping Template'!$J26=1,C$3,0) -> 0 | D9: =IF('Mapping Template'!$J45=1,D$3,0) -> 0 | E9: =IF('Mapping Template'!$J56=1,E$3,0) -> 0 | F9: =IF('Mapping Template'!$J64=1,F$3,0) -> 0 | G9: =IF('Mapping Template'!$J77=1,G$3,0) -> 0 | H9: =IF('Mapping Template'!$J84=1,H$3,0) -> 0 | I9: =IF('Mapping Template'!$J93=1,I$3,0) -> 0 | J9: =IF('Mapping Template'!$J103=1,J$3,0) -> 0 | K9: =IF('Mapping Template'!$J116=1,K$3,0) -> 0
B10: =IF('Mapping Template'!$J10=1,B$3,0) -> 0 | C10: =IF('Mapping Template'!$J27=1,C$3,0) -> 0 | D10: =IF('Mapping Template'!$J46=1,D$3,0) -> 0 | E10: =IF('Mapping Template'!$J57=1,E$3,0) -> 0 | F10: =IF('Mapping Template'!$J65=1,F$3,0) -> 0 | G10: =IF('Mapping Template'!$J78=1,G$3,0) -> 0 | H10: =IF('Mapping Template'!$J85=1,H$3,0) -> 0 | I10: =IF('Mapping Template'!$J94=1,I$3,0) -> 0 | J10: =IF('Mapping Template'!$J104=1,J$3,0) -> 0 | K10: =IF('Mapping Template'!$J117=1,K$3,0) -> 0
B11: =IF('Mapping Template'!$J11=1,B$3,0) -> 0 | C11: =IF('Mapping Template'!$J28=1,C$3,0) -> 0 | D11: =IF('Mapping Template'!$J47=1,D$3,0) -> 0 | E11: =IF('Mapping Template'!$J58=1,E$3,0) -> 0 | F11: =IF('Mapping Template'!$J66=1,F$3,0) -> 0 | H11: =IF('Mapping Template'!$J86=1,H$3,0) -> 0 | I11: =IF('Mapping Template'!$J95=1,I$3,0) -> 0 | J11: =IF('Mapping Template'!$J105=1,J$3,0) -> 0 | K11: =IF('Mapping Template'!$J118=1,K$3,0) -> 0
B12: =IF('Mapping Template'!$J12=1,B$3,0) -> 0 | C12: =IF('Mapping Template'!$J29=1,C$3,0) -> 0 | D12: =IF('Mapping Template'!$J48=1,D$3,0) -> 0 | F12: =IF('Mapping Template'!$J67=1,F$3,0) -> 0 | H12: =IF('Mapping Template'!$J87=1,H$3,0) -> 0 | I12: =IF('Mapping Template'!$J96=1,I$3,0) -> 0 | J12: =IF('Mapping Template'!$J106=1,J$3,0) -> 0 | K12: =IF('Mapping Template'!$J119=1,K$3,0) -> 0
B13: =IF('Mapping Template'!$J13=1,B$3,0) -> 0 | C13: =IF('Mapping Template'!$J30=1,C$3,0) -> 0 | D13: =IF('Mapping Template'!$J49=1,D$3,0) -> 0 | F13: =IF('Mapping Template'!$J68=1,F$3,0) -> 0 | I13: =IF('Mapping Template'!$J97=1,I$3,0) -> 0 | J13: =IF('Mapping Template'!$J107=1,J$3,0) -> 0 | K13: =IF('Mapping Template'!$J120=1,K$3,0) -> 0
B14: =IF('Mapping Template'!$J14=1,B$3,0) -> 0 | C14: =IF('Mapping Template'!$J31=1,C$3,0) -> 0 | D14: =IF('Mapping Template'!$J50=1,D$3,0) -> 0 | F14: =IF('Mapping Template'!$J69=1,F$3,0) -> 0 | J14: =IF('Mapping Template'!$J108=1,J$3,0) -> 0 | K14: =IF('Mapping Template'!$J121=1,K$3,0) -> 0
B15: =IF('Mapping Template'!$J15=1,B$3,0) -> 0 | C15: =IF('Mapping Template'!$J32=1,C$3,0) -> 0 | F15: =IF('Mapping Template'!$J70=1,F$3,0) -> 0 | J15: =IF('Mapping Template'!$J109=1,J$3,0) -> 0 | K15: =IF('Mapping Template'!$J122=1,K$3,0) -> 0
B16: =IF('Mapping Template'!$J16=1,B$3,0) -> 0 | C16: =IF('Mapping Template'!$J33=1,C$3,0) -> 0 | F16: =IF('Mapping Template'!$J71=1,F$3,0) -> 0 | J16: =IF('Mapping Template'!$J110=1,J$3,0) -> 0 | K16: =IF('Mapping Template'!$J123=1,K$3,0) -> 0
B17: =IF('Mapping Template'!$J17=1,B$3,0) -> 0 | C17: =IF('Mapping Template'!$J34=1,C$3,0) -> 0
B18: =IF('Mapping Template'!$J18=1,B$3,0) -> 0 | C18: =IF('Mapping Template'!$J35=1,C$3,0) -> 0
B19: =IF('Mapping Template'!$J19=1,B$3,0) -> 0 | C19: =IF('Mapping Template'!$J36=1,C$3,0) -> 0
B20: =IF('Mapping Template'!$J20=1,B$3,0) -> 0 | C20: =IF('Mapping Template'!$J37=1,C$3,0) -> 0
C21: =IF('Mapping Template'!$J38=1,C$3,0) -> 0
C22: =IF('Mapping Template'!$J39=1,C$3,0) -> 0
