Workbook

Sheet Guidance
B1: #VALUE!
B2: Working inclusively- working with people with mental health conditions Mapping Template
B3: Edition: V1.0
B4: Publication date: June 2025
B6: Mapping Guidance - you are here!
B7: Mapping template to reference and evidence where the professional standard is being met by the course/ participant/ qualification
B8: N.B. Examples (e.g.) are given within the LDRs to provide an overview of the knowledge and skills most relevant to the role. It is not mandatory to assess learners against 100% of the examples provided, however, sufficient coverage to ensure occupational competence on achievement must be ensured. This will be reviewed as part of the CIMSPA endorsement process.
B9: For non-regulated qualifications (CPD), where an Education Partner does not meet the full CIMSPA professional standard, it is important to note, that the Education Partner must meet a full Knowledge or Skill LDR. For example, all three sections within K1.1 would need to evidenced for that LDR to partially map to the professional standard.
B10: For further information around product development guidance, please refer to the professional standard within the professional standard library; https://www.cimspa.co.uk/education-training/professional-standards/professional-standards-library/
B11: Alternatively, please view our CIMPSA Partner Endorsement Guide;https://cimspa.co.uk/education-training/endorsement/
B13: Revision History
B14: Version | C14: Name & Role | D14: Signature & Date | E14: Reason for Change
A15: c
B19: E endorsements@cimspa.co.uk T 03438 360200 W www.cimspa.co.uk
B20: Chartered Institute for the Management of Sport and Physical Activity,
B21: SportPark Loughborough University, 3 Oakwood Drive, Loughborough, Leicestershire LE11 3QF
B22: Incorporated by Royal Charter Charity Registration No. 1144545

Sheet Mapping Template
E1: Education Product Title: INSERT HERE
A2: Professional Standard: Working inclusively- working with people with mental health conditions | E2: Partner Mapping Section | J2: Moderator Feedback Section
A3: Topic | B3: Competency | D3: Learning Outcome(s) | E3: Evidence (sign post to course overview / course specification / supporting documents) | F3: Assessment Method (please ensure assessment resources are provided) | G3: Further Comments (expand on evidence within column E / F) | H3: Response to Moderator Feedback Section (second review evidence - if applicable) | J3: Score | K3: Mapping to Point | L3: % Mapped to Section | M3: Moderator comments | N3: General Feedback (first review) | O3: General Feedback (second review - if applicable)
B4: Ref | C4: Knowledge & Understanding: | D4: Those working with people with mental health conditions must:
A5: 1. Understanding mental health | B5: K1.1 | C5: An awareness of mental health | D5: • Be able to explain and differentiate mental health, mental conditions, and wellbeing. | K5: {=IF((AND(J5:J11=1)), "Fully Mapped", "Not/ Partially Mapped")} -> Not/ Partially Mapped | L5: =SUM('Workings out'!B5:B18) -> 0
D6: • Explain the importance of maintaining a positive attitude towards all three.
D7: • Demonstrate an understanding of the mental health continuum, ranging from good to poor mental health.
D8: • Describe the biological, psychological, social, and environmental factors that impact mental health.
D9: • Demonstrate an understanding of the prevalence of a range of mental health conditions (e.g. depression, anxiety) including less commonly understood mental health conditions (e.g. bipolar disorder, post-traumatic stress disorder and schizophrenia etc.).
D10: • Explain how comorbidities and intersectionality impact both mental health, sport and physical activity. This may include: - addiction - bereavement by suicide or risks associated to suicide - disability - ethnically diverse communities - gender – including men’s mental health, menopause and identity issues - LGBTQIA+ - long-term health conditions (e.g. arthritis, cancer, diabetes, heart disease) - neurodiversity - poverty - race - social and health inequalities - other forms of discrimination including racism
D11: • Describe how trauma impacts individuals and their engagement in physical activity and experience of mental health.
B12: K1.2 | C12: Recognising when someone might need further mental health support | D12: • Describe when someone might need to be signposted to appropriate support services for their mental health needs. | K12: {=IF((AND(J12:J13=1)), "Fully Mapped", "Not/ Partially Mapped")} -> Not/ Partially Mapped
D13: • Identify strategies for suicide prevention and the steps to support people to stay safe in the moment.
B14: K1.3 | C14: Commitment to ongoing continuous professional development | D14: • Explain the importance of staying current with mental health knowledge and actively seeking continuous professional development opportunities to enhance understanding. | K14: {=IF((AND(J14:J15=1)), "Fully Mapped", "Not/ Partially Mapped")} -> Not/ Partially Mapped
D15: • Identify how to work within the boundaries of own professional knowledge and competence in line with their scope of practice.
B16: K1.4 | C16: Appropriately qualified workforce | D16: • Identify appropriate training and professional development needed to support participants with mental health conditions. | K16: {=IF((AND(J16:J18=1)), "Fully Mapped", "Not/ Partially Mapped")} -> Not/ Partially Mapped
D17: • Explain why an appropriately qualified workforce is essential for supporting participants with mental health conditions.
D18: • Discuss how an appropriately qualified workforce can be recruited, retained, and supported when working with participants with mental health conditions.
B19: Ref | C19: Skills: | D19: Those working with people with mental health conditions must be able to:
B20: S1.1 | C20: Recognising when someone might need further mental health support | D20: • Demonstrate how to recgonise when someone might need further mental help support. To include: - Identifying the signs for when someone might need further support for their mental health, including mental health crisis support. - Starting a conversation with someone experiencing challenges with their mental health. - Signposting someone needing mental health support to appropriate mental health services, including social prescribing activities | K20: {=IF((AND(J20:J22=1)), "Fully Mapped", "Not/ Partially Mapped")} -> Not/ Partially Mapped | L20: =SUM('Workings out'!C5:C8) -> 0
D21: • Assess when it might be appropriate to refer someone to appropriate support for their mental health.
D22: • Recognise when it might be appropriate to refer someone to appropriate suicide prevention support.
B23: S1.2 | C23: Commitment to ongoing continuous professional development | D23: • Demonstrate commitment to ongoing Continuous Professional Development (CPD) and continuous improvement of the physical activity service for people with mental health conditions. | K23: =IF((AND(J23=1)), "Fully Mapped", "Not/ Partially Mapped") -> Not/ Partially Mapped
A24: 2. Understanding mental health systems (local variants to be acknowledged) | B24: Ref | C24: Knowledge & Understanding: | D24: Those working with people with mental health conditions must:
B25: K2.1 | C25: An understanding of the mental health systems | D25: • Describe the health system/mental health system and processes. To include: - self-help/management - primary care - secondary care services - suicide prevention and crisis services | K25: {=IF((AND(J25:J27=1)), "Fully Mapped", "Not/ Partially Mapped")} -> Not/ Partially Mapped | L25: =SUM('Workings out'!D5:D10) -> 0
D26: • Explain the impact of the waiting times for mental health treatment and identify how physical activity can support people while they wait.
D27: • Identify a range of partners locally to refer into and onwards from physical activity programmes.
B28: K2.2 | C28: Cross-sector working | D28: • Identify the opportunities and challenges of working across sectors to deliver physical activity for participants with mental health conditions. | K28: {=IF((AND(J28:J30=1)), "Fully Mapped", "Not/ Partially Mapped")} -> Not/ Partially Mapped
D29: • Identify relevant opportunities to work locally with other professionals to deliver physical activity opportunities for people with mental health conditions.
D30: • Identify relevant opportunities to work locally with other professionals to help prevent suicide through physical activity programmes.
A31: 3. Support for oneself and others, and signposting to professional mental health services | B31: Ref | C31: Knowledge & Understanding: | D31: Those working with people with mental health conditions must:
B32: K3.1 | C32: Ability to support people with mental health conditions during the activity or session | D32: • Describe the specific mental health support needs of participants both through asking and working with the participant directly and liaising with the referring agency. | K32: =IF((AND(J32=1)), "Fully Mapped", "Not/ Partially Mapped") -> Not/ Partially Mapped | L32: =SUM('Workings out'!E5:E21) -> 0
B33: K3.2 | C33: Signposting | D33: • Identify who to signpost people to professional mental health support. | K33: {=IF((AND(J33:J35=1)), "Fully Mapped", "Not/ Partially Mapped")} -> Not/ Partially Mapped
D34: • Identify where to signpost people to professional mental health support.
D35: • Explain the referral process and have experience of working with referred participants to provide adequate support.
B36: K3.3 | C36: Confidentiality | D36: • Explain when and how to break confidentiality working within your organisation's safeguarding policy, and why that might be needed. | K36: {=IF((AND(J36:J37=1)), "Fully Mapped", "Not/ Partially Mapped")} -> Not/ Partially Mapped
D37: • Explain when, how and why you would advise a participant of the need to break their confidentiality.
B38: K3.4 | C38: Safety | D38: • Explain the importance of pre-screening and working with participants and referral agencies. | K38: {=IF((AND(J38:J41=1)), "Fully Mapped", "Not/ Partially Mapped")} -> Not/ Partially Mapped
D39: • Explain the importance of risk assessments, identifying when 1:1 risk assessment may be required.
D40: • Explain how to work with participants in a person-centred way.
...

Sheet Mapping results
B1: Mapping Breakdown shows a breakdown of the percentage that your course has mapped to each sections knowledge and skills criteria, and the overall percentage that your course has mapped to the professional standard
D2: Sections | E2: Specifications | F2: %worth of each section | G2: Total % covered of area | H2: Section % of total standard | I2: % covered of entire standard
B3: 1 | C3: Knowledge | D3: 4 | E3: 14 | F3: =100/E3 -> 7.1428571 | G3: =SUM('Mapping Template'!L5:L18) -> 0 | H3: =(E3/E12)*100 -> 19.178082 | I3: =(H3/100)*G3 -> 0
C4: Skills | D4: 2 | E4: 6 | F4: =100/E4 -> 16.666667 | G4: =SUM('Mapping Template'!L20:L23) -> 0 | H4: =(E4/E12)*100 -> 8.2191781 | I4: =(H4/100)*G4 -> 0
B5: 2 | C5: Knowledge | D5: 2 | E5: 6 | F5: =100/E5 -> 16.666667 | G5: =SUM('Mapping Template'!L25:L30) -> 0 | H5: =(E5/E12)*100 -> 8.2191781 | I5: =(H5/100)*G5 -> 0
B6: 3 | C6: Knowledge | D6: 7 | E6: 18 | F6: =100/E6 -> 5.5555556 | G6: =SUM('Mapping Template'!L32:L48) -> 0 | H6: =(E6/E12)*100 -> 24.657534 | I6: =(H6/100)*G6 -> 0
C7: Skills | D7: 1 | E7: 3 | F7: =100/E7 -> 33.333333 | G7: =SUM('Mapping Template'!L50:L53) -> 0 | H7: =(E7/E12)*100 -> 4.109589 | I7: =(H7/100)*G7 -> 0
B8: 4 | C8: Knowledge | D8: 3 | E8: 8 | F8: =100/E8 -> 12.5 | G8: =SUM('Mapping Template'!L55:L62) -> 0 | H8: =(E8/E12)*100 -> 10.958904 | I8: =(H8/100)*G8 -> 0
B9: 5 | C9: Knowledge | D9: 3 | E9: 6 | F9: =100/E9 -> 16.666667 | G9: =SUM('Mapping Template'!L64:L69) -> 0 | H9: =(E9/E12)*100 -> 8.2191781 | I9: =(H9/100)*G9 -> 0
B10: 6 | C10: Knowledge | D10: 4 | E10: 8 | F10: =100/E10 -> 12.5 | G10: =SUM('Mapping Template'!L71:L76) -> 0 | H10: =(E10/E12)*100 -> 10.958904 | I10: =(H10/100)*G10 -> 0
C11: Skills | D11: 1 | E11: 4 | F11: =100/E11 -> 25 | G11: =SUM('Mapping Template'!L78:L81) -> 0 | H11: =(E11/E12)*100 -> 5.4794521 | I11: =(H11/100)*G11 -> 0
B12: Totals | D12: =SUM(D3:D11) -> 27 | E12: =SUM(E3:E11) -> 73 | H12: =SUM(H3:H11) -> 100 | I12: =SUM(I3:I11) -> 0

Sheet Feedback
A1: Standardised feedback comments | B1: Assessment methods
A2: Comprehensive evidence | B2: Multiple
A3: Sufficient evidence | B3: Case study
A4: Further evidence required | B4: Dissertation
B5: Exam
B6: Written test
B7: Listening test
B8: Oral test
B9: Performance/ practical
B10: Portfolio
B11: Professional discussion
B12: Project
B13: Simulation
B14: Online test
B15: Attendence only
B16: Assignment
B17: Other

Sheet Workings out
A1: Calculating the totally percentage of knowledge/ skill covered in each section
B2: K1 | C2: S1 | D2: K2 | E2: K3 | F2: S3 | G2: K4 | H2: K5 | I2: K6 | J2: S6
A3: % value | B3: =100/B4 -> 7.1428571 | C3: =100/C4 -> 25 | D3: =100/D4 -> 16.666667 | E3: =100/E4 -> 5.8823529 | F3: =100/F4 -> 25 | G3: =100/G4 -> 12.5 | H3: =100/H4 -> 16.666667 | I3: =100/I4 -> 16.666667 | J3: =100/J4 -> 14.285714
A4: # spec | B4: 14 | C4: 4 | D4: 6 | E4: 17 | F4: 4 | G4: 8 | H4: 6 | I4: 6 | J4: 7
A5: Sections | B5: =IF('Mapping Template'!$J5=1,B$3,0) -> 0 | C5: =IF('Mapping Template'!$J20=1,C$3,0) -> 0 | D5: =IF('Mapping Template'!$J25=1,D$3,0) -> 0 | E5: =IF('Mapping Template'!$J32=1,E$3,0) -> 0 | F5: =IF('Mapping Template'!$J50=1,F$3,0) -> 0 | G5: =IF('Mapping Template'!$J55=1,G$3,0) -> 0 | H5: =IF('Mapping Template'!$J64=1,H$3,0) -> 0 | I5: =IF('Mapping Template'!$J71=1,I$3,0) -> 0 | J5: =IF('Mapping Template'!$J78=1,J$3,0) -> 0
B6: =IF('Mapping Template'!$J6=1,B$3,0) -> 0 | C6: =IF('Mapping Template'!$J21=1,C$3,0) -> 0 | D6: =IF('Mapping Template'!$J26=1,D$3,0) -> 0 | E6: =IF('Mapping Template'!$J33=1,E$3,0) -> 0 | F6: =IF('Mapping Template'!$J51=1,F$3,0) -> 0 | G6: =IF('Mapping Template'!$J56=1,G$3,0) -> 0 | H6: =IF('Mapping Template'!$J65=1,H$3,0) -> 0 | I6: =IF('Mapping Template'!$J72=1,I$3,0) -> 0 | J6: =IF('Mapping Template'!$J79=1,J$3,0) -> 0
B7: =IF('Mapping Template'!$J7=1,B$3,0) -> 0 | C7: =IF('Mapping Template'!$J22=1,C$3,0) -> 0 | D7: =IF('Mapping Template'!$J27=1,D$3,0) -> 0 | E7: =IF('Mapping Template'!$J34=1,E$3,0) -> 0 | F7: =IF('Mapping Template'!$J52=1,F$3,0) -> 0 | G7: =IF('Mapping Template'!$J57=1,G$3,0) -> 0 | H7: =IF('Mapping Template'!$J66=1,H$3,0) -> 0 | I7: =IF('Mapping Template'!$J73=1,I$3,0) -> 0 | J7: =IF('Mapping Template'!$J80=1,J$3,0) -> 0
B8: =IF('Mapping Template'!$J8=1,B$3,0) -> 0 | C8: =IF('Mapping Template'!$J23=1,C$3,0) -> 0 | D8: =IF('Mapping Template'!$J28=1,D$3,0) -> 0 | E8: =IF('Mapping Template'!$J35=1,E$3,0) -> 0 | F8: =IF('Mapping Template'!$J53=1,F$3,0) -> 0 | G8: =IF('Mapping Template'!$J58=1,G$3,0) -> 0 | H8: =IF('Mapping Template'!$J67=1,H$3,0) -> 0 | I8: =IF('Mapping Template'!$J74=1,I$3,0) -> 0 | J8: =IF('Mapping Template'!$J81=1,J$3,0) -> 0
B9: =IF('Mapping Template'!$J9=1,B$3,0) -> 0 | D9: =IF('Mapping Template'!$J29=1,D$3,0) -> 0 | E9: =IF('Mapping Template'!$J36=1,E$3,0) -> 0 | G9: =IF('Mapping Template'!$J59=1,G$3,0) -> 0 | H9: =IF('Mapping Template'!$J68=1,H$3,0) -> 0 | I9: =IF('Mapping Template'!$J75=1,I$3,0) -> 0 | J9: =IF('Mapping Template'!$J82=1,J$3,0) -> 0
B10: =IF('Mapping Template'!$J10=1,B$3,0) -> 0 | D10: =IF('Mapping Template'!$J30=1,D$3,0) -> 0 | E10: =IF('Mapping Template'!$J37=1,E$3,0) -> 0 | G10: =IF('Mapping Template'!$J60=1,G$3,0) -> 0 | H10: =IF('Mapping Template'!$J69=1,H$3,0) -> 0 | I10: =IF('Mapping Template'!$J76=1,I$3,0) -> 0 | J10: =IF('Mapping Template'!$J83=1,J$3,0) -> 0
B11: =IF('Mapping Template'!$J11=1,B$3,0) -> 0 | E11: =IF('Mapping Template'!$J38=1,E$3,0) -> 0 | G11: =IF('Mapping Template'!$J61=1,G$3,0) -> 0 | J11: =IF('Mapping Template'!$J84=1,J$3,0) -> 0
B12: =IF('Mapping Template'!$J12=1,B$3,0) -> 0 | E12: =IF('Mapping Template'!$J39=1,E$3,0) -> 0 | G12: =IF('Mapping Template'!$J62=1,G$3,0) -> 0
B13: =IF('Mapping Template'!$J13=1,B$3,0) -> 0 | E13: =IF('Mapping Template'!$J40=1,E$3,0) -> 0
B14: =IF('Mapping Template'!$J14=1,B$3,0) -> 0 | E14: =IF('Mapping Template'!$J41=1,E$3,0) -> 0
B15: =IF('Mapping Template'!$J15=1,B$3,0) -> 0 | E15: =IF('Mapping Template'!$J42=1,E$3,0) -> 0
B16: =IF('Mapping Template'!$J16=1,B$3,0) -> 0 | E16: =IF('Mapping Template'!$J43=1,E$3,0) -> 0
B17: =IF('Mapping Template'!$J17=1,B$3,0) -> 0 | E17: =IF('Mapping Template'!$J44=1,E$3,0) -> 0
B18: =IF('Mapping Template'!$J18=1,B$3,0) -> 0 | E18: =IF('Mapping Template'!$J45=1,E$3,0) -> 0
E19: =IF('Mapping Template'!$J46=1,E$3,0) -> 0
E20: =IF('Mapping Template'!$J47=1,E$3,0) -> 0
E21: =IF('Mapping Template'!$J48=1,E$3,0) -> 0
